BEGIN:VCALENDAR
VERSION:2.0
PRODID:-//Villa de Mazo - ECPv6.15.20//NONSGML v1.0//EN
CALSCALE:GREGORIAN
METHOD:PUBLISH
X-WR-CALNAME:Villa de Mazo
X-ORIGINAL-URL:https://villademazo.com
X-WR-CALDESC:Eventos para Villa de Mazo
REFRESH-INTERVAL;VALUE=DURATION:PT1H
X-Robots-Tag:noindex
X-PUBLISHED-TTL:PT1H
BEGIN:VTIMEZONE
TZID:UTC
BEGIN:STANDARD
TZOFFSETFROM:+0000
TZOFFSETTO:+0000
TZNAME:UTC
DTSTART:20250101T000000
END:STANDARD
END:VTIMEZONE
BEGIN:VEVENT
DTSTART;TZID=UTC:20260306T160000
DTEND;TZID=UTC:20260424T190000
DTSTAMP:20260422T103029
CREATED:20260226T104118Z
LAST-MODIFIED:20260226T105040Z
UID:16121-1772812800-1777057200@villademazo.com
SUMMARY:Curso de Muñequería
DESCRIPTION:Si te encanta la artesanía y quieres aprender a crear muñecas artesanales únicas hechas a mano\, ¡ésta es tu oportunidad! \nImparte la artesana Maira Riverol Cabello. \nDel 6 de marzo al 24 de abril\nTodos los viernes\, de 16:00 a 19:00 h\nAula de Artesanía (Mercadillo Municipal) \n\nInscripción prioritaria para empadronad@s en el municipio. \nINSCRIPCIONES  E INFORMACIÓN: \nARTESANÍA\nTeléfono: 922 440 003 (Ext. 205)\nCorreo electrónico: artesania@villademazo.es \nPlazas LIMITADAS \nGRATUITO \n¡Ven a dar vida a tus propias creaciones y disfruta del arte de la muñequería en un ambiente creativo y cercano!
URL:https://villademazo.com/eventos/curso-de-munequeria-2/
LOCATION:Parte alta Mercadillo Municipal\, Carretera Doctor Morera Bravo\, Villa de Mazo\, Santa Cruz de Tenerife\, 38730\, Spain
CATEGORIES:Artesanía,Formación
ATTACH;FMTTYPE=image/jpeg:https://villademazo.com/wp-content/uploads/2026/02/munequeria.jpg
ORGANIZER;CN="Ayuntamiento Villa de Mazo - Artesan%C3%ADa":MAILTO:artesania@villademazo.es
END:VEVENT
BEGIN:VEVENT
DTSTART;TZID=UTC:20260409T160000
DTEND;TZID=UTC:20260427T200000
DTSTAMP:20260422T103029
CREATED:20260406T100226Z
LAST-MODIFIED:20260406T100631Z
UID:16390-1775750400-1777320000@villademazo.com
SUMMARY:Curso de Pintura en Tela
DESCRIPTION:🎨✨ ¡Dale color a tu creatividad! \n🖌️🫟CURSO DE PINTURA EN TELA\, una oportunidad perfecta para aprender\, disfrutar y desarrollar tu lado artístico. \n🗓 Del 9 al 27 de abril\n📅 Lunes y jueves\n⏰ De 16:00 a 20:00 h\n📍 Aula de Artesanía – Mercadillo Municipal\n👩‍🎨 Organiza e imparte la artesana Silvia Abrante Concepción. \n📌 Prioridad 👥 empadronad@s en el municipio. \n🔸Plazas LIMITADAS\n🔸GRATUITO \n✍🏼INSCRIPCIONES ➕INFORMACIÓN:\nARTESANÍA\n☎️ 922 440 003 (Ext. 205)\n📧 artesania@villademazo.es
URL:https://villademazo.com/eventos/curso-de-pintura-en-tela-8/
LOCATION:Parte alta Mercadillo Municipal\, Carretera Doctor Morera Bravo\, Villa de Mazo\, Santa Cruz de Tenerife\, 38730\, Spain
CATEGORIES:Artesanía,Formación
ATTACH;FMTTYPE=image/jpeg:https://villademazo.com/wp-content/uploads/2026/04/pintura-tela.jpg
ORGANIZER;CN="Ayuntamiento Villa de Mazo - Artesan%C3%ADa":MAILTO:artesania@villademazo.es
END:VEVENT
BEGIN:VEVENT
DTSTART;TZID=UTC:20260420T100000
DTEND;TZID=UTC:20260425T140000
DTSTAMP:20260422T103029
CREATED:20260414T063846Z
LAST-MODIFIED:20260414T063846Z
UID:16426-1776679200-1777125600@villademazo.com
SUMMARY:Exposición: IV Cinturón Ciclista Este Isla Bonita
DESCRIPTION:En el marco del IV Cinturón Ciclista Este Isla Bonita 2026\, te invitamos a un viaje nostálgico por la “auténtica fiesta del ciclismo de carretera”. Villa de Mazo acoge una exposición única que rinde homenaje a la pasión sobre dos ruedas. \n\n¿Qué verás? Una impresionante exposición fotográfica\, maillots icónicos y una colección de bicicletas del pasado que te transportarán a otras épocas del pedal.\n¿Cuándo? Del 20 al 25 de abril.\nHorario: De 10:00h a 14:00h.\n¿Dónde? Museo Casa Roja\, Villa de Mazo.\n\n¡No te pierdas esta oportunidad de ver de cerca la evolución de nuestro deporte favorito!
URL:https://villademazo.com/eventos/exposicion-iv-cinturon-ciclista-este-isla-bonita/
LOCATION:Museo Casa Roja\, C. Maximiliano Pérez Díaz\, 23\, Villa de Mazo\, Santa Cruz de Tenerife\, 38730\, España
CATEGORIES:Exposición
ATTACH;FMTTYPE=image/jpeg:https://villademazo.com/wp-content/uploads/2026/04/cinturon-ciclista.jpg
END:VEVENT
BEGIN:VEVENT
DTSTART;TZID=UTC:20260420T160000
DTEND;TZID=UTC:20260423T200000
DTSTAMP:20260422T103029
CREATED:20260413T082441Z
LAST-MODIFIED:20260413T082624Z
UID:16409-1776700800-1776974400@villademazo.com
SUMMARY:Asesoramiento\, venta y planificación de servicios turísticos
DESCRIPTION:📢 🌍✈️ Abierta la inscripción para el CURSO de “ASESORAMIENTO\, VENTA Y PLANIFICACIÓN DE SERVICIOS TURÍSTICOS”.\n🗓 Fechas: del 20 al 23 de abril\n🕓 Horario: de 16:00 a 20:00 horas\n📍 Lugar: Aulas de formación “Andares”\n📚Esta formación\, de carácter gratuito\, está orientada a mejorar las competencias profesionales en el sector turístico.\n✍🏼INSCRIPCIÓN:\nFORMACIÓN y TURISMO\n☎️922 440 003 (Ext. 205)\n📧 formacion@villademazo.es
URL:https://villademazo.com/eventos/asesoramiento-venta-y-planificacion-de-servicios-turisticos/
LOCATION:Aula de Formación del Centro Andares\, Ctra. Dr. Morera Bravo\, 3\, Villa de Mazo\, Santa Cruz de Tenerife\, 38730\, España
CATEGORIES:Formación
ATTACH;FMTTYPE=image/jpeg:https://villademazo.com/wp-content/uploads/2026/04/asesoramiento-servicios-turisticos.jpg
ORGANIZER;CN="Ayuntamiento Villa de Mazo - Concejal%C3%ADa de Formaci%C3%B3n y Empleo":MAILTO:formacion@villademazo.es
END:VEVENT
BEGIN:VEVENT
DTSTART;VALUE=DATE:20260422
DTEND;VALUE=DATE:20260428
DTSTAMP:20260422T103029
CREATED:20260415T114647Z
LAST-MODIFIED:20260415T115312Z
UID:16457-1776816000-1777334399@villademazo.com
SUMMARY:Programación Semana del Libro 2026
DESCRIPTION:Programación de la agenda de actividades en Villa de Mazo del 22 al 27 de abril. \nMiércoles 22 de Abril \n\n18:00h (Museo Casa Roja): Presentación y firma del libro “La sangre de la malvasía” del escritor Jorge Laguna.\n20:00h (Centro de la Cultura Andares): Lectura teatralizada de “El juez de los divorcios” de Miguel de Cervantes\, bajo la dirección de María J. Batista.\n\nJueves 23 de Abril (Día del Libro) \n\nDurante el día: Sueltas de libros por los diferentes barrios del municipio.\n10:00h a 13:00h: * Jornadas de puertas abiertas en la Biblioteca Municipal Alonso Pérez Díaz.\n\nTalleres “Clásicos del 2026” con Sara Pérez Alonso en el IES Villa de Mazo.\nActividades organizadas por las Escuelas Unitarias Mazo-Fuencaliente en la Plaza Pedro Pérez Díaz.\n\n\n17:30h a 19:00h (Biblioteca Municipal): Especial Día del Libro en “El Rincón de Alonsín” con Joel Pérez Noguera.\n\nViernes 24 de Abril \n\n10:00h a 13:00h (Jardines Museo Casa Roja): II Feria del Libro (Intercambios\, venta y encuentro con autores locales).\nNarración Oral “La Solera Cuenta” con Marianexy Yanes & Levis Aliaga en el Museo Casa Roja:\n\n11:00h: Actuación para todas las edades.\n20:00h: Actuación para adultos.\n\n\n\nLunes 27 de Abril \n\n16:30h a 18:30h (Biblioteca Municipal): Taller de motivación a la lectura para niños de 6 a 12 años (Especial Semana del Libro).
URL:https://villademazo.com/eventos/programacion-semana-del-libro-2026/
LOCATION:Santa Cruz de Tenerife
CATEGORIES:Exposición,Infantil,Lectura
ATTACH;FMTTYPE=image/jpeg:https://villademazo.com/wp-content/uploads/2026/04/semana-del-libro.jpg
END:VEVENT
BEGIN:VEVENT
DTSTART;TZID=UTC:20260422T200000
DTEND;TZID=UTC:20260422T200000
DTSTAMP:20260422T103029
CREATED:20260414T064447Z
LAST-MODIFIED:20260414T064743Z
UID:16430-1776888000-1776888000@villademazo.com
SUMMARY:El juez de los divorcios
DESCRIPTION:El Grupo de Teatro La Farsa presenta una cita imperdible con la literatura clásica: la lectura teatralizada de “El juez de los divorcios”\, una de las piezas más divertidas y agudas de Miguel de Cervantes. \nBajo la dirección de Maria J. Batista\, un talentoso elenco dará vida a los singulares personajes de Cervantes en una velada dedicada a la cultura y el humor. \n\nFecha: Miércoles\, 22 de abril de 2026.\nHora: 20:00h.\nLugar: Centro Cultural Andares\, Villa de Mazo.\nOrganiza: Grupo de Teatro La Farsa.\n\nUna oportunidad perfecta para disfrutar del teatro en el corazón de Mazo. ¡Te esperamos!
URL:https://villademazo.com/eventos/el-juez-de-los-divorcios/
LOCATION:Centro de la cultura Andares\, Ctra. Dr. Morera Bravo\, 2\, El Pueblo\, Villa de Mazo\, Santa Cruz de Tenerife\, 38730\, España
CATEGORIES:Teatro
ATTACH;FMTTYPE=image/jpeg:https://villademazo.com/wp-content/uploads/2026/04/juez-divorcio.jpg
END:VEVENT
END:VCALENDAR