BEGIN:VCALENDAR
VERSION:2.0
PRODID:-//Villa de Mazo - ECPv6.15.20//NONSGML v1.0//EN
CALSCALE:GREGORIAN
METHOD:PUBLISH
X-ORIGINAL-URL:https://villademazo.com
X-WR-CALDESC:Eventos para Villa de Mazo
REFRESH-INTERVAL;VALUE=DURATION:PT1H
X-Robots-Tag:noindex
X-PUBLISHED-TTL:PT1H
BEGIN:VTIMEZONE
TZID:UTC
BEGIN:STANDARD
TZOFFSETFROM:+0000
TZOFFSETTO:+0000
TZNAME:UTC
DTSTART:20230101T000000
END:STANDARD
END:VTIMEZONE
BEGIN:VEVENT
DTSTART;TZID=UTC:20241207T090000
DTEND;TZID=UTC:20241207T180000
DTSTAMP:20260424T221450
CREATED:20241203T152130Z
LAST-MODIFIED:20241203T152130Z
UID:13151-1733562000-1733594400@villademazo.com
SUMMARY:Feria de Navidad comercial y de artesanía Villa de Mazo
DESCRIPTION:Uniremos a nuestros puestos habituales artesanos/as y comerciantes de Villa de mazo y del resto de la isla. \nCon actuación musical de la Parranda Seis y Media\, degustación de productos\, cata de vinos de Bodega Mergus.
URL:https://villademazo.com/eventos/feria-de-navidad-comercial-y-de-artesania-villa-de-mazo/
LOCATION:Mercadillo de Villa de Mazo\, Calle Enlace Doctor Morera Bravo (El Pueblo)\, Villa de Mazo\,\, Santa Cruz de Tenerife\, 38730
CATEGORIES:Agricultura / Ganadería,Gastronomia,Música
ATTACH;FMTTYPE=image/jpeg:https://villademazo.com/wp-content/uploads/2024/12/feria-navidad-villa-mazo.jpg
ORGANIZER;CN="Ayuntamiento Villa de Mazo - Agencia de Empleo y Desarrollo Local":MAILTO:artesania@villademazo.es
END:VEVENT
END:VCALENDAR