BEGIN:VCALENDAR
VERSION:2.0
PRODID:-//Villa de Mazo - ECPv6.15.20//NONSGML v1.0//EN
CALSCALE:GREGORIAN
METHOD:PUBLISH
X-WR-CALNAME:Villa de Mazo
X-ORIGINAL-URL:https://villademazo.com
X-WR-CALDESC:Eventos para Villa de Mazo
REFRESH-INTERVAL;VALUE=DURATION:PT1H
X-Robots-Tag:noindex
X-PUBLISHED-TTL:PT1H
BEGIN:VTIMEZONE
TZID:UTC
BEGIN:STANDARD
TZOFFSETFROM:+0000
TZOFFSETTO:+0000
TZNAME:UTC
DTSTART:20240101T000000
END:STANDARD
END:VTIMEZONE
BEGIN:VEVENT
DTSTART;TZID=UTC:20250606T160000
DTEND;TZID=UTC:20250606T200000
DTSTAMP:20260424T103526
CREATED:20250523T092828Z
LAST-MODIFIED:20250523T093311Z
UID:14064-1749225600-1749240000@villademazo.com
SUMMARY:Curso de Apicultura Básica
DESCRIPTION:El Ayuntamiento de Villa de Mazo\, a través de su Agencia de Empleo y Desarrollo Local\, organiza un curso gratuito de Apicultura Básica\, dirigido a todas las personas interesadas en iniciarse en el mundo de las abejas y la producción apícola. \nEl curso será impartido por la apicultora Vanesa Martín Martín y se desarrollará en las Aulas de Formación del Centro de la Cultura Andares en las siguientes fechas: \n\n\n6 y 11 de junio\, de 16:00 a 20:00 horas \n\n\n13 de junio\, de 15:30 a 19:30 horas \n\n\nLa inscripción es gratuita y tendrán prioridad las personas empadronadas en el municipio. \n📞 Más información e inscripciones:Agencia de Empleo y Desarrollo Local☎️ Teléfono: 922 44 00 03 (Ext. 205)📧 Correo: formacion@villademazo.es
URL:https://villademazo.com/eventos/apiculturabasica/
LOCATION:Aula de Formación del Centro Andares\, Ctra. Dr. Morera Bravo\, 3\, Villa de Mazo\, Santa Cruz de Tenerife\, 38730\, España
CATEGORIES:Agricultura / Ganadería,Formación
ATTACH;FMTTYPE=image/jpeg:https://villademazo.com/wp-content/uploads/2025/05/apicultura.jpg
ORGANIZER;CN="Ayuntamiento Villa de Mazo - Concejal%C3%ADa de Formaci%C3%B3n y Empleo":MAILTO:formacion@villademazo.es
END:VEVENT
BEGIN:VEVENT
DTSTART;TZID=UTC:20250611T160000
DTEND;TZID=UTC:20250611T200000
DTSTAMP:20260424T103526
CREATED:20250523T093137Z
LAST-MODIFIED:20250523T093201Z
UID:14070-1749657600-1749672000@villademazo.com
SUMMARY:Curso de Apicultura Básica
DESCRIPTION:El Ayuntamiento de Villa de Mazo\, a través de su Agencia de Empleo y Desarrollo Local\, organiza un curso gratuito de Apicultura Básica\, dirigido a todas las personas interesadas en iniciarse en el mundo de las abejas y la producción apícola. \nEl curso será impartido por la apicultora Vanesa Martín Martín y se desarrollará en las Aulas de Formación del Centro de la Cultura Andares en las siguientes fechas: \n\n\n6 y 11 de junio\, de 16:00 a 20:00 horas \n\n\n13 de junio\, de 15:30 a 19:30 horas \n\n\nLa inscripción es gratuita y tendrán prioridad las personas empadronadas en el municipio. \n📞 Más información e inscripciones:Agencia de Empleo y Desarrollo Local☎️ Teléfono: 922 44 00 03 (Ext. 205)📧 Correo: formacion@villademazo.es
URL:https://villademazo.com/eventos/curso-de-apicultura-basica/
LOCATION:Aula de Formación del Centro Andares\, Ctra. Dr. Morera Bravo\, 3\, Villa de Mazo\, Santa Cruz de Tenerife\, 38730\, España
CATEGORIES:Agricultura / Ganadería,Formación
ATTACH;FMTTYPE=image/jpeg:https://villademazo.com/wp-content/uploads/2025/05/apicultura.jpg
ORGANIZER;CN="Ayuntamiento Villa de Mazo - Concejal%C3%ADa de Formaci%C3%B3n y Empleo":MAILTO:formacion@villademazo.es
END:VEVENT
BEGIN:VEVENT
DTSTART;TZID=UTC:20250613T153000
DTEND;TZID=UTC:20250613T193000
DTSTAMP:20260424T103526
CREATED:20250523T093424Z
LAST-MODIFIED:20250523T093424Z
UID:14072-1749828600-1749843000@villademazo.com
SUMMARY:Curso de Apicultura Básica
DESCRIPTION:El Ayuntamiento de Villa de Mazo\, a través de su Agencia de Empleo y Desarrollo Local\, organiza un curso gratuito de Apicultura Básica\, dirigido a todas las personas interesadas en iniciarse en el mundo de las abejas y la producción apícola. \nEl curso será impartido por la apicultora Vanesa Martín Martín y se desarrollará en las Aulas de Formación del Centro de la Cultura Andares en las siguientes fechas: \n\n\n6 y 11 de junio\, de 16:00 a 20:00 horas \n\n\n13 de junio\, de 15:30 a 19:30 horas \n\n\nLa inscripción es gratuita y tendrán prioridad las personas empadronadas en el municipio. \n📞 Más información e inscripciones:Agencia de Empleo y Desarrollo Local☎️ Teléfono: 922 44 00 03 (Ext. 205)📧 Correo: formacion@villademazo.es
URL:https://villademazo.com/eventos/curso-de-apicultura-basica-2/
LOCATION:Aula de Formación del Centro Andares\, Ctra. Dr. Morera Bravo\, 3\, Villa de Mazo\, Santa Cruz de Tenerife\, 38730\, España
CATEGORIES:Agricultura / Ganadería,Formación
ATTACH;FMTTYPE=image/jpeg:https://villademazo.com/wp-content/uploads/2025/05/apicultura.jpg
ORGANIZER;CN="Ayuntamiento Villa de Mazo - Concejal%C3%ADa de Formaci%C3%B3n y Empleo":MAILTO:formacion@villademazo.es
END:VEVENT
END:VCALENDAR