BEGIN:VCALENDAR
VERSION:2.0
PRODID:-//Villa de Mazo - ECPv6.15.20//NONSGML v1.0//EN
CALSCALE:GREGORIAN
METHOD:PUBLISH
X-WR-CALNAME:Villa de Mazo
X-ORIGINAL-URL:https://villademazo.com
X-WR-CALDESC:Eventos para Villa de Mazo
REFRESH-INTERVAL;VALUE=DURATION:PT1H
X-Robots-Tag:noindex
X-PUBLISHED-TTL:PT1H
BEGIN:VTIMEZONE
TZID:UTC
BEGIN:STANDARD
TZOFFSETFROM:+0000
TZOFFSETTO:+0000
TZNAME:UTC
DTSTART:20240101T000000
END:STANDARD
END:VTIMEZONE
BEGIN:VEVENT
DTSTART;TZID=UTC:20250817T160000
DTEND;TZID=UTC:20250817T190000
DTSTAMP:20260422T193908
CREATED:20250814T125140Z
LAST-MODIFIED:20250814T125217Z
UID:14619-1755446400-1755457200@villademazo.com
SUMMARY:Concurso de Arrastre de Ganado
DESCRIPTION:El Ayuntamiento de Villa de Mazo\, en colaboración con el Gobierno de Canarias y GMR Canarias Volcanic Xperience\, celebra el 17 de agosto un concurso de arrastre de ganado con ejemplares de vaca palmera. \nEsta actividad se incluye dentro de la subvención del Gobierno de Canarias Dinamiza Rural junto a la colaboración del Cabildo\, Ayuntamiento\, el Club de Arrastre La Canga y la Federación de Arrastre Canario.
URL:https://villademazo.com/eventos/concurso-de-arrastre-de-ganado/
LOCATION:Anexo del Centro Cultural de Andares\, Villa de Mazo\, Santa Cruz de Tenerife\, 38730\, Spain
CATEGORIES:Agricultura / Ganadería
ATTACH;FMTTYPE=image/jpeg:https://villademazo.com/wp-content/uploads/2025/08/concurso-arrastre.jpg
END:VEVENT
END:VCALENDAR