BEGIN:VCALENDAR
VERSION:2.0
PRODID:-//Villa de Mazo - ECPv6.15.20//NONSGML v1.0//EN
CALSCALE:GREGORIAN
METHOD:PUBLISH
X-ORIGINAL-URL:https://villademazo.com
X-WR-CALDESC:Eventos para Villa de Mazo
REFRESH-INTERVAL;VALUE=DURATION:PT1H
X-Robots-Tag:noindex
X-PUBLISHED-TTL:PT1H
BEGIN:VTIMEZONE
TZID:UTC
BEGIN:STANDARD
TZOFFSETFROM:+0000
TZOFFSETTO:+0000
TZNAME:UTC
DTSTART:20240101T000000
END:STANDARD
END:VTIMEZONE
BEGIN:VEVENT
DTSTART;TZID=UTC:20250103T183000
DTEND;TZID=UTC:20250103T193000
DTSTAMP:20260424T191155
CREATED:20250103T132419Z
LAST-MODIFIED:20250103T132419Z
UID:13328-1735929000-1735932600@villademazo.com
SUMMARY:Cuentos viejos para Año Nuevo
DESCRIPTION:🪄 ¡Este viernes 3 de enero\, a partir de las 18:30 horas\, no te pierdas una tarde mágica en el Museo Casa Roja de Villa de Mazo! 🌟 \n🧚‍♀Te invitamos a disfrutar de “Cuentos viejos para Año Nuevo” con Giuseppina Casu\, una sesión de cuenta cuentos para todas las edades. Reviviremos relatos inspiradores\, ideales para empezar el año 🎉📚 \n¡Ven solo\, en familia o con amigos y acompáñanos en esta experiencia única! \nDisfruta de una tarde cultural que hará volar tu imaginación. ✨ \nLa entrada es libre hasta completar el aforo de sala. \n#Cuentacuentos #CulturaParaTodos #VillaDeMazo #AñoNuevo #MuseoCasaRoja #TardeCultural
URL:https://villademazo.com/eventos/cuentos-viejos-para-ano-nuevo/
LOCATION:Museo Casa Roja\, C. Maximiliano Pérez Díaz\, 23\, Villa de Mazo\, Santa Cruz de Tenerife\, 38730\, España
CATEGORIES:Cuenta Cuentos
ATTACH;FMTTYPE=image/jpeg:https://villademazo.com/wp-content/uploads/2025/01/cuenta-cuentos.jpg
END:VEVENT
END:VCALENDAR