BEGIN:VCALENDAR
VERSION:2.0
PRODID:-//Villa de Mazo - ECPv6.15.20//NONSGML v1.0//EN
CALSCALE:GREGORIAN
METHOD:PUBLISH
X-WR-CALNAME:Villa de Mazo
X-ORIGINAL-URL:https://villademazo.com
X-WR-CALDESC:Eventos para Villa de Mazo
REFRESH-INTERVAL;VALUE=DURATION:PT1H
X-Robots-Tag:noindex
X-PUBLISHED-TTL:PT1H
BEGIN:VTIMEZONE
TZID:UTC
BEGIN:STANDARD
TZOFFSETFROM:+0000
TZOFFSETTO:+0000
TZNAME:UTC
DTSTART:20240101T000000
END:STANDARD
END:VTIMEZONE
BEGIN:VEVENT
DTSTART;TZID=UTC:20250405T203000
DTEND;TZID=UTC:20250405T213000
DTSTAMP:20260424T135436
CREATED:20250331T094017Z
LAST-MODIFIED:20250331T101856Z
UID:13665-1743885000-1743888600@villademazo.com
SUMMARY:La Solera Cuenta - Mariana González "Viajemos por El Caribe"
DESCRIPTION:📖 1ª Sesión de “La Solera Cuenta” 📖 \n🔹 Sobre el espectáculo“Viajemos por El Caribe” nos invita a zarpar en un barco de papel y recorrer un mar cálido\, explorando historias impregnadas del realismo mágico de cada orilla. Un viaje a través de la imaginación para descubrir los relatos que laten en cada rincón del Caribe. \n🔹 Sobre la narradoraMariana González nos transporta con su barco de papel\, cuyo centro azul representa el Atlántico\, el lazo que une su Venezuela natal con sus raíces en Canarias. Convertida en la niña que honra a sus abuelos\, comparte historias de allá y de acá\, tejiendo un puente entre culturas y generaciones. \n📍 La Casa Roja – Museo del Bordado y el Corpus📅 05 de abril 🕣 20:30 h🎟 Entrada libre \n¡Embárcate en este viaje de palabras y emociones! 🌊📖✨ \n 
URL:https://villademazo.com/eventos/viajemos-por-el-caribe/
LOCATION:Museo Casa Roja\, C. Maximiliano Pérez Díaz\, 23\, Villa de Mazo\, Santa Cruz de Tenerife\, 38730\, España
CATEGORIES:Cuenta Cuentos
ATTACH;FMTTYPE=image/jpeg:https://villademazo.com/wp-content/uploads/2025/03/mariana-glez-solera-cuenta.jpg
END:VEVENT
BEGIN:VEVENT
DTSTART;TZID=UTC:20250412T203000
DTEND;TZID=UTC:20250412T213000
DTSTAMP:20260424T135436
CREATED:20250331T094933Z
LAST-MODIFIED:20250404T090300Z
UID:13670-1744489800-1744493400@villademazo.com
SUMMARY:La Solera Cuenta - David Acera "Desnortado"
DESCRIPTION:📖 2ª Sesión de «La Solera Cuenta» 📖 \n🔹 Sobre el espectáculoLas narraciones de David Acera para adultos permiten viajar con las palabras\, ofreciendo una experiencia que va más allá del simple entretenimiento. Cada historia es una puerta a mundos nuevos\, donde los personajes y sus aventuras invitan a los oyentes a aprender y disfrutar a través del poder de la narración. \n🔹 Sobre el narrador\nNarrador oral\, escritor y actor\nDavid Acera \nUn cuentacuentos asturiano con vocación universal\nDavid Acera (Oviedo\, 1977) es profesional de las Artes Escénicas desde el año 2001. Con más de 40 estrenos teatrales a sus espaldas y habiendo trabjado en el cine o la televisión\, en el año 2004 descubre el mágico mundo del cuento contado\, de la Narración oral\, y desde entonces no ha parado de contar. Es su vida y su pasión. \nAdemás de contar cuentos también enseña a contarlos desde la enseñanza primaria a la Universidad\, así como en distintos ambientes profesionales. Los cuentos dichos son un arte escénico de primer nivel y también una herramienta útil para mejorar nuestra expresión oral pública. \nDavid siempre ha pensado que los cuentos son como los pájaros\, otra de sus grandes pasiones: viajan de un continente a otro\, de un país a otro\, adaptándose al lugar al que llegan pero sin perder la esencia de lo que son. Y como los cuentos y los pájaros\, David Acera también lleva regularmente sus historias a distintos lugares de África\, Asia\, Europa y América. \n📍 La Casa Roja – Museo del Bordado y el Corpus📅 12 de abril 🕣 20:30 h🎟 Entrada libre dirigida al público adulto. \n  \n  \n 
URL:https://villademazo.com/eventos/la-solera-cuenta-david-acera/
LOCATION:Museo Casa Roja\, C. Maximiliano Pérez Díaz\, 23\, Villa de Mazo\, Santa Cruz de Tenerife\, 38730\, España
CATEGORIES:Cuenta Cuentos
ATTACH;FMTTYPE=image/jpeg:https://villademazo.com/wp-content/uploads/2025/03/david-acera.jpg
END:VEVENT
END:VCALENDAR