BEGIN:VCALENDAR
VERSION:2.0
PRODID:-//Villa de Mazo - ECPv6.15.20//NONSGML v1.0//EN
CALSCALE:GREGORIAN
METHOD:PUBLISH
X-ORIGINAL-URL:https://villademazo.com
X-WR-CALDESC:Eventos para Villa de Mazo
REFRESH-INTERVAL;VALUE=DURATION:PT1H
X-Robots-Tag:noindex
X-PUBLISHED-TTL:PT1H
BEGIN:VTIMEZONE
TZID:UTC
BEGIN:STANDARD
TZOFFSETFROM:+0000
TZOFFSETTO:+0000
TZNAME:UTC
DTSTART:20240101T000000
END:STANDARD
END:VTIMEZONE
BEGIN:VEVENT
DTSTART;TZID=UTC:20250614T203000
DTEND;TZID=UTC:20250614T213000
DTSTAMP:20260424T102803
CREATED:20250331T095513Z
LAST-MODIFIED:20250523T071932Z
UID:13678-1749933000-1749936600@villademazo.com
SUMMARY:La Solera Cuenta - Samantha Moreno
DESCRIPTION:Desde la frescura y la autenticidad\, Samantha Moreno nos hará viajar con su voz a través de cuentos llenos de vida\, humor y emoción. \nINVENTARIO\nSinopsis: Sesión de narración oral para público adulto basada en una recopilación de cuentos de aquí y de allá\, de la tradición oral o de autoría. \nUna selección hecha para la ocasión que nunca es la misma y que bien se parece a cuando abres el armario y eliges tu atuendo del día: una prenda para el abrigo de las palabras\, otra para que reluzcan\, los complementos porque combinan y los zapatos para ayudarlas a andar. \nY así se vestirán las palabras … combinando fantasía y realidad\, con un poco de amor\, algo de lógica y también de picardía. \nSesión dirigida al público adulto. \nEntrada libre.
URL:https://villademazo.com/eventos/la-solera-cuenta-samantha-moreno/
LOCATION:Museo Casa Roja\, C. Maximiliano Pérez Díaz\, 23\, Villa de Mazo\, Santa Cruz de Tenerife\, 38730\, España
CATEGORIES:Cuenta Cuentos
ATTACH;FMTTYPE=image/jpeg:https://villademazo.com/wp-content/uploads/2025/03/solera-cuenta-samantha-moreno.jpg
END:VEVENT
BEGIN:VEVENT
DTSTART;TZID=UTC:20250621T203000
DTEND;TZID=UTC:20250621T213000
DTSTAMP:20260424T102803
CREATED:20250331T100017Z
LAST-MODIFIED:20250523T072140Z
UID:13680-1750537800-1750541400@villademazo.com
SUMMARY:La Solera Cuenta - Vicente Cortés
DESCRIPTION:Un maestro de la palabra hablada\, Vicente Cortés cierra el ciclo con relatos cautivadores que nos harán reflexionar\, reír y sentir el poder de la narración oral. \nFESTIN DE PALABRAS\nSiempre va bien que te hagan reír y pensar con festivas palabras.Este divertido espectáculo de oralidad variada – cuentos\, canciones\, romances\, adivinanzas- nos ayuda a recordar que no sólo de pan vive el ser humano.\n¿Te lo vas a perder? \nSesión dirigida al público adulto. \nEntrada libre.
URL:https://villademazo.com/eventos/la-solera-cuenta-vicente-cortes/
LOCATION:Museo Casa Roja\, C. Maximiliano Pérez Díaz\, 23\, Villa de Mazo\, Santa Cruz de Tenerife\, 38730\, España
CATEGORIES:Cuenta Cuentos
ATTACH;FMTTYPE=image/jpeg:https://villademazo.com/wp-content/uploads/2025/03/solera-cuenta-vicente-cortes.jpg
END:VEVENT
END:VCALENDAR