BEGIN:VCALENDAR
VERSION:2.0
PRODID:-//Villa de Mazo - ECPv6.15.20//NONSGML v1.0//EN
CALSCALE:GREGORIAN
METHOD:PUBLISH
X-ORIGINAL-URL:https://villademazo.com
X-WR-CALDESC:Eventos para Villa de Mazo
REFRESH-INTERVAL;VALUE=DURATION:PT1H
X-Robots-Tag:noindex
X-PUBLISHED-TTL:PT1H
BEGIN:VTIMEZONE
TZID:UTC
BEGIN:STANDARD
TZOFFSETFROM:+0000
TZOFFSETTO:+0000
TZNAME:UTC
DTSTART:20240101T000000
END:STANDARD
END:VTIMEZONE
BEGIN:VEVENT
DTSTART;TZID=UTC:20250904T170000
DTEND;TZID=UTC:20250904T190000
DTSTAMP:20260422T184831
CREATED:20250828T092944Z
LAST-MODIFIED:20250828T092944Z
UID:14745-1757005200-1757012400@villademazo.com
SUMMARY:Tardes en la plaza. Cuéntamelo todo
DESCRIPTION:Los recuerdos dan vida a la memoria de nuestros barrios. Queremos escucharte y escribir juntos a ti nuestro legado.\nActo perteneciente a la Festividad Santa Rosalia de Palermo
URL:https://villademazo.com/eventos/tardes-en-la-plaza-cuentamelo-todo/
LOCATION:Plaza Santa Rosalia\, Villa de Mazo\, Santa Cruz de Tenerife\, 38730\, Spain
CATEGORIES:Cuenta Cuentos
ATTACH;FMTTYPE=image/jpeg:https://villademazo.com/wp-content/uploads/2025/08/cuentamelo-todo.jpg
END:VEVENT
END:VCALENDAR