BEGIN:VCALENDAR
VERSION:2.0
PRODID:-//Villa de Mazo - ECPv6.15.20//NONSGML v1.0//EN
CALSCALE:GREGORIAN
METHOD:PUBLISH
X-WR-CALNAME:Villa de Mazo
X-ORIGINAL-URL:https://villademazo.com
X-WR-CALDESC:Eventos para Villa de Mazo
REFRESH-INTERVAL;VALUE=DURATION:PT1H
X-Robots-Tag:noindex
X-PUBLISHED-TTL:PT1H
BEGIN:VTIMEZONE
TZID:UTC
BEGIN:STANDARD
TZOFFSETFROM:+0000
TZOFFSETTO:+0000
TZNAME:UTC
DTSTART:20240101T000000
END:STANDARD
END:VTIMEZONE
BEGIN:VEVENT
DTSTART;VALUE=DATE:20251125
DTEND;VALUE=DATE:20251127
DTSTAMP:20260422T143734
CREATED:20251121T123232Z
LAST-MODIFIED:20251121T123232Z
UID:15747-1764028800-1764201599@villademazo.com
SUMMARY:Ante la Violencia de Género\, Tenemos Recursos
DESCRIPTION:El Ayuntamiento de Villa de Mazo se une a la conmemoración del 25 de noviembre\, Día Internacional para la Eliminación de la Violencia contra la Mujer\, reafirmando nuestro compromiso con la sensibilización\, la igualdad y el apoyo a todas las víctimas.\nEste año\, además\, nos adherimos a la Campaña Insular “Ante la Violencia de Género\, Tenemos Recursos”\, que pone a disposición de la ciudadanía información clara y accesible mediante códigos QR sobre recursos en casos de violencia de género y violencia sexual. \n Podrás encontrarlos en nuestra cartelería municipal. \nAsimismo\, invitamos a toda la población a participar en los actos programados. \n RECURSOS DE ATENCIÓN ESPECIALIZADA \nEl Cabildo de La Palma ofrece el Servicio de Atención e Intervención Integral a Mujeres y Menores Víctimas de Violencia de Género:\n 922 423 100 Ext. 4492\n mujer.intervencion@cablapalma.es\n https://lapalmacontralaviolencia.com \n Villa de Mazo\, unido contra la violencia de género. No estás sola. \n 
URL:https://villademazo.com/eventos/ante-la-violencia-de-genero-tenemos-recursos/
LOCATION:Museo Casa Roja\, C. Maximiliano Pérez Díaz\, 23\, Villa de Mazo\, Santa Cruz de Tenerife\, 38730\, España
CATEGORIES:Cine,Cuenta Cuentos,Lectura
ATTACH;FMTTYPE=image/jpeg:https://villademazo.com/wp-content/uploads/2025/11/cartel-contra-violencia.jpg
END:VEVENT
BEGIN:VEVENT
DTSTART;TZID=UTC:20251126T190000
DTEND;TZID=UTC:20251126T200000
DTSTAMP:20260422T143734
CREATED:20251124T080801Z
LAST-MODIFIED:20251124T080907Z
UID:15759-1764183600-1764187200@villademazo.com
SUMMARY:Cuentos que cuentan
DESCRIPTION:El Ayuntamiento de Villa de Mazo organiza la sesión de narración oral “Cuentos que cuentan”\, impartida por Giuseppina Casu. \nEl evento tendrá lugar en el Museo Casa Roja\, el miércoles 26 de 2025 a las 19:00 horas. \nEsta actividad se enmarca dentro de la iniciativa “Villa de Mazo por la erradicación de la violencia” y consiste en una sesión de cuentacuentos orientada a educar en igualdad.
URL:https://villademazo.com/eventos/cuentos-que-cuentan/
LOCATION:Museo Casa Roja\, C. Maximiliano Pérez Díaz\, 23\, Villa de Mazo\, Santa Cruz de Tenerife\, 38730\, España
CATEGORIES:Cuenta Cuentos
ATTACH;FMTTYPE=image/jpeg:https://villademazo.com/wp-content/uploads/2025/11/Cuentos-que-cuentan.jpeg
END:VEVENT
END:VCALENDAR