BEGIN:VCALENDAR
VERSION:2.0
PRODID:-//Villa de Mazo - ECPv6.15.20//NONSGML v1.0//EN
CALSCALE:GREGORIAN
METHOD:PUBLISH
X-ORIGINAL-URL:https://villademazo.com
X-WR-CALDESC:Eventos para Villa de Mazo
REFRESH-INTERVAL;VALUE=DURATION:PT1H
X-Robots-Tag:noindex
X-PUBLISHED-TTL:PT1H
BEGIN:VTIMEZONE
TZID:UTC
BEGIN:STANDARD
TZOFFSETFROM:+0000
TZOFFSETTO:+0000
TZNAME:UTC
DTSTART:20230101T000000
END:STANDARD
END:VTIMEZONE
BEGIN:VEVENT
DTSTART;TZID=UTC:20241024T190000
DTEND;TZID=UTC:20241024T200000
DTSTAMP:20260425T004351
CREATED:20241009T100127Z
LAST-MODIFIED:20241009T174610Z
UID:12738-1729796400-1729800000@villademazo.com
SUMMARY:Ser Historia con Nacho Ares
DESCRIPTION:Les invitamos a disfrutar del programa SER HISTORIA desde Villa de Mazo\, su historia\, patrimonio\, y los últimos hallazgos arqueológicos serán los protagonistas. \n📍Museo de la Casa Roja\n🗓Jueves\, 24 de octubre\n⏰19h \nHasta completar aforo.\n\n🎫 Solicita tu invitación en los estudios de la Cadena SER en Los Llanos de Aridane o en el teléfono 606 913022 o bien al Museo Casa Roja al tlfno. 628014138 \n@icdcultural\n@cultura_lapalma\n@aytovillademazo\n@serhistoria \n#100AñosSer #serlapalma
URL:https://villademazo.com/eventos/ser-historia-con-nacho-ares/
LOCATION:Museo Casa Roja\, C. Maximiliano Pérez Díaz\, 23\, Villa de Mazo\, Santa Cruz de Tenerife\, 38730\, España
CATEGORIES:Cultura
ATTACH;FMTTYPE=image/jpeg:https://villademazo.com/wp-content/uploads/2024/10/Ser.historia.jpeg
END:VEVENT
END:VCALENDAR