BEGIN:VCALENDAR
VERSION:2.0
PRODID:-//Villa de Mazo - ECPv6.15.20//NONSGML v1.0//EN
CALSCALE:GREGORIAN
METHOD:PUBLISH
X-ORIGINAL-URL:https://villademazo.com
X-WR-CALDESC:Eventos para Villa de Mazo
REFRESH-INTERVAL;VALUE=DURATION:PT1H
X-Robots-Tag:noindex
X-PUBLISHED-TTL:PT1H
BEGIN:VTIMEZONE
TZID:UTC
BEGIN:STANDARD
TZOFFSETFROM:+0000
TZOFFSETTO:+0000
TZNAME:UTC
DTSTART:20240101T000000
END:STANDARD
END:VTIMEZONE
BEGIN:VEVENT
DTSTART;TZID=UTC:20250718T200000
DTEND;TZID=UTC:20250718T220000
DTSTAMP:20260422T202151
CREATED:20250702T135524Z
LAST-MODIFIED:20250702T135601Z
UID:14378-1752868800-1752876000@villademazo.com
SUMMARY:Homenaje "El Barrio de La Rosa a mediados del siglo XX"
DESCRIPTION:
URL:https://villademazo.com/eventos/homenaje-el-barrio-de-la-rosa-a-mediados-del-siglo-xx/
LOCATION:Local Asociación Cultural Nuevo Surco\, Calle La Rosa\, nº 17\, Villa de Mazo\, Santa Cruz de Tenerife\, 38730\, Spain
CATEGORIES:Cultura
ATTACH;FMTTYPE=image/jpeg:https://villademazo.com/wp-content/uploads/2025/07/1e4a7446-8986-4241-8515-42f459801279.jpg
END:VEVENT
END:VCALENDAR