BEGIN:VCALENDAR
VERSION:2.0
PRODID:-//Villa de Mazo - ECPv6.15.20//NONSGML v1.0//EN
CALSCALE:GREGORIAN
METHOD:PUBLISH
X-ORIGINAL-URL:https://villademazo.com
X-WR-CALDESC:Eventos para Villa de Mazo
REFRESH-INTERVAL;VALUE=DURATION:PT1H
X-Robots-Tag:noindex
X-PUBLISHED-TTL:PT1H
BEGIN:VTIMEZONE
TZID:UTC
BEGIN:STANDARD
TZOFFSETFROM:+0000
TZOFFSETTO:+0000
TZNAME:UTC
DTSTART:20240101T000000
END:STANDARD
END:VTIMEZONE
BEGIN:VEVENT
DTSTART;VALUE=DATE:20251016
DTEND;VALUE=DATE:20251019
DTSTAMP:20260422T141226
CREATED:20250924T071716Z
LAST-MODIFIED:20251008T113206Z
UID:15063-1760572800-1760831999@villademazo.com
SUMMARY:Jornadas Patrimoniales de Villa de Mazo
DESCRIPTION:Con la colaboración del Ayuntamiento de Villa de Mazo y el Cabildo de La Palma\, desde ANCESTROS\, Asociación para la Salvaguarda del Patrimonio\, hemos preparado unas jornadas para redescubrir lo que hace único a nuestro municipio: su patrimonio natural\, cultural e histórico. \n16\, 17 y 18 de octubre\nDiferentes espacios de Villa de Mazo \nCon especialistas de prestigio podremos conocer: \nPaisajes y naturaleza: recorridos por espacios protegidos para apreciar su riqueza ambiental\, volcánica y la biodiversidad que caracteriza a Villa de Mazo. \nPatrimonio arqueológico: rutas guiadas por el Parque de Belmaco y otros enclaves de la costa para acercarnos a los antiguos pobladores y su legado. \nLegado cultural e histórico: tradiciones como El Borrachito Fogatero y la influencia de Pedro y Alonso Pérez Díaz en la historia y cultura de Canarias. \nArquitectura y patrimonio industrial\, como el molino de viento de Isidoro Ortega Sánchez\, símbolo del ingenio y creatividad de Villa de Mazo. \nUna oportunidad única para aprender\, compartir y reflexionar sobre la importancia de cuidar este territorio tan especial. \n¡Te esperamos para celebrar juntos nuestro patrimonio!
URL:https://villademazo.com/eventos/jornadas-patrimoniales-de-villa-de-mazo/
CATEGORIES:Cultura
ATTACH;FMTTYPE=image/jpeg:https://villademazo.com/wp-content/uploads/2025/09/jornadas-patrimoniales-villademazo.jpg
END:VEVENT
END:VCALENDAR