BEGIN:VCALENDAR
VERSION:2.0
PRODID:-//Villa de Mazo - ECPv6.15.20//NONSGML v1.0//EN
CALSCALE:GREGORIAN
METHOD:PUBLISH
X-WR-CALNAME:Villa de Mazo
X-ORIGINAL-URL:https://villademazo.com
X-WR-CALDESC:Eventos para Villa de Mazo
REFRESH-INTERVAL;VALUE=DURATION:PT1H
X-Robots-Tag:noindex
X-PUBLISHED-TTL:PT1H
BEGIN:VTIMEZONE
TZID:UTC
BEGIN:STANDARD
TZOFFSETFROM:+0000
TZOFFSETTO:+0000
TZNAME:UTC
DTSTART:20240101T000000
END:STANDARD
END:VTIMEZONE
BEGIN:VEVENT
DTSTART;TZID=UTC:20250615T103000
DTEND;TZID=UTC:20250615T143000
DTSTAMP:20260424T181955
CREATED:20250612T110823Z
LAST-MODIFIED:20250612T111533Z
UID:14240-1749983400-1749997800@villademazo.com
SUMMARY:DH Villa de Mazo 2025
DESCRIPTION:🚵‍♂️ Descenso en el Barranco San Blas \n¡Llega una de las pruebas más emocionantes de ciclismo de descenso a Villa de Mazo! \n📅 Fecha: 15 de junio de 2025📍 Lugar: Barranco San Blas \nHorarios:🕥 Manga Clasificatoria: 10:30 – 12:00🏆 Manga Final: 13:00 – 14:30 \nOrganizan: \n\nFlow Trails La Palma.\nAyuntamiento de Villa de Mazo.\nFederación Canaria de Ciclismo.\n\nColaboran: \n\n Soican (Soluciones Integrales de Canarias).\nAgustín Díaz – Instalaciones Eléctricas.\nArtes Gráficas Acosta.\n\n¡No te pierdas este gran espectáculo de velocidad\, adrenalina y técnica en plena naturaleza!
URL:https://villademazo.com/eventos/dh-villa-de-mazo-2025/
LOCATION:Privado: Barranco San Blas\, Barranco San Blas\, Villa de Mazo\, Santa Cruz de Tenerife\, 38750\, Spain
CATEGORIES:Deportes
ATTACH;FMTTYPE=image/jpeg:https://villademazo.com/wp-content/uploads/2025/06/dh.jpg
ORGANIZER;CN="Flow Trails La Palma":MAILTO:info@flowtrailslapalma.com
END:VEVENT
BEGIN:VEVENT
DTSTART;TZID=UTC:20250621T200000
DTEND;TZID=UTC:20250621T223000
DTSTAMP:20260424T181955
CREATED:20250617T083155Z
LAST-MODIFIED:20250617T083155Z
UID:14290-1750536000-1750545000@villademazo.com
SUMMARY:Luchada Corpus Christi – Desafío “Raúl León”
DESCRIPTION:📅 Fecha: 21 de junio🕗 Hora: 20:00 horas📍 Lugar: Polideportivo Municipal de Villa de Mazo \nProgramación: \n🔸 Desafío “Raúl León”💥 Daniela Batista vs. Infante (Tindaya) \n \n🔸 Gran Encuentro de Lucha Canaria🤼‍♂️ C.L. San Blas (Villa de Mazo) 🆚 C.L. Auarita Tedote (Santa Cruz de La Palma) \nRefuerzos del C.L. San Blas: \n\nPuntal C: Mahy Espino (Club de Lucha Maninidra)\nDestacado C: Fran “El Pecas” (Club de Lucha Candelaria de Tijarafe)\n\n🎟 Entrada libre \nOrganiza: Deportes Cabildo de La Palma\, en el marco del Lustral Fest La Palma 2025Colabora: Ayuntamiento de Villa de Mazo \n¡No te pierdas este gran espectáculo de lucha canaria dentro de las fiestas de Corpus Christi!
URL:https://villademazo.com/eventos/luchada-corpus-christi-desafio-raul-leon/
LOCATION:Pabellón Deportivo David Jiménez Silva\, Villa de Mazo\, Santa Cruz de Tenerife\, 38730\, España
CATEGORIES:Deportes
ATTACH;FMTTYPE=image/jpeg:https://villademazo.com/wp-content/uploads/2025/06/luchada.jpg
END:VEVENT
END:VCALENDAR