BEGIN:VCALENDAR
VERSION:2.0
PRODID:-//Villa de Mazo - ECPv6.15.20//NONSGML v1.0//EN
CALSCALE:GREGORIAN
METHOD:PUBLISH
X-ORIGINAL-URL:https://villademazo.com
X-WR-CALDESC:Eventos para Villa de Mazo
REFRESH-INTERVAL;VALUE=DURATION:PT1H
X-Robots-Tag:noindex
X-PUBLISHED-TTL:PT1H
BEGIN:VTIMEZONE
TZID:UTC
BEGIN:STANDARD
TZOFFSETFROM:+0000
TZOFFSETTO:+0000
TZNAME:UTC
DTSTART:20240101T000000
END:STANDARD
END:VTIMEZONE
BEGIN:VEVENT
DTSTART;TZID=UTC:20250725T170000
DTEND;TZID=UTC:20250725T200000
DTSTAMP:20260424T164651
CREATED:20250714T130828Z
LAST-MODIFIED:20250714T130828Z
UID:14428-1753462800-1753473600@villademazo.com
SUMMARY:Peregrinación a la Virgen de Las Nieves
DESCRIPTION:Desde La Estrella hasta El Salvador \nLa Asociación “Nuevo Surco” y el Club Deportivo Mazo Mazucator te invitan a participar en esta caminata especial en honor a la Virgen de Las Nieves. \n📅 Fecha: Viernes 25 de julio de 2025📍 Punto de encuentro: Parada habitual de Nuevo Surco\, La Rosa🕔 Hora: 17:00 h \n🔒 Requisito indispensable:Contar con el “Seguro de Caminar” (precio por un día: 5€) \n📲 Confirmar asistencia al 669932417 (solo por WhatsApp)📆 Hasta el martes 22 de julio (19:00 h) \n🚌 Precio del transporte (guagua): \n\n\n8 € para socios (Nuevo Surco o Mazucator) \n\n\n12 € para no socios \n\n\nEsta asociación trabaja por la cultura\, la tradición y la convivencia. \nCon la colaboración de: Ayuntamiento de Villa de Mazo\, Cabildo de La Palma\, Talleres Noroeste\, Ekalis\, Blaspa\, Panadería El Dulce\, Dulcería El Andén\, Café El Típico y La Zafra Mazo. \n📌 ¡Lleva tu ropa cómoda y linterna!
URL:https://villademazo.com/eventos/peregrinacion-a-la-virgen-de-las-nieves/
LOCATION:Santa Cruz de Tenerife
CATEGORIES:Deportes,Religioso
ATTACH;FMTTYPE=image/jpeg:https://villademazo.com/wp-content/uploads/2025/07/peregrinacionvirgendelasnieves.jpeg
ORGANIZER;CN="Asociaci%C3%B3n de Vecinos Nuevo Surco":MAILTO:asociacionnuevosurco@hotmail.com
END:VEVENT
END:VCALENDAR