BEGIN:VCALENDAR
VERSION:2.0
PRODID:-//Villa de Mazo - ECPv6.15.20//NONSGML v1.0//EN
CALSCALE:GREGORIAN
METHOD:PUBLISH
X-WR-CALNAME:Villa de Mazo
X-ORIGINAL-URL:https://villademazo.com
X-WR-CALDESC:Eventos para Villa de Mazo
REFRESH-INTERVAL;VALUE=DURATION:PT1H
X-Robots-Tag:noindex
X-PUBLISHED-TTL:PT1H
BEGIN:VTIMEZONE
TZID:UTC
BEGIN:STANDARD
TZOFFSETFROM:+0000
TZOFFSETTO:+0000
TZNAME:UTC
DTSTART:20240101T000000
END:STANDARD
END:VTIMEZONE
BEGIN:VEVENT
DTSTART;VALUE=DATE:20250807
DTEND;VALUE=DATE:20250810
DTSTAMP:20260424T145824
CREATED:20250804T084718Z
LAST-MODIFIED:20250804T085021Z
UID:14503-1754524800-1754783999@villademazo.com
SUMMARY:Fiestas de Santo Domingo de Guzmán 2025
DESCRIPTION:Tigalate\, Villa de Mazo\nDel 7 al 9 de agosto de 2025\, el pueblo de Tigalate celebra con fervor y tradición sus fiestas en honor a Santo Domingo de Guzmán\, uniendo cultura\, fe y comunidad. Desde El Martín hasta El Cabrito\, el espíritu festivo recorre los barrios\, con música\, memoria y devoción. \nPROGRAMA (PDF)\nPrograma de Actividades:\nJueves 7 de agosto\n\n19:00 h – Lectura del Pregón de FiestasA cargo del Catedrático de Física de la Universidad de La Laguna y vecino de Montes de Luna\, D. Justo Roberto Pérez Cruz. Lugar: Casa de la Cultura de Tigalate.\n19:30 h – Bajada de Santo Domingo\, enrame de la Iglesia y colocación de banderas y banderolas.\n19:00 a 22:00 h – Música en la torre.\n00:00 h – Repique de campanas.\n\nViernes 8 de agosto\n\n19:00 h – Apertura del Kiosco.\n20:30 h – Eucaristía en honor a Santo Domingo de Guzmán\, oficiada por el cura párroco D. Emiliano Rodríguez García.A continuación\, procesión del Santo acompañada por la Banda del Aula Municipal de Música de Villa de Mazo y cuadro plástico.\n22:00 a 01:00 h – Verbena del Huevo con el Grupo Amapola.\n\nSábado 9 de agosto\n\n08:00 h – Repique de campanas.\n08:30 a 09:00 h – Salida de la caminata desde el Pino de Santo Domingo (Fuencaliente) a Santo Domingo de Guzmán (hermanamiento)\, con la colaboración del Proyecto Camino Viejo.\n12:00 h – Recibimiento de los peregrinos/senderistas en la Plaza de Santo Domingo de Guzmán.\n12:00 a 13:00 h – Hinchables acuáticos y cañón de espuma.\n13:00 h – Misa y procesión.\n14:30 h – Comida Popular Tradicional\, con bendición de la mesa y música en vivo con Pepe Benavente.\n15:00 h – Actuación musical con Pepe Benavente.\n16:00 h – Reconocimiento a Nuestros Mayores.\n16:30 a 17:30 h – Actuación del grupo de versadores “Punto y Clave” y decimistas invitadas.\n17:30 a 19:00 h – Verbena fin de fiesta con el Grupo Jareagua.\n\n  \n¡Viva Santo Domingo de Guzmán!
URL:https://villademazo.com/eventos/fiestas-de-santo-domingo-de-guzman-2025/
LOCATION:Tigalate\, Villa de Mazo\, Santa Cruz de Tenerife\, 38730\, Spain
CATEGORIES:Deportes,Fiestas,Música,Religioso
ATTACH;FMTTYPE=image/jpeg:https://villademazo.com/wp-content/uploads/2025/08/sto-domingo-guzman2025.jpg
END:VEVENT
BEGIN:VEVENT
DTSTART;TZID=UTC:20250809T073000
DTEND;TZID=UTC:20250809T123000
DTSTAMP:20260424T145824
CREATED:20250804T085740Z
LAST-MODIFIED:20250808T150427Z
UID:14514-1754724600-1754742600@villademazo.com
SUMMARY:APLAZADO Pino Santo Domingo de Fuencaliente – Plaza de Santo Domingo de Guzmán\, Tigalate
DESCRIPTION:APLAZADO por Riesgos Incendios Forestales. Con motivo de las fiestas en honor a Santo Domingo de Guzmán\, se organiza una caminata desde el Pino Santo Domingo de Fuencaliente hasta la Plaza de Santo Domingo de Guzmán en Tigalate-Mazo. \n\nFecha: 9 de agosto de 2025\nPunto de encuentro: Plaza de Santo Domingo de Guzmán\, Tigalate-Mazo\nHora de encuentro: 7:30 de la mañana\nDuración aproximada de la caminata: entre 3 y 4 horas\nDificultad/peligrosidad: media-baja\n\nInscripción: \n\nParticipantes federados: hasta el jueves 8 de agosto\nNo federados: hasta el miércoles 7 de agosto\nInscripciones a través del correo electrónico: mazucator@gmail.com\nTeléfono de contacto: 650 522 352\n\nOrganiza: Comunidad de Vecinos de Santo Domingo de Guzmán\, Club Deportivo Mazucator\, Proyecto Camino ViejoColaboran: Ayuntamiento de Villa de Mazo\, Cabildo de La Palma – Servicio de Deportes
URL:https://villademazo.com/eventos/pino-santo-domingo-de-fuencaliente-plaza-de-santo-domingo-de-guzman-tigalate/
LOCATION:Plaza Santo Domingo de Guzmán – Tigalate\, Plaza Santo Domingo de Guzmán\, Villa de Mazo\, Santa Cruz de Tenerife\, 38730\, Spain
CATEGORIES:Deportes
ATTACH;FMTTYPE=image/jpeg:https://villademazo.com/wp-content/uploads/2025/08/Pino-santo-domingo-aplazado.jpg
END:VEVENT
BEGIN:VEVENT
DTSTART;VALUE=DATE:20250823
DTEND;VALUE=DATE:20250824
DTSTAMP:20260424T145824
CREATED:20250812T105503Z
LAST-MODIFIED:20250818T072918Z
UID:14572-1755907200-1755993599@villademazo.com
SUMMARY:CANCELADO - Día de La Virgen de Los Dolores
DESCRIPTION:CANCELADO \nPrograma de actos:11:00 – 1ª Subida Drift en el Hoyo de Mazo.18:30 – Celebración de la Eucaristía.Procesión hasta el llano de Lodero acompañado de la Banda del Aula Municipal de Música de Villa de Mazo.19:30 – Actuación Decimista Jose Luis\, Teixe\, Nieves Clemente\, Úrsula Castro Francisco.20:00 – Presentación del Cartel del Evento Borrachito Fogatero 2025.20:15 – Degustación Paella “Comunitaria”.20:30 – Actuación: Parranda Huertaya.21:00 – Actuación de Nicol “El Tana”.
URL:https://villademazo.com/eventos/dia-de-la-virgen-de-los-dolores/
LOCATION:Hoyo de Mazo\, Villa de Mazo\, Santa Cruz de Tenerife\, 38730\, Spain
CATEGORIES:Deportes,Fiestas,Música,Religioso
ATTACH;FMTTYPE=image/jpeg:https://villademazo.com/wp-content/uploads/2025/08/cancelado-virgen-dolores.jpg
END:VEVENT
END:VCALENDAR