BEGIN:VCALENDAR
VERSION:2.0
PRODID:-//Villa de Mazo - ECPv6.15.20//NONSGML v1.0//EN
CALSCALE:GREGORIAN
METHOD:PUBLISH
X-ORIGINAL-URL:https://villademazo.com
X-WR-CALDESC:Eventos para Villa de Mazo
REFRESH-INTERVAL;VALUE=DURATION:PT1H
X-Robots-Tag:noindex
X-PUBLISHED-TTL:PT1H
BEGIN:VTIMEZONE
TZID:UTC
BEGIN:STANDARD
TZOFFSETFROM:+0000
TZOFFSETTO:+0000
TZNAME:UTC
DTSTART:20240101T000000
END:STANDARD
END:VTIMEZONE
BEGIN:VEVENT
DTSTART;VALUE=DATE:20250916
DTEND;VALUE=DATE:20251116
DTSTAMP:20260424T101622
CREATED:20250916T124129Z
LAST-MODIFIED:20250916T124129Z
UID:14996-1757980800-1763251199@villademazo.com
SUMMARY:Naturalmente Saludable – Villa de Mazo
DESCRIPTION:¡Vive la experiencia de la naturaleza en su máxima expresión! Del 16 de septiembre al 15 de noviembre\, la Villa de Mazo te invita a participar en “Naturalmente Saludable”\, un programa lleno de actividades para disfrutar al aire libre y cuidar de tu bienestar.Senderismo\, talleres en granjas\, charlas inspiradoras y el mejor sabor de los productos locales te esperan.  ¡Conecta con la naturaleza y disfruta de un estilo de vida saludable!
URL:https://villademazo.com/eventos/naturalmente-saludable-villa-de-mazo/
LOCATION:Santa Cruz de Tenerife
CATEGORIES:Deportes
ATTACH;FMTTYPE=image/jpeg:https://villademazo.com/wp-content/uploads/2025/09/naturalmente-saludable.jpg
END:VEVENT
BEGIN:VEVENT
DTSTART;VALUE=DATE:20251114
DTEND;VALUE=DATE:20251117
DTSTAMP:20260424T101622
CREATED:20251031T084220Z
LAST-MODIFIED:20251031T084220Z
UID:15365-1763078400-1763337599@villademazo.com
SUMMARY:Villa de Mazo se mueve por la salud y la diabetes
DESCRIPTION:El Ayuntamiento de Villa de Mazo\, junto a la Asociación para la Diabetes Isla Bonita\, presenta oficialmente las II Jornadas de Diabetes Isla Bonita y la III Caminata Solidaria a favor de la Diabetes\, que tendrán lugar los días 14\, 15 y 16 de noviembre en nuestro municipio. \nPrograma de actividades: \n👉 Viernes 14 de noviembre – Mañana\n📍 Frente al Centro de Salud de Villa de Mazo\nCarpa informativa sobre la diabetes\nAcércate a conocer más sobre prevención\, hábitos saludables y cuidados diarios. \n👉 Sábado 15 de noviembre – 10:00 h\n📍 Centro Cultural Andares\nII Jornadas de Diabetes Isla Bonita\nTema: “Nutrición\, salud bucodental y actividad física: tu diabetes en equilibrio.”\n🎟 Entrada libre\n📞 Información: 619 753 033 \n👉 Domingo 16 de noviembre – 11:00 h\n📍 Plaza Pedro Pérez Díaz\nIII Caminata Solidaria a favor de la Diabetes\n💶 Inscripción: 10 €\n💻 Más información e inscripciones en: info@diabetesislabonita.com \n🚶‍♀ A las 11:30 h\, se realizará un recorrido de orientación\, combinando deporte\, naturaleza y aprendizaje sobre la diabetes. \n🙏 Agradecemos especialmente la implicación del grupo de senderismo Mazukator y del Club de Orientación COP\, cuyo apoyo hace posible esta iniciativa. \n💙 Una oportunidad para concienciar\, compartir y promover hábitos de vida saludables en nuestra comunidad.
URL:https://villademazo.com/eventos/villa-de-mazo-se-mueve-por-la-salud-y-la-diabetes/
LOCATION:Santa Cruz de Tenerife
CATEGORIES:Deportes
ATTACH;FMTTYPE=image/jpeg:https://villademazo.com/wp-content/uploads/2025/10/jornada-diabetes.jpg
END:VEVENT
END:VCALENDAR