BEGIN:VCALENDAR
VERSION:2.0
PRODID:-//Villa de Mazo - ECPv6.15.20//NONSGML v1.0//EN
CALSCALE:GREGORIAN
METHOD:PUBLISH
X-WR-CALNAME:Villa de Mazo
X-ORIGINAL-URL:https://villademazo.com
X-WR-CALDESC:Eventos para Villa de Mazo
REFRESH-INTERVAL;VALUE=DURATION:PT1H
X-Robots-Tag:noindex
X-PUBLISHED-TTL:PT1H
BEGIN:VTIMEZONE
TZID:UTC
BEGIN:STANDARD
TZOFFSETFROM:+0000
TZOFFSETTO:+0000
TZNAME:UTC
DTSTART:20230101T000000
END:STANDARD
END:VTIMEZONE
BEGIN:VEVENT
DTSTART;TZID=UTC:20241214T190000
DTEND;TZID=UTC:20241214T200000
DTSTAMP:20260424T221200
CREATED:20241204T125844Z
LAST-MODIFIED:20241204T125844Z
UID:13210-1734202800-1734206400@villademazo.com
SUMMARY:El duende de la Navidad
DESCRIPTION:Festival “El duende de la Navidad” a cargo del Coro Infantil y Juvenil Villa de Mazo\, bajo la dirección de María Melero\, en el Centro de la Cultura Andares.
URL:https://villademazo.com/eventos/el-duende-de-la-navidad/
LOCATION:Centro de la cultura Andares\, Ctra. Dr. Morera Bravo\, 2\, El Pueblo\, Villa de Mazo\, Santa Cruz de Tenerife\, 38730\, España
CATEGORIES:Festival
ATTACH;FMTTYPE=image/jpeg:https://villademazo.com/wp-content/uploads/2024/12/duende-navidad.jpg
END:VEVENT
BEGIN:VEVENT
DTSTART;TZID=UTC:20241217T200000
DTEND;TZID=UTC:20241217T210000
DTSTAMP:20260424T221200
CREATED:20241204T125511Z
LAST-MODIFIED:20241216T145309Z
UID:13206-1734465600-1734469200@villademazo.com
SUMMARY:Creador de Sueños: Conexión
DESCRIPTION:Festival de Magia\, “Creador de Sueños: Conexión” a cargo de David de la Torre\, participante de Got Talent.
URL:https://villademazo.com/eventos/creador-de-suenos-conexion/
LOCATION:Centro de la cultura Andares\, Ctra. Dr. Morera Bravo\, 2\, El Pueblo\, Villa de Mazo\, Santa Cruz de Tenerife\, 38730\, España
CATEGORIES:Festival
ATTACH;FMTTYPE=image/jpeg:https://villademazo.com/wp-content/uploads/2024/12/creador-de-sueno.jpg
END:VEVENT
END:VCALENDAR