BEGIN:VCALENDAR
VERSION:2.0
PRODID:-//Villa de Mazo - ECPv6.15.20//NONSGML v1.0//EN
CALSCALE:GREGORIAN
METHOD:PUBLISH
X-ORIGINAL-URL:https://villademazo.com
X-WR-CALDESC:Eventos para Villa de Mazo
REFRESH-INTERVAL;VALUE=DURATION:PT1H
X-Robots-Tag:noindex
X-PUBLISHED-TTL:PT1H
BEGIN:VTIMEZONE
TZID:UTC
BEGIN:STANDARD
TZOFFSETFROM:+0000
TZOFFSETTO:+0000
TZNAME:UTC
DTSTART:20240101T000000
END:STANDARD
END:VTIMEZONE
BEGIN:VEVENT
DTSTART;TZID=UTC:20251031T110000
DTEND;TZID=UTC:20251101T200000
DTSTAMP:20260422T143308
CREATED:20251014T110335Z
LAST-MODIFIED:20251014T111808Z
UID:15239-1761908400-1762027200@villademazo.com
SUMMARY:La Palma Winter-Con
DESCRIPTION:  \nEste año Villa de Mazo será el punto de encuentro de la cultura\, la creatividad y la innovación en su primera edición\, un evento que nace inspirado en La Palma Summer-Con\, pero en un formato más cercano y adaptado a las zonas más rurales.\nEl evento tendrá lugar en el Pabellón David Jiménez Silva los días 31 de octubre y 1 de noviembre y está orientado a edades a partir de 12 años\, en horario de 11.00 a 20.00h y con entrada gratuita. \nPuede verse la programación en la web https://wintercon.es/ en el apartado de La Palma Winter-Con. \nOrganiza: El time eventos y Nakatomi
URL:https://villademazo.com/eventos/la-palma-winter-con/
LOCATION:Pabellón Deportivo David Jiménez Silva\, Villa de Mazo\, Santa Cruz de Tenerife\, 38730\, España
CATEGORIES:Festival
ATTACH;FMTTYPE=image/jpeg:https://villademazo.com/wp-content/uploads/2025/10/lapalmawintercon-1.jpg
END:VEVENT
END:VCALENDAR