BEGIN:VCALENDAR
VERSION:2.0
PRODID:-//Villa de Mazo - ECPv6.15.20//NONSGML v1.0//EN
CALSCALE:GREGORIAN
METHOD:PUBLISH
X-ORIGINAL-URL:https://villademazo.com
X-WR-CALDESC:Eventos para Villa de Mazo
REFRESH-INTERVAL;VALUE=DURATION:PT1H
X-Robots-Tag:noindex
X-PUBLISHED-TTL:PT1H
BEGIN:VTIMEZONE
TZID:UTC
BEGIN:STANDARD
TZOFFSETFROM:+0000
TZOFFSETTO:+0000
TZNAME:UTC
DTSTART:20230101T000000
END:STANDARD
END:VTIMEZONE
BEGIN:VEVENT
DTSTART;VALUE=DATE:20241002
DTEND;VALUE=DATE:20241007
DTSTAMP:20260425T022000
CREATED:20240904T074932Z
LAST-MODIFIED:20241002T072136Z
UID:12461-1727827200-1728259199@villademazo.com
SUMMARY:Programa de Fiesta Ntra. Sra. de Los Dolores
DESCRIPTION:Las Fiestas de Nuestra Señora de Los Dolores se celebrarán del 2 al 6 de octubre en la encantadora Villa de Mazo. Este evento anual promete una variada programación que atraerá a visitantes de todas las edades. Entre las actividades destacadas se encuentran el Torneo de Rey Mala y Parchís\, que ofrecerá momentos de diversión y competencia amistosa. Los más pequeños disfrutarán del Pasacalles de cabezudos infantil\, una colorida y alegre tradición. \nLa Noche de Humor será un espacio para la risa y el entretenimiento\, mientras que la MásterClass de Zumba invitará a todos a moverse al ritmo de la música. Los jóvenes artistas podrán participar en el Concurso de dibujos\, y la Yincana ofrecerá desafíos emocionantes para los participantes. Además\, habrá una Exposición de coches clásicos y una competición que deleitará a los amantes del motor. \nLa Celebración solemne de la Eucaristía será un momento de reflexión y espiritualidad. La Verbena Popular y el “Pasacalles y baile del BORRACHITO FOGATERO” animarán las noches festivas. También se llevará a cabo una Competición de Scalextric\, una Fiesta Infantil\, y un Concurso de postres y vinos. Para cerrar con broche de oro\, el Grupo Son del Tilo ofrecerá una actuación en vivo\, y se celebrará el 1º Encuentro de Polkistas Canarios\, haciendo de esta fiesta una experiencia inolvidable. ¡No te lo pierdas! \n DESCARGAR PROGRAMA DE FIESTAS
URL:https://villademazo.com/eventos/programa-de-fiesta-ntra-sra-de-los-dolores/
LOCATION:Plaza Hoyo de Mazo\, C. Molinos de Viento\, Villa de Mazo\, Santa Cruz de Tenerife\, 38730\, Spain
CATEGORIES:Fiestas
ATTACH;FMTTYPE=image/jpeg:https://villademazo.com/wp-content/uploads/2024/09/borrachito-fogatero2024.jpg
END:VEVENT
BEGIN:VEVENT
DTSTART;VALUE=DATE:20241003
DTEND;VALUE=DATE:20241006
DTSTAMP:20260425T022000
CREATED:20241006T205017Z
LAST-MODIFIED:20241003T205720Z
UID:12697-1727913600-1728172799@villademazo.com
SUMMARY:Programa de Fiesta Ntra. Sra. de Los Dolores
DESCRIPTION:Las Fiestas de Nuestra Señora de Los Dolores se celebrarán del 2 al 6 de octubre en la encantadora Villa de Mazo. Este evento anual promete una variada programación que atraerá a visitantes de todas las edades. Entre las actividades destacadas se encuentran el Torneo de Rey Mala y Parchís\, que ofrecerá momentos de diversión y competencia amistosa. Los más pequeños disfrutarán del Pasacalles de cabezudos infantil\, una colorida y alegre tradición. \nLa Noche de Humor será un espacio para la risa y el entretenimiento\, mientras que la MásterClass de Zumba invitará a todos a moverse al ritmo de la música. Los jóvenes artistas podrán participar en el Concurso de dibujos\, y la Yincana ofrecerá desafíos emocionantes para los participantes. Además\, habrá una Exposición de coches clásicos y una competición que deleitará a los amantes del motor. \nLa Celebración solemne de la Eucaristía será un momento de reflexión y espiritualidad. La Verbena Popular y el “Pasacalles y baile del BORRACHITO FOGATERO” animarán las noches festivas. También se llevará a cabo una Competición de Scalextric\, una Fiesta Infantil\, y un Concurso de postres y vinos. Para cerrar con broche de oro\, el Grupo Son del Tilo ofrecerá una actuación en vivo\, y se celebrará el 1º Encuentro de Polkistas Canarios\, haciendo de esta fiesta una experiencia inolvidable. ¡No te lo pierdas! \n DESCARGAR PROGRAMA DE FIESTAS
URL:https://villademazo.com/eventos/programa-de-fiesta-ntra-sra-de-los-dolores-4/
LOCATION:Plaza Hoyo de Mazo\, C. Molinos de Viento\, Villa de Mazo\, Santa Cruz de Tenerife\, 38730\, Spain
CATEGORIES:Fiestas
ATTACH;FMTTYPE=image/jpeg:https://villademazo.com/wp-content/uploads/2024/09/borrachito-fogatero2024.jpg
END:VEVENT
BEGIN:VEVENT
DTSTART;VALUE=DATE:20241004
DTEND;VALUE=DATE:20241006
DTSTAMP:20260425T022000
CREATED:20241003T204726Z
LAST-MODIFIED:20241003T205926Z
UID:12693-1728000000-1728172799@villademazo.com
SUMMARY:Programa de Fiesta Ntra. Sra. de Los Dolores
DESCRIPTION:Las Fiestas de Nuestra Señora de Los Dolores se celebrarán del 2 al 6 de octubre en la encantadora Villa de Mazo. Este evento anual promete una variada programación que atraerá a visitantes de todas las edades. Entre las actividades destacadas se encuentran el Torneo de Rey Mala y Parchís\, que ofrecerá momentos de diversión y competencia amistosa. Los más pequeños disfrutarán del Pasacalles de cabezudos infantil\, una colorida y alegre tradición. \nLa Noche de Humor será un espacio para la risa y el entretenimiento\, mientras que la MásterClass de Zumba invitará a todos a moverse al ritmo de la música. Los jóvenes artistas podrán participar en el Concurso de dibujos\, y la Yincana ofrecerá desafíos emocionantes para los participantes. Además\, habrá una Exposición de coches clásicos y una competición que deleitará a los amantes del motor. \nLa Celebración solemne de la Eucaristía será un momento de reflexión y espiritualidad. La Verbena Popular y el “Pasacalles y baile del BORRACHITO FOGATERO” animarán las noches festivas. También se llevará a cabo una Competición de Scalextric\, una Fiesta Infantil\, y un Concurso de postres y vinos. Para cerrar con broche de oro\, el Grupo Son del Tilo ofrecerá una actuación en vivo\, y se celebrará el 1º Encuentro de Polkistas Canarios\, haciendo de esta fiesta una experiencia inolvidable. ¡No te lo pierdas! \n DESCARGAR PROGRAMA DE FIESTAS
URL:https://villademazo.com/eventos/programa-de-fiesta-ntra-sra-de-los-dolores-2/
LOCATION:Plaza Hoyo de Mazo\, C. Molinos de Viento\, Villa de Mazo\, Santa Cruz de Tenerife\, 38730\, Spain
CATEGORIES:Fiestas
ATTACH;FMTTYPE=image/jpeg:https://villademazo.com/wp-content/uploads/2024/09/borrachito-fogatero2024.jpg
END:VEVENT
BEGIN:VEVENT
DTSTART;VALUE=DATE:20241005
DTEND;VALUE=DATE:20241006
DTSTAMP:20260425T022000
CREATED:20241003T204934Z
LAST-MODIFIED:20241003T205850Z
UID:12695-1728086400-1728172799@villademazo.com
SUMMARY:Programa de Fiesta Ntra. Sra. de Los Dolores
DESCRIPTION:Las Fiestas de Nuestra Señora de Los Dolores se celebrarán del 2 al 6 de octubre en la encantadora Villa de Mazo. Este evento anual promete una variada programación que atraerá a visitantes de todas las edades. Entre las actividades destacadas se encuentran el Torneo de Rey Mala y Parchís\, que ofrecerá momentos de diversión y competencia amistosa. Los más pequeños disfrutarán del Pasacalles de cabezudos infantil\, una colorida y alegre tradición. \nLa Noche de Humor será un espacio para la risa y el entretenimiento\, mientras que la MásterClass de Zumba invitará a todos a moverse al ritmo de la música. Los jóvenes artistas podrán participar en el Concurso de dibujos\, y la Yincana ofrecerá desafíos emocionantes para los participantes. Además\, habrá una Exposición de coches clásicos y una competición que deleitará a los amantes del motor. \nLa Celebración solemne de la Eucaristía será un momento de reflexión y espiritualidad. La Verbena Popular y el “Pasacalles y baile del BORRACHITO FOGATERO” animarán las noches festivas. También se llevará a cabo una Competición de Scalextric\, una Fiesta Infantil\, y un Concurso de postres y vinos. Para cerrar con broche de oro\, el Grupo Son del Tilo ofrecerá una actuación en vivo\, y se celebrará el 1º Encuentro de Polkistas Canarios\, haciendo de esta fiesta una experiencia inolvidable. ¡No te lo pierdas! \n DESCARGAR PROGRAMA DE FIESTAS
URL:https://villademazo.com/eventos/programa-de-fiesta-ntra-sra-de-los-dolores-3/
LOCATION:Plaza Hoyo de Mazo\, C. Molinos de Viento\, Villa de Mazo\, Santa Cruz de Tenerife\, 38730\, Spain
CATEGORIES:Fiestas
ATTACH;FMTTYPE=image/jpeg:https://villademazo.com/wp-content/uploads/2024/09/borrachito-fogatero2024.jpg
END:VEVENT
BEGIN:VEVENT
DTSTART;TZID=UTC:20241005T030000
DTEND;TZID=UTC:20241006T050000
DTSTAMP:20260425T022000
CREATED:20240910T074308Z
LAST-MODIFIED:20241002T070536Z
UID:12485-1728097200-1728190800@villademazo.com
SUMMARY:Borrachito Fogatero
DESCRIPTION:La Verbena Popular y el «Pasacalles y baile del BORRACHITO FOGATERO amenizada por la orquesta Tropicana’s
URL:https://villademazo.com/eventos/borrachito-fogatero/
LOCATION:Santa Rosalía\, Santa Rosaliía\, Villa de Mazo\, Santa Cruz de La Palma\, 38730\, España
CATEGORIES:Fiestas
ATTACH;FMTTYPE=image/jpeg:https://villademazo.com/wp-content/uploads/2024/09/borrachito-fogatero2024.jpg
END:VEVENT
END:VCALENDAR