BEGIN:VCALENDAR
VERSION:2.0
PRODID:-//Villa de Mazo - ECPv6.15.20//NONSGML v1.0//EN
CALSCALE:GREGORIAN
METHOD:PUBLISH
X-ORIGINAL-URL:https://villademazo.com
X-WR-CALDESC:Eventos para Villa de Mazo
REFRESH-INTERVAL;VALUE=DURATION:PT1H
X-Robots-Tag:noindex
X-PUBLISHED-TTL:PT1H
BEGIN:VTIMEZONE
TZID:UTC
BEGIN:STANDARD
TZOFFSETFROM:+0000
TZOFFSETTO:+0000
TZNAME:UTC
DTSTART:20230101T000000
END:STANDARD
END:VTIMEZONE
BEGIN:VEVENT
DTSTART;TZID=UTC:20241209T000000
DTEND;TZID=UTC:20250103T233000
DTSTAMP:20260424T224701
CREATED:20241216T141403Z
LAST-MODIFIED:20241216T141403Z
UID:13256-1733702400-1735947000@villademazo.com
SUMMARY:Campaña Comercial de Navidad 2024-2025
DESCRIPTION:La Campaña Comercial de Navidad 2024-2025 se desarrollará entre el 9 de diciembre de 2024 y el 3 de enero de 2025\, periodo en el que se repartirán 14.000 boletos rasca y participa\, con premios de 20\, 100 y 200 euros en bonos canjeables en los establecimientos adheridos. Podrán participar tanto los comercios y servicios locales como sus clientes\, siempre que se ajusten a las condiciones recogidas en las bases disponibles en la sede electrónica del Ayuntamiento (www.villademazo.sedeelectronica.es ).
URL:https://villademazo.com/eventos/campana-comercial-de-navidad-2024-2025/
LOCATION:Santa Cruz de Tenerife
CATEGORIES:Fiestas
ATTACH;FMTTYPE=image/jpeg:https://villademazo.com/wp-content/uploads/2024/12/villademazo-navidad.jpg
END:VEVENT
BEGIN:VEVENT
DTSTART;TZID=UTC:20241226T160000
DTEND;TZID=UTC:20241226T210000
DTSTAMP:20260424T224701
CREATED:20241218T084801Z
LAST-MODIFIED:20241218T084917Z
UID:13267-1735228800-1735246800@villademazo.com
SUMMARY:I Torneo Mazo Playfest
DESCRIPTION:¡Prepárate para una tarde de Videojuegos. Al acabar disfruta de la mejor música con Dj Equis\n\n\n Llega el I Torneo Mazo Playfest!\n\n\n¡La competencia está por comenzar y tú puedes ser parte de ella!\n\n\nModalidades del torneo:\n\n Torneo FIFA\n Torneo NBA\n Torneo JUST DANCE\n\n\n\n26 de diciembre de 2024\nCentro Cultural Andares\nA partir de las 16.00 h.\n\n¡Inscríbete ya y demuestra tus habilidades en estos emocionantes torneos! No importa si eres un jugador experimentado o un principiante\, lo importante es ¡divertirse y competir!\n\n\n Enlace de inscripción: https://acortar.link/odigXM\n\n\n¡Te esperamos para vivir la emoción del gaming y mucho más!\n\n\n\nI Torneo Mazo Playfest\nI Torneo Mazo Playfest
URL:https://villademazo.com/eventos/i-torneo-mazo-playfest/
LOCATION:Centro de la cultura Andares\, Ctra. Dr. Morera Bravo\, 2\, El Pueblo\, Villa de Mazo\, Santa Cruz de Tenerife\, 38730\, España
CATEGORIES:Fiestas,Música
ATTACH;FMTTYPE=image/jpeg:https://villademazo.com/wp-content/uploads/2024/12/videojuegos-villademazo.jpg
END:VEVENT
END:VCALENDAR