BEGIN:VCALENDAR
VERSION:2.0
PRODID:-//Villa de Mazo - ECPv6.15.20//NONSGML v1.0//EN
CALSCALE:GREGORIAN
METHOD:PUBLISH
X-WR-CALNAME:Villa de Mazo
X-ORIGINAL-URL:https://villademazo.com
X-WR-CALDESC:Eventos para Villa de Mazo
REFRESH-INTERVAL;VALUE=DURATION:PT1H
X-Robots-Tag:noindex
X-PUBLISHED-TTL:PT1H
BEGIN:VTIMEZONE
TZID:UTC
BEGIN:STANDARD
TZOFFSETFROM:+0000
TZOFFSETTO:+0000
TZNAME:UTC
DTSTART:20240101T000000
END:STANDARD
END:VTIMEZONE
BEGIN:VEVENT
DTSTART;VALUE=DATE:20250424
DTEND;VALUE=DATE:20250428
DTSTAMP:20260424T155958
CREATED:20250404T081156Z
LAST-MODIFIED:20250404T140009Z
UID:13690-1745452800-1745798399@villademazo.com
SUMMARY:Fiestas de la Cruz del Palo Podrido – Montes de Luna
DESCRIPTION:Organizan: \n\nAsociación de Vecinos de Montes de Luna\nAyuntamiento de Villa de Mazo\nPatrocinado por el Cabildo de La Palma\n\nHistoria de la Fiesta:La Cruz del Palo Podrido\, ubicada en el Camino de Tira (Montes de Luna)\, recibe su nombre por ser un punto donde antiguamente se descargaban cargas de madera que se iban pudriendo. La cruz se restauró en 1981 gracias a un emigrante local\, y se celebraron fiestas hasta los años 90. En 2023\, David Pérez\, vecino del barrio\, impulsó su recuperación con apoyo comunitario. \n🗓 Programa de Actos \n(Descargar programa pdf) \nJueves 24 de abril\n\n18:30 h: Misa en honor a la Cruz del Palo Podrido amenizada por el Coro Parroquial de Villa de mazo\, en la Plaza del Palo Podrido.\n\nViernes 25 de abril\n\n18:00 h: III Edición del Cross Montes de Luna.\n19:45 h: Entrega de trofeos del III Cross Montes de Luna.\n20:00 h: Festival Popular presentado por el periodista Pedro Montesinos en la cancha del CEIP Montes de Luna\, con la participación del joven cantante Mario Farelo\, participante de varios programas de televisión\, de entre ellos La Voz Kids (Antena 3) y Noche de Taifas (Televisión Canaria); el humorista Ayoze Pérez y el Aula de Folclore del Mayor de Villa de Mazo.\n22:00 h: “Party Night Montes de Luna” con las actuaciones del Grupo Amapola y DJ Tenax.\n\nSábado 26 de abril\n\n17:00 h: Romería Típica desde el entorno de La Cruz con recorrido por el Camino del Palo Podrido y llegada al CEIP Montes de Luna\, acompañada por las parradas El Trapiche\, Huartaya y El Lagar. Al finalizar la romería se dará un reconocimiento a las carrozas participantes.\n20:00 h: Baile de Magos amenizado por el gupos musicales Jareagua\, Acuatro y Saoco\, en la cancha del CEIP Montes de Luna.\n\nDomingo 27 de abril \n\n11:00 h: Diversión con Juegos populares.\n11:30 h: Hinchables a cargo de la empresa de Animación y Espectáculos Tabayzú.\n13:30 h: Reparto de paella amenizado por el grupo musical con Susurros del Valle\, en la cancha del CEIP Montes de Luna.\n15:00 h: Baile de fin de fiestas amenizado por Zebensui Melián. También se realizará el tradicional Baile de la Escoba con premio a la pareja ganadora\, en la cancha del CEIP Montes de Luna.\n\n  \nLa comisión organizadora se reserva el derecho de modificar o suspender actos.
URL:https://villademazo.com/eventos/fiestas-de-la-cruz-del-palo-podrido-montes-de-luna/
LOCATION:Montes de Luna\, Villa de Mazo\, Santa Cruz de Tenerife\, 38730\, Spain
CATEGORIES:Deportes,Fiestas,Gastronomia,Música,Religioso
ATTACH;FMTTYPE=image/jpeg:https://villademazo.com/wp-content/uploads/2025/04/portada-cruz-palo-podrido-1.jpg
END:VEVENT
BEGIN:VEVENT
DTSTART;VALUE=DATE:20250425
DTEND;VALUE=DATE:20250428
DTSTAMP:20260424T155958
CREATED:20250404T082219Z
LAST-MODIFIED:20250404T140026Z
UID:13699-1745539200-1745798399@villademazo.com
SUMMARY:Fiestas de la Cruz del Palo Podrido – Montes de Luna
DESCRIPTION:Organizan: \n\nAsociación de Vecinos de Montes de Luna\nAyuntamiento de Villa de Mazo\nPatrocinado por el Cabildo de La Palma\n\nHistoria de la Fiesta:La Cruz del Palo Podrido\, ubicada en el Camino de Tira (Montes de Luna)\, recibe su nombre por ser un punto donde antiguamente se descargaban cargas de madera que se iban pudriendo. La cruz se restauró en 1981 gracias a un emigrante local\, y se celebraron fiestas hasta los años 90. En 2023\, David Pérez\, vecino del barrio\, impulsó su recuperación con apoyo comunitario. \n🗓 Programa de Actos \n(Descargar programa pdf) \nViernes 25 de abril\n\n18:00 h: III Edición del Cross Montes de Luna.\n19:45 h: Entrega de trofeos del III Cross Montes de Luna.\n20:00 h: Festival Popular presentado por el periodista Pedro Montesinos en la cancha del CEIP Montes de Luna\, con la participación del joven cantante Mario Farelo\, participante de varios programas de televisión\, de entre ellos La Voz Kids (Antena 3) y Noche de Taifas (Televisión Canaria); el humorista Ayoze Pérez y el Aula de Folclore del Mayor de Villa de Mazo.\n22:00 h: “Party Night Montes de Luna” con las actuaciones del Grupo Amapola y DJ Tenax.\n\nSábado 26 de abril\n\n17:00 h: Romería Típica desde el entorno de La Cruz con recorrido por el Camino del Palo Podrido y llegada al CEIP Montes de Luna\, acompañada por las parradas El Trapiche\, Huartaya y El Lagar. Al finalizar la romería se dará un reconocimiento a las carrozas participantes.\n20:00 h: Baile de Magos amenizado por el gupos musicales Jareagua\, Acuatro y Saoco\, en la cancha del CEIP Montes de Luna.\n\nDomingo 27 de abril \n\n11:00 h: Diversión con Juegos populares.\n11:30 h: Hinchables a cargo de la empresa de Animación y Espectáculos Tabayzú.\n13:30 h: Reparto de paella amenizado por el grupo musical con Susurros del Valle\, en la cancha del CEIP Montes de Luna.\n15:00 h: Baile de fin de fiestas amenizado por Zebensui Melián. También se realizará el tradicional Baile de la Escoba con premio a la pareja ganadora\, en la cancha del CEIP Montes de Luna.\n\n  \nLa comisión organizadora se reserva el derecho de modificar o suspender actos.
URL:https://villademazo.com/eventos/fiestas-de-la-cruz-del-palo-podrido-montes-de-luna-2/
LOCATION:Montes de Luna\, Villa de Mazo\, Santa Cruz de Tenerife\, 38730\, Spain
CATEGORIES:Deportes,Fiestas,Gastronomia,Música
ATTACH;FMTTYPE=image/jpeg:https://villademazo.com/wp-content/uploads/2025/04/portada-cruz-palo-podrido-1.jpg
END:VEVENT
BEGIN:VEVENT
DTSTART;VALUE=DATE:20250426
DTEND;VALUE=DATE:20250428
DTSTAMP:20260424T155958
CREATED:20250404T082341Z
LAST-MODIFIED:20250404T140044Z
UID:13701-1745625600-1745798399@villademazo.com
SUMMARY:Fiestas de la Cruz del Palo Podrido – Montes de Luna
DESCRIPTION:Organizan: \n\nAsociación de Vecinos de Montes de Luna\nAyuntamiento de Villa de Mazo\nPatrocinado por el Cabildo de La Palma\n\nHistoria de la Fiesta:La Cruz del Palo Podrido\, ubicada en el Camino de Tira (Montes de Luna)\, recibe su nombre por ser un punto donde antiguamente se descargaban cargas de madera que se iban pudriendo. La cruz se restauró en 1981 gracias a un emigrante local\, y se celebraron fiestas hasta los años 90. En 2023\, David Pérez\, vecino del barrio\, impulsó su recuperación con apoyo comunitario. \n🗓 Programa de Actos \n(Descargar programa pdf) \nSábado 26 de abril \n\n17:00 h: Romería Típica desde el entorno de La Cruz con recorrido por el Camino del Palo Podrido y llegada al CEIP Montes de Luna\, acompañada por las parradas El Trapiche\, Huartaya y El Lagar. Al finalizar la romería se dará un reconocimiento a las carrozas participantes.\n20:00 h: Baile de Magos amenizado por el gupos musicales Jareagua\, Acuatro y Saoco\, en la cancha del CEIP Montes de Luna.\n\nDomingo 27 de abril \n\n11:00 h: Diversión con Juegos populares.\n11:30 h: Hinchables a cargo de la empresa de Animación y Espectáculos Tabayzú.\n13:30 h: Reparto de paella amenizado por el grupo musical con Susurros del Valle\, en la cancha del CEIP Montes de Luna.\n15:00 h: Baile de fin de fiestas amenizado por Zebensui Melián. También se realizará el tradicional Baile de la Escoba con premio a la pareja ganadora\, en la cancha del CEIP Montes de Luna.\n\n  \nLa comisión organizadora se reserva el derecho de modificar o suspender actos.
URL:https://villademazo.com/eventos/fiestas-de-la-cruz-del-palo-podrido-montes-de-luna-3/
LOCATION:Montes de Luna\, Villa de Mazo\, Santa Cruz de Tenerife\, 38730\, Spain
CATEGORIES:Deportes,Fiestas,Gastronomia,Música
ATTACH;FMTTYPE=image/jpeg:https://villademazo.com/wp-content/uploads/2025/04/portada-cruz-palo-podrido-1.jpg
END:VEVENT
BEGIN:VEVENT
DTSTART;VALUE=DATE:20250427
DTEND;VALUE=DATE:20250428
DTSTAMP:20260424T155958
CREATED:20250404T084610Z
LAST-MODIFIED:20250404T140100Z
UID:13703-1745712000-1745798399@villademazo.com
SUMMARY:Fiestas de la Cruz del Palo Podrido – Montes de Luna
DESCRIPTION:Organizan: \n\nAsociación de Vecinos de Montes de Luna\nAyuntamiento de Villa de Mazo\nPatrocinado por el Cabildo de La Palma\n\nHistoria de la Fiesta:La Cruz del Palo Podrido\, ubicada en el Camino de Tira (Montes de Luna)\, recibe su nombre por ser un punto donde antiguamente se descargaban cargas de madera que se iban pudriendo. La cruz se restauró en 1981 gracias a un emigrante local\, y se celebraron fiestas hasta los años 90. En 2023\, David Pérez\, vecino del barrio\, impulsó su recuperación con apoyo comunitario. \n🗓 Programa de Actos \n(Descargar programa pdf) \nDomingo 27 de abril \n\n11:00 h: Diversión con Juegos populares.\n11:30 h: Hinchables a cargo de la empresa de Animación y Espectáculos Tabayzú.\n13:30 h: Reparto de paella amenizado por el grupo musical con Susurros del Valle\, en la cancha del CEIP Montes de Luna.\n15:00 h: Baile de fin de fiestas amenizado por Zebensui Melián. También se realizará el tradicional Baile de la Escoba con premio a la pareja ganadora\, en la cancha del CEIP Montes de Luna.\n\n  \nLa comisión organizadora se reserva el derecho de modificar o suspender actos.
URL:https://villademazo.com/eventos/fiestas-de-la-cruz-del-palo-podrido-montes-de-luna-4/
LOCATION:Montes de Luna\, Villa de Mazo\, Santa Cruz de Tenerife\, 38730\, Spain
CATEGORIES:Deportes,Fiestas,Gastronomia,Música
ATTACH;FMTTYPE=image/jpeg:https://villademazo.com/wp-content/uploads/2025/04/portada-cruz-palo-podrido-1.jpg
END:VEVENT
END:VCALENDAR