BEGIN:VCALENDAR
VERSION:2.0
PRODID:-//Villa de Mazo - ECPv6.15.20//NONSGML v1.0//EN
CALSCALE:GREGORIAN
METHOD:PUBLISH
X-ORIGINAL-URL:https://villademazo.com
X-WR-CALDESC:Eventos para Villa de Mazo
REFRESH-INTERVAL;VALUE=DURATION:PT1H
X-Robots-Tag:noindex
X-PUBLISHED-TTL:PT1H
BEGIN:VTIMEZONE
TZID:UTC
BEGIN:STANDARD
TZOFFSETFROM:+0000
TZOFFSETTO:+0000
TZNAME:UTC
DTSTART:20240101T000000
END:STANDARD
END:VTIMEZONE
BEGIN:VEVENT
DTSTART;TZID=UTC:20250530T100000
DTEND;TZID=UTC:20250530T130000
DTSTAMP:20260424T140219
CREATED:20250523T091554Z
LAST-MODIFIED:20250523T091620Z
UID:14059-1748599200-1748610000@villademazo.com
SUMMARY:Un camino que nos une" – Celebración del Día de Canarias
DESCRIPTION:Lugar: Villa de Mazo\, La Palma📅 Fecha: 30 de mayo de 2025🕙 Hora de inicio: 10:00 h🚶‍♂️ Actividad: Ruta Cultural (dificultad baja – 2\,7 km) desde el Área recreativa de Montaña La Breña hasta la Cruz del Poleal\, con historias y anécdotas del Camino Viejo.🫱 Al llegar: Encuentro con el “Mulo” y caminata hasta la Cancela de San Jacinto.🙏 12:00 h: Bendición en la Cancela de San Jacinto.🍷 Después: Degustación de productos típicos y vino del país. \n📞 Más información: WhatsApp al 695 203 485🌐 www.villademazo.es \n¡Ven a compartir un Día de Canarias diferente!
URL:https://villademazo.com/eventos/un-camino-que-nos-une-celebracion-del-dia-de-canarias/
LOCATION:Santa Cruz de Tenerife
CATEGORIES:Cultura,Fiestas
ATTACH;FMTTYPE=image/jpeg:https://villademazo.com/wp-content/uploads/2025/05/un-camino-que-nos-une.jpg
END:VEVENT
BEGIN:VEVENT
DTSTART;TZID=UTC:20250531T100000
DTEND;TZID=UTC:20250531T140000
DTSTAMP:20260424T140219
CREATED:20250530T072520Z
LAST-MODIFIED:20250530T072749Z
UID:14111-1748685600-1748700000@villademazo.com
SUMMARY:Mercadillo Municipal - 31 de mayo Día Canarias
DESCRIPTION:¡Ven a celebrar con nosotros el Día de Canarias en el Mercadillo Municipal este sábado\, 31 de mayo! \n🕙 A partir de las 10:00 h disfruta de la actuación en vivo del Grupo Trébol.🥔 Además\, podrás degustar nuestras tradicionales papas arrugadas con mojo y el delicioso queso palmero. \n📍 Organizado por el Ayuntamiento de Villa de Mazo. \n¡Te esperamos para compartir nuestras tradiciones y sabores canarios!
URL:https://villademazo.com/eventos/mercadillo-municipal-dia-canarias/
LOCATION:Mercadillo de Villa de Mazo\, Calle Enlace Doctor Morera Bravo (El Pueblo)\, Villa de Mazo\,\, Santa Cruz de Tenerife\, 38730
CATEGORIES:Fiestas
ATTACH;FMTTYPE=image/jpeg:https://villademazo.com/wp-content/uploads/2025/05/mercadillo-dia-canarias.jpeg
END:VEVENT
END:VCALENDAR