BEGIN:VCALENDAR
VERSION:2.0
PRODID:-//Villa de Mazo - ECPv6.15.20//NONSGML v1.0//EN
CALSCALE:GREGORIAN
METHOD:PUBLISH
X-ORIGINAL-URL:https://villademazo.com
X-WR-CALDESC:Eventos para Villa de Mazo
REFRESH-INTERVAL;VALUE=DURATION:PT1H
X-Robots-Tag:noindex
X-PUBLISHED-TTL:PT1H
BEGIN:VTIMEZONE
TZID:UTC
BEGIN:STANDARD
TZOFFSETFROM:+0000
TZOFFSETTO:+0000
TZNAME:UTC
DTSTART:20240101T000000
END:STANDARD
END:VTIMEZONE
BEGIN:VEVENT
DTSTART;VALUE=DATE:20250901
DTEND;VALUE=DATE:20250908
DTSTAMP:20260422T193941
CREATED:20250818T075801Z
LAST-MODIFIED:20250818T075801Z
UID:14627-1756684800-1757289599@villademazo.com
SUMMARY:Fiestas del Carmen La Bajita
DESCRIPTION:Villa de Mazo\, del 1 al 7 de septiembre de 2025 \nLas tradicionales Fiestas del Carmen en La Bajita (Programa) llegan cargadas de actividades para todas las edades\, desde juegos populares hasta verbenas y el esperado embarque de la Virgen. \nPrograma de actividades: \n\n\n1\, 2 y 3 de septiembreJuegos y campeonatos: Envite\, Rey Mala\, Parchís y Dominó. \n\n\n4 de septiembre: Finales de los campeonatos. \n\n\n\n\nViernes 5 de septiembre \n\n\n20:00 h.: Festival Infantil. \n\n\n21:30 h.: Concurso de Tocados (infantil y adultos). \n\n\nA partir de las 21:30 h.: Actuación de los grupos Amapola y Siempre Ellas. \n\n\n\n\nSábado 6 de septiembre \n\n\n10:00 a 13:00 h.: Ruta histórico teatral. \n\n\n18:00 h.: Gincana en parejas en el Varadero de La Bajita. \n\n\nA partir de las 22:00 h.: Gran verbena con las orquestas Tropicana’s\, Acuatro y T3NAX. \n\n\n\n\nDomingo 7 de septiembre \n\n\n18:00 h.: Misa. \n\n\n18:30 h.: Embarque de la Virgen del Carmen. \n\n\n\n\n 
URL:https://villademazo.com/eventos/fiestas-del-carmen-la-bajita-2/
LOCATION:Plaza la Bajita\, Plaza la Bajita\, Villa de Mazo\, Santa Cruz de Tenerife\, 38730\, Spain
CATEGORIES:Deportes,Fiestas,Música,Religioso,Teatro
ATTACH;FMTTYPE=image/jpeg:https://villademazo.com/wp-content/uploads/2025/08/bajita.jpg
END:VEVENT
BEGIN:VEVENT
DTSTART;TZID=UTC:20250904T170000
DTEND;TZID=UTC:20250904T203000
DTSTAMP:20260422T193941
CREATED:20250828T094100Z
LAST-MODIFIED:20250828T094100Z
UID:14750-1757005200-1757017800@villademazo.com
SUMMARY:Festividad Santa Rosalía de Palermo
DESCRIPTION:Programa de Fiestas de Santa Rosalía de Palermo. \nTardes en la plaza. Cuéntamelo todo. A partir de las 17:00 horas. \nIniciamos septiembre con una actividad cultural en la Plaza de Santa Rosalia junto a la Ermita. Los recuerdos y anécdotas vecinales darán vida a la memoria de nuestros barrios\, a través de la escritura creativa y los microrelatos.\nCUÉNTAMELO TODO\, nace para escribir junto a tí nuestro legado cultural en Villa de Mazo. \nEucaristía en honor a Santa Rosalía a cargo del cura-parroco de Villa de Mazo D. Emiliano Rodríguez García. Seguidamente procesión de la SAnta\, acompañada de la Banda del Aula Municipal de Música de Villa de Mazo.
URL:https://villademazo.com/eventos/festividad-santa-rosalia-de-palermo/
LOCATION:Plaza Santa Rosalia\, Villa de Mazo\, Santa Cruz de Tenerife\, 38730\, Spain
CATEGORIES:Fiestas,Religioso
ATTACH;FMTTYPE=image/jpeg:https://villademazo.com/wp-content/uploads/2025/08/santa-rosalia-palermo.jpg
END:VEVENT
BEGIN:VEVENT
DTSTART;VALUE=DATE:20250917
DTEND;VALUE=DATE:20250922
DTSTAMP:20260422T193941
CREATED:20250828T110829Z
LAST-MODIFIED:20250828T110829Z
UID:14758-1758067200-1758499199@villademazo.com
SUMMARY:Festividad del Carmen La Salemera
DESCRIPTION:Programa de actos de la Festividad de Nuestra Señora del Carmen\, Playa la Salemera. \nPrograma en
URL:https://villademazo.com/eventos/festividad-del-carmen-la-salemera/
LOCATION:La Salemera\, La Salemera\, Villa de Mazo\, Santa Cruz de La Palma\, 38730\, España
CATEGORIES:Fiestas
ATTACH;FMTTYPE=image/jpeg:https://villademazo.com/wp-content/uploads/2025/08/PROGRAMA-LA-SALEMERA-2025._page-0001.jpg
END:VEVENT
END:VCALENDAR