BEGIN:VCALENDAR
VERSION:2.0
PRODID:-//Villa de Mazo - ECPv6.15.20//NONSGML v1.0//EN
CALSCALE:GREGORIAN
METHOD:PUBLISH
X-WR-CALNAME:Villa de Mazo
X-ORIGINAL-URL:https://villademazo.com
X-WR-CALDESC:Eventos para Villa de Mazo
REFRESH-INTERVAL;VALUE=DURATION:PT1H
X-Robots-Tag:noindex
X-PUBLISHED-TTL:PT1H
BEGIN:VTIMEZONE
TZID:UTC
BEGIN:STANDARD
TZOFFSETFROM:+0000
TZOFFSETTO:+0000
TZNAME:UTC
DTSTART:20240101T000000
END:STANDARD
END:VTIMEZONE
BEGIN:VEVENT
DTSTART;TZID=UTC:20251205T173000
DTEND;TZID=UTC:20251205T223000
DTSTAMP:20260422T133908
CREATED:20251128T214405Z
LAST-MODIFIED:20251128T214405Z
UID:15833-1764955800-1764973800@villademazo.com
SUMMARY:Encendido de Navidad en Villa de Mazo
DESCRIPTION:El Encendido de la Navidad en Villa de Mazo se celebrará el 5 de diciembre de 2025 en la Plaza Pedro Pérez Díaz\, con una programación que se extiende desde la tarde hasta la noche. \n\nA las 17:30 horas\, darán comienzo las Actividades Infantiles\, que incluyen pintacaras\, un taller navideño y la oportunidad de hacerse fotos con Elfos y Princesa\, además del reparto de pulseras y un certificado del Polo Norte.\nA las 18:00 horas\, el entretenimiento continúa con la Actuación del Payaso Pantorrilla y la Titiritera Irina Aguilar.\nA las 19:00 horas\, se presentarán los Villancicos de Navidad a cargo de la Escuela Municipal de Folclore y el Aula de Folclore del Mayor de Villa de Mazo.\nEl momento central\, el Encendido del Alumbrado Navideño y Villancicos de Navidad\, será a las 19:15 horas\, con la participación de La Rondalla Lo Divino de Villa de Mazo\, Parranda Seis y Media y el grupo musical Different.\nLa jornada concluirá a las 21:00 horas con la Actuación Musical del Grupo Bienmesabe.
URL:https://villademazo.com/eventos/encendido-navidad/
LOCATION:Plaza Pedro Pérez Díaz\, Plaza Pedro Pérez Díaz\, Villa de Mazo\, Santa Cruz de Tenerife\, 38730\, Spain
CATEGORIES:Fiestas
ATTACH;FMTTYPE=image/jpeg:https://villademazo.com/wp-content/uploads/2025/11/encendido-de-navidad.jpeg
END:VEVENT
BEGIN:VEVENT
DTSTART;TZID=UTC:20251227T183000
DTEND;TZID=UTC:20251228T003000
DTSTAMP:20260422T133908
CREATED:20251219T114329Z
LAST-MODIFIED:20251219T114329Z
UID:15944-1766860200-1766881800@villademazo.com
SUMMARY:Fiesta Pre Fin de Año
DESCRIPTION:Te invitamos a celebrar y brindar juntos por Villa de Mazo en una gran fiesta para despedir el año como se merece. \n🎶 Actuaciones musicales: \n* Orquesta Tropicanas\n* Silvia Reyes\n* DJ Rubén\n* Grupo Different\n* Luis Medina Show\n* Leonardo Lires y Naty Caru \n💃🏽🎉 Habrá cotillón para celebrar el último sábado de 2025 con música\, alegría y mucho ambiente festivo. \n¡No faltes y ven a vivir una tarde-noche inolvidable!
URL:https://villademazo.com/eventos/fiesta-pre-fin-de-ano/
LOCATION:Plaza Pedro Pérez Díaz\, Plaza Pedro Pérez Díaz\, Villa de Mazo\, Santa Cruz de Tenerife\, 38730\, Spain
CATEGORIES:Fiestas
ATTACH;FMTTYPE=image/jpeg:https://villademazo.com/wp-content/uploads/2025/12/fiesta-pre-fin.jpeg
END:VEVENT
END:VCALENDAR