BEGIN:VCALENDAR
VERSION:2.0
PRODID:-//Villa de Mazo - ECPv6.15.20//NONSGML v1.0//EN
CALSCALE:GREGORIAN
METHOD:PUBLISH
X-ORIGINAL-URL:https://villademazo.com
X-WR-CALDESC:Eventos para Villa de Mazo
REFRESH-INTERVAL;VALUE=DURATION:PT1H
X-Robots-Tag:noindex
X-PUBLISHED-TTL:PT1H
BEGIN:VTIMEZONE
TZID:UTC
BEGIN:STANDARD
TZOFFSETFROM:+0000
TZOFFSETTO:+0000
TZNAME:UTC
DTSTART:20230101T000000
END:STANDARD
END:VTIMEZONE
BEGIN:VEVENT
DTSTART;TZID=UTC:20240903T170000
DTEND;TZID=UTC:20240910T200000
DTSTAMP:20260424T195644
CREATED:20240828T100706Z
LAST-MODIFIED:20240828T101141Z
UID:12429-1725382800-1725998400@villademazo.com
SUMMARY:Carnet de Conducir Clase B
DESCRIPTION:El curso se llevará a cabo los días 3\, 4\, 5\, 6 y 10 de septiembre\, en horario de 17:00 a 20:00 horas\, en las Aulas de Formación del Centro de la Cultura Andares \n\n  \nEl Ayuntamiento de Villa de Mazo\, a través de su Concejalía de Formación y Empleo\, pone en marcha un curso gratuito de formación para la obtención del carnet de conducir clase B\, dirigido a los vecinos desempleados empadronados en el municipio. \nEste curso se llevará a cabo los días 3\, 4\, 5\, 6 y 10 de septiembre\, en horario de 17:00 a 20:00 horas\, en las Aulas de Formación del Centro de la Cultura Andares. \nEl alcalde de Villa de Mazo\, Idafe Hernández\, ha destacado la importancia de esta iniciativa como parte del compromiso del Ayuntamiento con la mejora de la empleabilidad de sus vecinos y vecinas y ha destacado que “facilitar la obtención del carnet de conducir a nuestros desempleados es un paso clave para ampliar sus oportunidades laborales\, especialmente en un entorno como el nuestro\, donde la movilidad es esencial para acceder a muchos empleos”. \nPor su parte\, la concejal de Formación y Empleo\, Concepción Triana\, subrayó la necesidad de que las personas interesadas se inscriban lo antes posible\, ya que las plazas son limitadas. “Queremos recordar a todos los habitantes que la formación es completamente gratuita\, pero las plazas son limitadas. Por eso\, animamos a los vecinos y vecinas que cumplan con los requisitos a inscribirse cuanto antes para no perder esta valiosa oportunidad. Nuestro objetivo es continuar desarrollando programas de formación que respondan a las necesidades reales de nuestros desempleados”\, señaló Triana. \nLas inscripciones y solicitudes de información se pueden realizar a través de la Agencia de Empleo y Desarrollo Local\, contactando con el número de teléfono 922 440 003\, extensiones 300\, 227 y 270\, o enviando un correo electrónico a formacion@villademazo.es .
URL:https://villademazo.com/eventos/carnet-de-conducir-clase-b/
LOCATION:Aula de Formación del Centro Andares\, Ctra. Dr. Morera Bravo\, 3\, Villa de Mazo\, Santa Cruz de Tenerife\, 38730\, España
CATEGORIES:Formación
ATTACH;FMTTYPE=image/jpeg:https://villademazo.com/wp-content/uploads/2024/08/Cartel-curso-de-conducir-B-Villa-de-Mazo.jpg
ORGANIZER;CN="Ayuntamiento Villa de Mazo - Concejal%C3%ADa de Formaci%C3%B3n y Empleo":MAILTO:formacion@villademazo.es
END:VEVENT
BEGIN:VEVENT
DTSTART;TZID=UTC:20240906T160000
DTEND;TZID=UTC:20240923T200000
DTSTAMP:20260424T195644
CREATED:20240808T073859Z
LAST-MODIFIED:20240808T074447Z
UID:12330-1725638400-1727121600@villademazo.com
SUMMARY:Curso de Encuadernación
DESCRIPTION:Imparte: Manuel Alexi Rodríguez Reverón\, Maestro artesano \nDel 6 al 23 de septiembre 2024. Lunes\, miércoles y viernes de 16:00 a 20:00 horas en las Aulas de Formación del Centro de Cultura Andares. \nPLAZAS LIMITADAS \nInscripciones:\nARTESANÍA\nAgencia de Empleo y Desarrollo Local\n922440003 ext 300\, 270 ó 227\nartesania@villademazo.es
URL:https://villademazo.com/eventos/curso-de-encuadernacion/
LOCATION:Aula de Formación del Centro Andares\, Ctra. Dr. Morera Bravo\, 3\, Villa de Mazo\, Santa Cruz de Tenerife\, 38730\, España
CATEGORIES:Formación
ATTACH;FMTTYPE=image/jpeg:https://villademazo.com/wp-content/uploads/2024/08/Encuadernacion.jpeg
END:VEVENT
BEGIN:VEVENT
DTSTART;TZID=UTC:20240909T173000
DTEND;TZID=UTC:20240923T203000
DTSTAMP:20260424T195644
CREATED:20240827T083229Z
LAST-MODIFIED:20240827T083229Z
UID:12420-1725903000-1727123400@villademazo.com
SUMMARY:Curso de Protocolo y Relaciones Públicas Turísticas
DESCRIPTION:El Ayuntamiento de Villa de Mazo\, a través de su Concejalía de Formación y Empleo\, continúa con su firme compromiso de ofrecer formación gratuita a los vecinos y vecinas del municipio. En esta ocasión\, se impartirá el curso Protocolo y Relaciones Públicas Turísticas\, una iniciativa que busca dotar a los participantes de las habilidades necesarias para desempeñarse en el sector turístico\, uno de los pilares fundamentales de la economía local. \n  \nEl alcalde\, Idafe Hernández\, destacó la importancia de este curso como una oportunidad clave para mejorar la empleabilidad en el municipio y afirmó que “desde el Ayuntamiento estamos comprometidos en ofrecer herramientas y recursos que permitan a nuestros vecinos y vecinas acceder a oportunidades laborales de calidad. Este curso de Protocolo y Relaciones Públicas Turísticas es un claro ejemplo de nuestro esfuerzo por potenciar el talento local y fortalecer el tejido productivo de Villa de Mazo”. \n  \nPor su parte\, la concejal de Formación y Empleo\, Concepción Triana\, subrayó la relevancia de la formación continua y detalló que “sabemos que el turismo es un sector en constante crecimiento y evolución\, por eso es fundamental que nuestros vecinos y vecinas estén preparados para aprovechar al máximo las oportunidades que ofrece. Este curso gratuito es una excelente ocasión para adquirir competencias clave en un ámbito con gran demanda laboral”. \n  \nEl curso\, que se llevará a cabo los días 9\, 11\, 13\, 16\, 18\, 20 y 23 de septiembre\, tendrá lugar en las Aulas de Formación del Centro de la Cultura Andares. Las sesiones se desarrollarán en horario de tarde\, de 17:30 a 20:30 horas\, y estarán dirigidas a personas empadronadas en el municipio de Villa de Mazo. \n\nLas inscripciones se pueden realizar a través de la Agencia de Empleo y Desarrollo Local del Ayuntamiento\, ya sea por teléfono\, llamando al 922 440 003 (extensiones 300-227-270)\, o por correo electrónico\, escribiendo a formacion@villademazo.es .
URL:https://villademazo.com/eventos/curso-de-protocolo-y-relaciones-publicas-turisticas/
LOCATION:Aula de Formación del Centro Andares\, Ctra. Dr. Morera Bravo\, 3\, Villa de Mazo\, Santa Cruz de Tenerife\, 38730\, España
CATEGORIES:Formación
ATTACH;FMTTYPE=image/jpeg:https://villademazo.com/wp-content/uploads/2024/08/Curso-Protocolo-Villa-de-Mazo.jpg
ORGANIZER;CN="Ayuntamiento Villa de Mazo - Concejal%C3%ADa de Formaci%C3%B3n y Empleo":MAILTO:formacion@villademazo.es
END:VEVENT
BEGIN:VEVENT
DTSTART;TZID=UTC:20240912T080000
DTEND;TZID=UTC:20241011T020000
DTSTAMP:20260424T195644
CREATED:20240912T072858Z
LAST-MODIFIED:20240912T100855Z
UID:12502-1726128000-1728612000@villademazo.com
SUMMARY:Inscripciones Aula de Música de Villa de Mazo
DESCRIPTION:Abierto el plazo de inscripción desde el 12 de septiembre hasta el 11 octubre 2024 del Aula municipal de música\, curso 2024-2025 Villa de Mazo. \nLugar: Escuela Municipal de Música (al lado del CEIP Princesa Arecida) \nHorario: De lunes a viernes\, de 17:00 a 19:00 horas. \nDiversas modalidades de instrumentos musicales:\nViento metal: Trompeta\, Trombón\, Tuba\, Bombardino\, entre otros.\nViento madera: Flauta\, Clarinete\, Saxofón.\nInstrumentos de cuerda: Guitarra\, Laúd\, Bandurria\, Timple\, Cuatro.\nInstrumentos de percusión en general. \nMás información:\nTeléfono: 630444591 (solo WhatsApp)\naulamusica@villademazo.es \nClases de canto: Coro infantil\, juvenil y de adultos. De octubre 2024 a junio 2025 \nInscripción presencial\, atendiendo al lugar y horarios citados:\nCentro de la Cultura Andares: Lunes y miércoles de 17:00 a 22:00 horas.\nCentro Cultural de Montes de Luna: Martes\, jueves y viernes de 16:30 a 20:00 horas.
URL:https://villademazo.com/eventos/inscripciones-aula-de-musica-de-villa-de-mazo/
LOCATION:Escuela Municipal de Música\, C/ Carmen Martínez Jérez\, 3\, Villa de Mazo\, Santa Cruz de Tenerife\, 38730\, Spain
CATEGORIES:Formación,Música
ATTACH;FMTTYPE=image/jpeg:https://villademazo.com/wp-content/uploads/2024/09/aula-musica-2024.jpg
END:VEVENT
BEGIN:VEVENT
DTSTART;TZID=UTC:20240924T160000
DTEND;TZID=UTC:20241024T200000
DTSTAMP:20260424T195644
CREATED:20240902T115243Z
LAST-MODIFIED:20240902T115243Z
UID:12453-1727193600-1729800000@villademazo.com
SUMMARY:Curso de Muñequería
DESCRIPTION:Imparte la artesana MAIRA RIVEROL CABELLO.\nDel 24 de septiembre al 24 de octubre\,\nMartes y Jueves\nDe 16:00h a 20:00h\,\n\n\nSe imparte en las AULAS de FORMACIÓN CENTRO de la CULTURA ANDARES\n\n\nINSCRIPCIONES y  INFORMACIÓN \n(ARTESANÍA)\nAgencia de Empleo y Desarrollo Local\n922 440 003 Extensiones 300-270-227\n artesania@villademazo.es\n\n\n GRATUITO\nPLAZAS LIMITADAS
URL:https://villademazo.com/eventos/curso-de-munequeria/
LOCATION:Aula de Formación del Centro Andares\, Ctra. Dr. Morera Bravo\, 3\, Villa de Mazo\, Santa Cruz de Tenerife\, 38730\, España
CATEGORIES:Formación
ATTACH;FMTTYPE=image/jpeg:https://villademazo.com/wp-content/uploads/2024/09/munequeria.jpg
END:VEVENT
BEGIN:VEVENT
DTSTART;TZID=UTC:20240924T170000
DTEND;TZID=UTC:20241015T200000
DTSTAMP:20260424T195644
CREATED:20240917T110027Z
LAST-MODIFIED:20240917T110027Z
UID:12565-1727197200-1729022400@villademazo.com
SUMMARY:Servicio de Información Turística
DESCRIPTION:El Ayuntamiento de Villa de Mazo sigue apostando por la formación de sus vecinos y vecinas con la puesta en marcha de un nuevo curso gratuito titulado ‘Servicio de Información Turística’. Esta iniciativa\, organizada por la Agencia de Empleo y Desarrollo Local\, está dirigida a personas empadronadas en el municipio y busca mejorar las competencias en un sector clave como el turístico. \nEl curso\, de 20 horas de duración\, se impartirá en el Centro de la Cultura Andares durante varias jornadas comprendidas entre el 24 de septiembre y el 15 de octubre\, en horario de 17:00 a 20:00 horas. \nLas plazas son ilimitadas y las inscripciones\, que ya están abiertas\, se podrán realizar a través del teléfono 922 440 003 (extensiones 201\, 300 o 227) o mediante el correo electrónico formacion@villademazo.es .
URL:https://villademazo.com/eventos/servicio-de-informacion-turistica/
LOCATION:Centro de la cultura Andares\, Ctra. Dr. Morera Bravo\, 2\, El Pueblo\, Villa de Mazo\, Santa Cruz de Tenerife\, 38730\, España
CATEGORIES:Formación
ATTACH;FMTTYPE=image/jpeg:https://villademazo.com/wp-content/uploads/2024/09/Cartel-curso-informacion-turistica.jpg
ORGANIZER;CN="Ayuntamiento Villa de Mazo - Concejal%C3%ADa de Formaci%C3%B3n y Empleo":MAILTO:formacion@villademazo.es
END:VEVENT
BEGIN:VEVENT
DTSTART;TZID=UTC:20240925T160000
DTEND;TZID=UTC:20241113T200000
DTSTAMP:20260424T195644
CREATED:20240902T115447Z
LAST-MODIFIED:20240902T115447Z
UID:12454-1727280000-1731528000@villademazo.com
SUMMARY:Curso de "Trajes Tradicionales"
DESCRIPTION:Imparte la artesana MARÍA FÁTIMA ACOSTA CASTRO.\nDel 25 de septiembre al 13 de noviembre\,\nLunes y Miércoles\nDe 16:00h a 20:00h\,\n\n\nSe imparte en las AULAS de FORMACIÓN CENTRO de la CULTURA ANDARES\n\n\nINSCRIPCIONES y  INFORMACIÓN \n(ARTESANÍA)\nAgencia de Empleo y Desarrollo Local\n922 440 003 Extensiones 300-270-227\n artesania@villademazo.es\n\n\n GRATUITO\nPLAZAS LIMITADAS
URL:https://villademazo.com/eventos/curso-de-trajes-tradicionales/
LOCATION:Aula de Formación del Centro Andares\, Ctra. Dr. Morera Bravo\, 3\, Villa de Mazo\, Santa Cruz de Tenerife\, 38730\, España
CATEGORIES:Formación
ATTACH;FMTTYPE=image/jpeg:https://villademazo.com/wp-content/uploads/2024/09/trajes-tradicionales.jpg
END:VEVENT
END:VCALENDAR