BEGIN:VCALENDAR
VERSION:2.0
PRODID:-//Villa de Mazo - ECPv6.15.20//NONSGML v1.0//EN
CALSCALE:GREGORIAN
METHOD:PUBLISH
X-ORIGINAL-URL:https://villademazo.com
X-WR-CALDESC:Eventos para Villa de Mazo
REFRESH-INTERVAL;VALUE=DURATION:PT1H
X-Robots-Tag:noindex
X-PUBLISHED-TTL:PT1H
BEGIN:VTIMEZONE
TZID:UTC
BEGIN:STANDARD
TZOFFSETFROM:+0000
TZOFFSETTO:+0000
TZNAME:UTC
DTSTART:20230101T000000
END:STANDARD
END:VTIMEZONE
BEGIN:VEVENT
DTSTART;TZID=UTC:20240912T080000
DTEND;TZID=UTC:20241011T020000
DTSTAMP:20260424T182356
CREATED:20240912T072858Z
LAST-MODIFIED:20240912T100855Z
UID:12502-1726128000-1728612000@villademazo.com
SUMMARY:Inscripciones Aula de Música de Villa de Mazo
DESCRIPTION:Abierto el plazo de inscripción desde el 12 de septiembre hasta el 11 octubre 2024 del Aula municipal de música\, curso 2024-2025 Villa de Mazo. \nLugar: Escuela Municipal de Música (al lado del CEIP Princesa Arecida) \nHorario: De lunes a viernes\, de 17:00 a 19:00 horas. \nDiversas modalidades de instrumentos musicales:\nViento metal: Trompeta\, Trombón\, Tuba\, Bombardino\, entre otros.\nViento madera: Flauta\, Clarinete\, Saxofón.\nInstrumentos de cuerda: Guitarra\, Laúd\, Bandurria\, Timple\, Cuatro.\nInstrumentos de percusión en general. \nMás información:\nTeléfono: 630444591 (solo WhatsApp)\naulamusica@villademazo.es \nClases de canto: Coro infantil\, juvenil y de adultos. De octubre 2024 a junio 2025 \nInscripción presencial\, atendiendo al lugar y horarios citados:\nCentro de la Cultura Andares: Lunes y miércoles de 17:00 a 22:00 horas.\nCentro Cultural de Montes de Luna: Martes\, jueves y viernes de 16:30 a 20:00 horas.
URL:https://villademazo.com/eventos/inscripciones-aula-de-musica-de-villa-de-mazo/
LOCATION:Escuela Municipal de Música\, C/ Carmen Martínez Jérez\, 3\, Villa de Mazo\, Santa Cruz de Tenerife\, 38730\, Spain
CATEGORIES:Formación,Música
ATTACH;FMTTYPE=image/jpeg:https://villademazo.com/wp-content/uploads/2024/09/aula-musica-2024.jpg
END:VEVENT
BEGIN:VEVENT
DTSTART;TZID=UTC:20240924T160000
DTEND;TZID=UTC:20241024T200000
DTSTAMP:20260424T182356
CREATED:20240902T115243Z
LAST-MODIFIED:20240902T115243Z
UID:12453-1727193600-1729800000@villademazo.com
SUMMARY:Curso de Muñequería
DESCRIPTION:Imparte la artesana MAIRA RIVEROL CABELLO.\nDel 24 de septiembre al 24 de octubre\,\nMartes y Jueves\nDe 16:00h a 20:00h\,\n\n\nSe imparte en las AULAS de FORMACIÓN CENTRO de la CULTURA ANDARES\n\n\nINSCRIPCIONES y  INFORMACIÓN \n(ARTESANÍA)\nAgencia de Empleo y Desarrollo Local\n922 440 003 Extensiones 300-270-227\n artesania@villademazo.es\n\n\n GRATUITO\nPLAZAS LIMITADAS
URL:https://villademazo.com/eventos/curso-de-munequeria/
LOCATION:Aula de Formación del Centro Andares\, Ctra. Dr. Morera Bravo\, 3\, Villa de Mazo\, Santa Cruz de Tenerife\, 38730\, España
CATEGORIES:Formación
ATTACH;FMTTYPE=image/jpeg:https://villademazo.com/wp-content/uploads/2024/09/munequeria.jpg
END:VEVENT
BEGIN:VEVENT
DTSTART;TZID=UTC:20240924T170000
DTEND;TZID=UTC:20241015T200000
DTSTAMP:20260424T182356
CREATED:20240917T110027Z
LAST-MODIFIED:20240917T110027Z
UID:12565-1727197200-1729022400@villademazo.com
SUMMARY:Servicio de Información Turística
DESCRIPTION:El Ayuntamiento de Villa de Mazo sigue apostando por la formación de sus vecinos y vecinas con la puesta en marcha de un nuevo curso gratuito titulado ‘Servicio de Información Turística’. Esta iniciativa\, organizada por la Agencia de Empleo y Desarrollo Local\, está dirigida a personas empadronadas en el municipio y busca mejorar las competencias en un sector clave como el turístico. \nEl curso\, de 20 horas de duración\, se impartirá en el Centro de la Cultura Andares durante varias jornadas comprendidas entre el 24 de septiembre y el 15 de octubre\, en horario de 17:00 a 20:00 horas. \nLas plazas son ilimitadas y las inscripciones\, que ya están abiertas\, se podrán realizar a través del teléfono 922 440 003 (extensiones 201\, 300 o 227) o mediante el correo electrónico formacion@villademazo.es .
URL:https://villademazo.com/eventos/servicio-de-informacion-turistica/
LOCATION:Centro de la cultura Andares\, Ctra. Dr. Morera Bravo\, 2\, El Pueblo\, Villa de Mazo\, Santa Cruz de Tenerife\, 38730\, España
CATEGORIES:Formación
ATTACH;FMTTYPE=image/jpeg:https://villademazo.com/wp-content/uploads/2024/09/Cartel-curso-informacion-turistica.jpg
ORGANIZER;CN="Ayuntamiento Villa de Mazo - Concejal%C3%ADa de Formaci%C3%B3n y Empleo":MAILTO:formacion@villademazo.es
END:VEVENT
BEGIN:VEVENT
DTSTART;TZID=UTC:20240925T160000
DTEND;TZID=UTC:20241113T200000
DTSTAMP:20260424T182356
CREATED:20240902T115447Z
LAST-MODIFIED:20240902T115447Z
UID:12454-1727280000-1731528000@villademazo.com
SUMMARY:Curso de "Trajes Tradicionales"
DESCRIPTION:Imparte la artesana MARÍA FÁTIMA ACOSTA CASTRO.\nDel 25 de septiembre al 13 de noviembre\,\nLunes y Miércoles\nDe 16:00h a 20:00h\,\n\n\nSe imparte en las AULAS de FORMACIÓN CENTRO de la CULTURA ANDARES\n\n\nINSCRIPCIONES y  INFORMACIÓN \n(ARTESANÍA)\nAgencia de Empleo y Desarrollo Local\n922 440 003 Extensiones 300-270-227\n artesania@villademazo.es\n\n\n GRATUITO\nPLAZAS LIMITADAS
URL:https://villademazo.com/eventos/curso-de-trajes-tradicionales/
LOCATION:Aula de Formación del Centro Andares\, Ctra. Dr. Morera Bravo\, 3\, Villa de Mazo\, Santa Cruz de Tenerife\, 38730\, España
CATEGORIES:Formación
ATTACH;FMTTYPE=image/jpeg:https://villademazo.com/wp-content/uploads/2024/09/trajes-tradicionales.jpg
END:VEVENT
BEGIN:VEVENT
DTSTART;TZID=UTC:20241010T160000
DTEND;TZID=UTC:20241010T173000
DTSTAMP:20260424T182356
CREATED:20240920T134016Z
LAST-MODIFIED:20240920T134204Z
UID:12583-1728576000-1728581400@villademazo.com
SUMMARY:Impulsando en Digital
DESCRIPTION:Curso para facilitar el acceso a la tramitación digital\n\n\n\nPara mayores de 45 años\n\nDía: 10 de octubre de 2024\n\nHorario: De 16.00 a 17.30 horas en la Biblioteca Municipal Alonso Pérez Díaz\n\n\n\nA la sesión deben traer su dispositivo móvil\n\nGratuito previa inscripción llamando al 922 440 003 Ext. 210\, los días martes a jueves de 15:00 a 19:00h.\n\n\n\nMás información de este programa en: https://cajacanarias.com/agenda/impulsando-en-digital-2024/
URL:https://villademazo.com/eventos/impulsando-en-digital/
LOCATION:Biblioteca Pública Municipal “Alonso Pérez Díaz”\, Plaza Alonso Pérez Díaz\, Villa de Mazo\, Santa Cruz de Tenerife\, 38730\, Spain
CATEGORIES:Formación
ATTACH;FMTTYPE=image/jpeg:https://villademazo.com/wp-content/uploads/2024/09/impulsado-digital.jpg
END:VEVENT
BEGIN:VEVENT
DTSTART;TZID=UTC:20241011T110000
DTEND;TZID=UTC:20241011T140000
DTSTAMP:20260424T182356
CREATED:20241011T063342Z
LAST-MODIFIED:20241011T063342Z
UID:12757-1728644400-1728655200@villademazo.com
SUMMARY:Inauguración de las II Jornadas de Jóvenes Emprendedores de Villa de Mazo 2024
DESCRIPTION:II Jornadas de Jóvenes Emprendedores de Villa de Mazo 2024. Viernes 11 de octubre de 2024. \nEl Ayuntamiento de la Villa de Mazo inaugura las II Jornadas de Jóvenes Emprendedores de Villa de Mazo junto con el IES Villa de Mazo. Se ofrecerán declaraciones antes de la apertura de las jornadas a las 11:00 H en el Centro Cultural Andares.
URL:https://villademazo.com/eventos/inauguracion-de-las-ii-jornadas-de-jovenes-emprendedores-de-villa-de-mazo-2024/
LOCATION:Centro de la cultura Andares\, Ctra. Dr. Morera Bravo\, 2\, El Pueblo\, Villa de Mazo\, Santa Cruz de Tenerife\, 38730\, España
CATEGORIES:Formación
ATTACH;FMTTYPE=image/jpeg:https://villademazo.com/wp-content/uploads/2024/10/JEMAok.jpg
ORGANIZER;CN="Ayuntamiento Villa de Mazo - Concejal%C3%ADa de Formaci%C3%B3n y Empleo":MAILTO:formacion@villademazo.es
END:VEVENT
BEGIN:VEVENT
DTSTART;TZID=UTC:20241014T090000
DTEND;TZID=UTC:20241017T140000
DTSTAMP:20260424T182356
CREATED:20240925T083948Z
LAST-MODIFIED:20240925T084026Z
UID:12628-1728896400-1729173600@villademazo.com
SUMMARY:Curso atención centrada en la persona (20 horas)
DESCRIPTION:Del 14 al 17 de octubre de 2024.\nDe 9 a 14 horas\nPara personas desempleadas empadronadas en el municipio.\nAulas de formación del Centro de la Cultura Andares.\nInscripciones en Agencia de Empleo y Desarrollo Local.\nTelef. 922 440 003 Ext. 201-300-227\nEmail: formacion@villademazo.es
URL:https://villademazo.com/eventos/curso-atencion-centrada-en-la-persona20-horas/
LOCATION:Centro de la cultura Andares\, Ctra. Dr. Morera Bravo\, 2\, El Pueblo\, Villa de Mazo\, Santa Cruz de Tenerife\, 38730\, España
CATEGORIES:Formación
ATTACH;FMTTYPE=image/jpeg:https://villademazo.com/wp-content/uploads/2024/09/curso-sociosanitario.jpeg
ORGANIZER;CN="Ayuntamiento Villa de Mazo - Agencia de Empleo y Desarrollo Local":MAILTO:artesania@villademazo.es
END:VEVENT
BEGIN:VEVENT
DTSTART;TZID=UTC:20241016T160000
DTEND;TZID=UTC:20241028T200000
DTSTAMP:20260424T182356
CREATED:20241001T130357Z
LAST-MODIFIED:20241001T132433Z
UID:12651-1729094400-1730145600@villademazo.com
SUMMARY:Curso "Trámites on line con la Administración"
DESCRIPTION:Curso de 25 horas “TRÁMITES ON LINE CON LA ADMINISTRACIÓN” \nLos días 16\,18\,21\,23\,25 y 28 de octubre. Horario de 16:00h a 20:00 horas.\n\n  \nSe impartirá en las AULAS DE FORMACIÓN en el CENTRO DE LA CULTURA ANDARES.\n  \nINSCRIPCIONES E INFORMACIÓN\n\n\nAgencia de Empleo y Desarrollo Local\n922 440003 Extensiones 300 y 227\nformacion@villademazo.es\n\n \nGRATUITOS
URL:https://villademazo.com/eventos/curso-tramites-on-line-con-la-administracion/
LOCATION:Aula de Formación del Centro Andares\, Ctra. Dr. Morera Bravo\, 3\, Villa de Mazo\, Santa Cruz de Tenerife\, 38730\, España
CATEGORIES:Formación
ATTACH;FMTTYPE=image/jpeg:https://villademazo.com/wp-content/uploads/2024/10/tramites-online.jpeg
ORGANIZER;CN="Ayuntamiento Villa de Mazo - Agencia de Empleo y Desarrollo Local":MAILTO:artesania@villademazo.es
END:VEVENT
BEGIN:VEVENT
DTSTART;TZID=UTC:20241017T170000
DTEND;TZID=UTC:20241105T203000
DTSTAMP:20260424T182356
CREATED:20241001T131314Z
LAST-MODIFIED:20241001T132555Z
UID:12656-1729184400-1730838600@villademazo.com
SUMMARY:Marketing Turístico
DESCRIPTION:Curso de 20 horas. \nQue se impartirá los días 17\, 22\, 24\, 29\, 31 de octubre y 5 de noviembre en las Aulas de Formación del Centro Cultural Andares. \nHorario de 17:00h a 20:30 horas.\n  \n\nINSCRIPCIONES E INFORMACIÓN\n\n\nAgencia de Empleo y Desarrollo Local\n922 440003 Extensiones 300 y 227\nformacion@villademazo.es\n  \nGRATUITOS
URL:https://villademazo.com/eventos/marketing-turistico/
LOCATION:Aula de Formación del Centro Andares\, Ctra. Dr. Morera Bravo\, 3\, Villa de Mazo\, Santa Cruz de Tenerife\, 38730\, España
CATEGORIES:Formación
ATTACH;FMTTYPE=image/jpeg:https://villademazo.com/wp-content/uploads/2024/10/marketing-turistico.jpeg
ORGANIZER;CN="Ayuntamiento Villa de Mazo - Agencia de Empleo y Desarrollo Local":MAILTO:artesania@villademazo.es
END:VEVENT
BEGIN:VEVENT
DTSTART;TZID=UTC:20241021T160000
DTEND;TZID=UTC:20241025T210000
DTSTAMP:20260424T182356
CREATED:20240925T083658Z
LAST-MODIFIED:20240925T083658Z
UID:12622-1729526400-1729890000@villademazo.com
SUMMARY:Curso fitosanitario básico
DESCRIPTION:Del 21 al 25 de octubre de 2024.\nDe 16 a 21 horas\nPara personas empadronadas en el municipio.\nAulas de formación del Centro de la Cultura Andares.\nInscripciones en Agencia de Empleo y Desarrollo Local.\nTelef. 922 440 003 Ext. 201-300-227\nEmail: formacion@villademazo.es
URL:https://villademazo.com/eventos/curso-fitosanitario-basico/
LOCATION:Centro de la cultura Andares\, Ctra. Dr. Morera Bravo\, 2\, El Pueblo\, Villa de Mazo\, Santa Cruz de Tenerife\, 38730\, España
CATEGORIES:Formación
ATTACH;FMTTYPE=image/jpeg:https://villademazo.com/wp-content/uploads/2024/09/curso-fito.jpeg
ORGANIZER;CN="Ayuntamiento Villa de Mazo - Agencia de Empleo y Desarrollo Local":MAILTO:artesania@villademazo.es
END:VEVENT
BEGIN:VEVENT
DTSTART;TZID=UTC:20241030T160000
DTEND;TZID=UTC:20241216T200000
DTSTAMP:20260424T182356
CREATED:20241001T133051Z
LAST-MODIFIED:20241001T133321Z
UID:12664-1730304000-1734379200@villademazo.com
SUMMARY:Aplicaciones Informáticas de Gestión
DESCRIPTION:Curso de 75 horas y GRATUITO para empadronados en el municipio de Villa de Mazo.\n  \nLos días 30 de octubre\, 4\,6\,8\,11\,13\,15\,18\,20\,22\,25\,27\,29 de noviembre\, 2\,4\,9\,11\,13 y 16 de diciembre.\nHorario de 16:00h a 20:00 horas.\n  \nTodos los cursos se impartirán en las AULAS DE FORMACIÓN en el CENTRO DE LA CULTURA ANDARES.\n  \nINSCRIPCIONES E INFORMACIÓN\nAgencia de Empleo y Desarrollo Local\n922 440003 Extensiones 300 y 227\nformacion@villademazo.es\n 
URL:https://villademazo.com/eventos/aplicaciones-informaticas-de-gestion/
LOCATION:Aula de Formación del Centro Andares\, Ctra. Dr. Morera Bravo\, 3\, Villa de Mazo\, Santa Cruz de Tenerife\, 38730\, España
CATEGORIES:Formación
ATTACH;FMTTYPE=image/jpeg:https://villademazo.com/wp-content/uploads/2024/10/aplicaciones-informaticas-gestion.jpeg
ORGANIZER;CN="Ayuntamiento Villa de Mazo - Agencia de Empleo y Desarrollo Local":MAILTO:artesania@villademazo.es
END:VEVENT
END:VCALENDAR