BEGIN:VCALENDAR
VERSION:2.0
PRODID:-//Villa de Mazo - ECPv6.15.20//NONSGML v1.0//EN
CALSCALE:GREGORIAN
METHOD:PUBLISH
X-ORIGINAL-URL:https://villademazo.com
X-WR-CALDESC:Eventos para Villa de Mazo
REFRESH-INTERVAL;VALUE=DURATION:PT1H
X-Robots-Tag:noindex
X-PUBLISHED-TTL:PT1H
BEGIN:VTIMEZONE
TZID:UTC
BEGIN:STANDARD
TZOFFSETFROM:+0000
TZOFFSETTO:+0000
TZNAME:UTC
DTSTART:20240101T000000
END:STANDARD
END:VTIMEZONE
BEGIN:VEVENT
DTSTART;TZID=UTC:20250317T160000
DTEND;TZID=UTC:20250407T190000
DTSTAMP:20260424T085300
CREATED:20250307T102125Z
LAST-MODIFIED:20250307T102736Z
UID:13537-1742227200-1744052400@villademazo.com
SUMMARY:Curso de Confección de Polainas
DESCRIPTION:Será dirigido por la artesana Nancy González García y se desarrollará del 17 de marzo al 7 de abril\, en horario de 16:00 a 19:00 horas\, en el aula ubicada en la parte alta del Mercadillo Municipal. \nCURSO GRATUITO CON PLAZAS LIMITADAS. \nLas inscripciones pueden realizarse a través del Área de Artesanía de la Agencia de Empleo y Desarrollo Local. Para más información\, los interesados pueden contactar llamando al teléfono 922 440 003 (Extensión 205) o enviando un correo electrónico a artesania@villademazo.es .
URL:https://villademazo.com/eventos/curso-de-confeccion-de-polainas/
LOCATION:Parte alta Mercadillo Municipal\, Carretera Doctor Morera Bravo\, Villa de Mazo\, Santa Cruz de Tenerife\, 38730\, Spain
CATEGORIES:Artesanía,Formación
ATTACH;FMTTYPE=image/jpeg:https://villademazo.com/wp-content/uploads/2025/03/Curso-polainas.jpg
END:VEVENT
BEGIN:VEVENT
DTSTART;TZID=UTC:20250325T160000
DTEND;TZID=UTC:20250424T200000
DTSTAMP:20260424T085300
CREATED:20250307T102613Z
LAST-MODIFIED:20250307T102613Z
UID:13540-1742918400-1745524800@villademazo.com
SUMMARY:Curso de Trajes Tradicionales
DESCRIPTION:Será impartido por la artesana María del Carmen Felipe Pérez y dará comienzo el 25 de marzo. Las clases se llevarán a cabo los martes y jueves en horario de 16:00 a 20:00 horas en el aula situada en la parte alta del Mercadillo Municipal. \nCURSO GRATUITO CON PLAZAS LIMITADAS. \nLas inscripciones pueden realizarse a través del Área de Artesanía de la Agencia de Empleo y Desarrollo Local. Para más información\, los interesados pueden contactar llamando al teléfono 922 440 003 (Extensión 205) o enviando un correo electrónico a artesania@villademazo.es .
URL:https://villademazo.com/eventos/curso-de-trajes-tradicionales-2/
LOCATION:Parte alta Mercadillo Municipal\, Carretera Doctor Morera Bravo\, Villa de Mazo\, Santa Cruz de Tenerife\, 38730\, Spain
CATEGORIES:Artesanía,Formación
ATTACH;FMTTYPE=image/jpeg:https://villademazo.com/wp-content/uploads/2025/03/Curso-trajes-tradicionales.jpg
END:VEVENT
BEGIN:VEVENT
DTSTART;TZID=UTC:20250414T160000
DTEND;TZID=UTC:20250421T200000
DTSTAMP:20260424T085300
CREATED:20250409T112746Z
LAST-MODIFIED:20250409T112921Z
UID:13767-1744646400-1745265600@villademazo.com
SUMMARY:Taller RECICLADO TEXTIL
DESCRIPTION:Imparte Maira Rivel Cabello. \nFecha: 14\, 16 y 21 de ABRIL\nHorario: 16:00 horas a  20:00 horas\nLugar: Aula parte alta Mercadillo Municipal \nINSCRIPCIONES y  INFORMACIÓN\nARTESANÍA\nAgencia de Empleo y Desarrollo Local\nTeléfono: 922 440 003 Extensión 205\nCorreo electrónico: artesania@villademazo.es \nGRATUITO\nPLAZAS LIMITADAS\nPrioridad empadronad@s en el municipio
URL:https://villademazo.com/eventos/taller-reciclado-textil/
LOCATION:Parte alta Mercadillo Municipal\, Carretera Doctor Morera Bravo\, Villa de Mazo\, Santa Cruz de Tenerife\, 38730\, Spain
CATEGORIES:Artesanía,Formación
ATTACH;FMTTYPE=image/jpeg:https://villademazo.com/wp-content/uploads/2025/04/reciclado-textil.jpg
ORGANIZER;CN="Ayuntamiento Villa de Mazo - Artesan%C3%ADa":MAILTO:artesania@villademazo.es
END:VEVENT
BEGIN:VEVENT
DTSTART;TZID=UTC:20250423T153000
DTEND;TZID=UTC:20250425T193000
DTSTAMP:20260424T085300
CREATED:20250409T110719Z
LAST-MODIFIED:20250409T112124Z
UID:13757-1745422200-1745609400@villademazo.com
SUMMARY:Taller artesano de "ENCUADERNACIÓN "
DESCRIPTION:Imparte Manuel Alexi Pérez Reverón. \nFecha: 23 y 25 de ABRIL\nHorario: 15:30 horas a   19:30 horas\nLugar: Biblioteca Municipal \nINSCRIPCIONES y  INFORMACIÓN\nARTESANÍA\nAgencia de Empleo y Desarrollo Local\nTeléfono: 922 440 003 Extensión 205\nCorreo electrónico: artesania@villademazo.es \nGRATUITO\nPLAZAS LIMITADAS\nPrioridad empadronad@s en el municipio
URL:https://villademazo.com/eventos/taller-artesano-de-encuadernacion/
LOCATION:Biblioteca Pública Municipal “Alonso Pérez Díaz”\, Plaza Alonso Pérez Díaz\, Villa de Mazo\, Santa Cruz de Tenerife\, 38730\, Spain
CATEGORIES:Artesanía,Formación
ATTACH;FMTTYPE=image/jpeg:https://villademazo.com/wp-content/uploads/2025/04/taller-encuadernacion.jpg
ORGANIZER;CN="Ayuntamiento Villa de Mazo - Artesan%C3%ADa":MAILTO:artesania@villademazo.es
END:VEVENT
BEGIN:VEVENT
DTSTART;TZID=UTC:20250428T080000
DTEND;TZID=UTC:20250428T080000
DTSTAMP:20260424T085300
CREATED:20250415T114627Z
LAST-MODIFIED:20250415T130206Z
UID:13802-1745827200-1745827200@villademazo.com
SUMMARY:Confección de Vestimenta Tradicional
DESCRIPTION:Imparte María Fátima Acosta Castro. \nFecha: Lunes y miércoles a partir del 28 de abril.\nHorario: 16:00 horas a   20:00 horas\nLugar: Aula planta alta Mercadillo Municipal \nINSCRIPCIONES y  INFORMACIÓN\nARTESANÍA\nAgencia de Empleo y Desarrollo Local\nTeléfono: 922 440 003 Extensión 205\nCorreo electrónico: artesania@villademazo.es \nGRATUITO\nPLAZAS LIMITADAS\nPrioridad empadronad@s en el municipio
URL:https://villademazo.com/eventos/confeccion-de-vestimenta-tradicional/
LOCATION:Parte alta Mercadillo Municipal\, Carretera Doctor Morera Bravo\, Villa de Mazo\, Santa Cruz de Tenerife\, 38730\, Spain
CATEGORIES:Artesanía,Formación
ATTACH;FMTTYPE=image/jpeg:https://villademazo.com/wp-content/uploads/2025/04/vestimenta-tradicional.jpg
ORGANIZER;CN="Ayuntamiento Villa de Mazo - Artesan%C3%ADa":MAILTO:artesania@villademazo.es
END:VEVENT
BEGIN:VEVENT
DTSTART;TZID=UTC:20250429T160000
DTEND;TZID=UTC:20250527T200000
DTSTAMP:20260424T085300
CREATED:20250422T091807Z
LAST-MODIFIED:20250422T091807Z
UID:13828-1745942400-1748376000@villademazo.com
SUMMARY:Curso de Pintura en Tela
DESCRIPTION:Imparte Silvia Marante Concepción. \nFecha: Del 29 de abril al 27 de mayo\nHorario: 16:00 horas a 20:00 horas\nLugar: Aulas de Formación Centro de La Cultura Andares \nINSCRIPCIONES y  INFORMACIÓN\nARTESANÍA\nAgencia de Empleo y Desarrollo Local\nTeléfono: 922 440 003 Extensión 205\nCorreo electrónico: artesania@villademazo.es \nGRATUITO\nPLAZAS LIMITADAS\nPrioridad empadronad@s en el municipio
URL:https://villademazo.com/eventos/curso-pintura-en-tela/
LOCATION:Aula de Formación del Centro Andares\, Ctra. Dr. Morera Bravo\, 3\, Villa de Mazo\, Santa Cruz de Tenerife\, 38730\, España
CATEGORIES:Artesanía,Formación
ATTACH;FMTTYPE=image/jpeg:https://villademazo.com/wp-content/uploads/2025/04/pintura-en-tela.jpg
ORGANIZER;CN="Ayuntamiento Villa de Mazo - Artesan%C3%ADa":MAILTO:artesania@villademazo.es
END:VEVENT
END:VCALENDAR