BEGIN:VCALENDAR
VERSION:2.0
PRODID:-//Villa de Mazo - ECPv6.15.20//NONSGML v1.0//EN
CALSCALE:GREGORIAN
METHOD:PUBLISH
X-WR-CALNAME:Villa de Mazo
X-ORIGINAL-URL:https://villademazo.com
X-WR-CALDESC:Eventos para Villa de Mazo
REFRESH-INTERVAL;VALUE=DURATION:PT1H
X-Robots-Tag:noindex
X-PUBLISHED-TTL:PT1H
BEGIN:VTIMEZONE
TZID:UTC
BEGIN:STANDARD
TZOFFSETFROM:+0000
TZOFFSETTO:+0000
TZNAME:UTC
DTSTART:20240101T000000
END:STANDARD
END:VTIMEZONE
BEGIN:VEVENT
DTSTART;TZID=UTC:20251020T160000
DTEND;TZID=UTC:20251107T200000
DTSTAMP:20260422T105400
CREATED:20251013T082756Z
LAST-MODIFIED:20251013T082756Z
UID:15206-1760976000-1762545600@villademazo.com
SUMMARY:Curso de Pintura en Tela (Motivos Navideños)
DESCRIPTION:Imparte: Annette Heidi Salazar Tejera (Artesana)\n\n\n\nDel 20 de octubre al 7 de noviembre\nLunes y viernes\nDe 16:00 a 20:00 horas\nAula parte alta del Mercadillo Municipal\n\n\n\nPrioridad para empadronad@s en el municipio\n\n\n\nINSCRIPCIÓNES Y MÁS INFORMACIÓN :\nAgencia de Empleo y Desarrollo Local\nTeléfono: 922 440 003 (Ext. 205)\n artesania@villademazo.es\n\n\n\nGRATUITO\nPLAZAS LIMITADAS
URL:https://villademazo.com/eventos/curso-de-pintura-en-tela-motivos-navidenos/
LOCATION:Parte alta Mercadillo Municipal\, Carretera Doctor Morera Bravo\, Villa de Mazo\, Santa Cruz de Tenerife\, 38730\, Spain
CATEGORIES:Artesanía,Formación
ATTACH;FMTTYPE=image/jpeg:https://villademazo.com/wp-content/uploads/2025/10/pintura-en-tela.jpg
ORGANIZER;CN="Ayuntamiento Villa de Mazo - Agencia de Empleo y Desarrollo Local":MAILTO:artesania@villademazo.es
END:VEVENT
BEGIN:VEVENT
DTSTART;TZID=UTC:20251104T160000
DTEND;TZID=UTC:20251104T210000
DTSTAMP:20260422T105400
CREATED:20251103T091755Z
LAST-MODIFIED:20251103T091755Z
UID:15475-1762272000-1762290000@villademazo.com
SUMMARY:Taller de Firma Digital
DESCRIPTION:4 DE NOVIEMBRE(16 a 21 horas)AULAS DE FORMACIÓN “ANDARES”GRATUITO \nINSCRIPCIONES:(Prioridad empadronad@s y/o desemplead@s en el municipio) \nFORMACIÓN y TURISMOAgencia de Empleo y Desarrollo LocalTeléfono 922 440 003 Extensión 205formacion@villademazo.es \nIMPARTE: CANENFORORGANIZA: Ayuntamiento Villa de Mazo
URL:https://villademazo.com/eventos/taller-de-firma-digital/
LOCATION:Aula de Formación del Centro Andares\, Ctra. Dr. Morera Bravo\, 3\, Villa de Mazo\, Santa Cruz de Tenerife\, 38730\, España
CATEGORIES:Formación
ATTACH;FMTTYPE=image/jpeg:https://villademazo.com/wp-content/uploads/2025/10/firma-digital.jpg
ORGANIZER;CN="Ayuntamiento Villa de Mazo - Concejal%C3%ADa de Formaci%C3%B3n y Empleo":MAILTO:formacion@villademazo.es
END:VEVENT
BEGIN:VEVENT
DTSTART;TZID=UTC:20251105T150000
DTEND;TZID=UTC:20251105T170000
DTSTAMP:20260422T105400
CREATED:20250910T112429Z
LAST-MODIFIED:20250910T112445Z
UID:14923-1762354800-1762362000@villademazo.com
SUMMARY:Proyecto Adelante
DESCRIPTION:El Ayuntamiento de Villa de Mazo\, en colaboración con la Asociación Compartiendo Metas y el Gobierno de Canarias\, pone en marcha sesiones gratuitas de alfabetización digital para personas mayores de 65 años. \n👉 Aprenderás a:\n✅ Usar correctamente tu smartphone\n✅ Manejar WhatsApp y redes sociales\n✅ Evitar estafas por internet\n✅ Gestionar trámites telemáticos\n✅ ¡Y mucho más! \n📍 Lugar: Centro Ocupacional Garehagua\n🗓 Fechas: 05/11\, 19/11 y 03/12\n🕒 Horario: de 15:00 a 17:00 h \n⚠️ Plazas limitadas. Inscripción en Servicios Sociales o a través de la Sede Electrónica (imprescindible fotocopia del DNI). \nℹ️ Más información:\n📞 922 440 003 Ext. 220\n📧 ssociales@villademazo.es
URL:https://villademazo.com/eventos/proyecto-adelante-3/
LOCATION:Centro Ocupacional Garehagua\, Ctra. Dr. Morera Bravo\, 12a\, Villa de Mazo\, Santa Cruz de Tenerife\, 38730\, Spain
CATEGORIES:Formación
ATTACH;FMTTYPE=image/jpeg:https://villademazo.com/wp-content/uploads/2025/09/Proyecto-Adelante.jpeg
ORGANIZER;CN="Ayuntamiento Villa de Mazo - Concejal%C3%ADa de Servicios Sociales":MAILTO:ssociales@villademazo.es
END:VEVENT
BEGIN:VEVENT
DTSTART;TZID=UTC:20251105T160000
DTEND;TZID=UTC:20251105T210000
DTSTAMP:20260422T105400
CREATED:20251103T092822Z
LAST-MODIFIED:20251103T092822Z
UID:15483-1762358400-1762376400@villademazo.com
SUMMARY:Taller de Factura Electrónica
DESCRIPTION:El área de Formación y Turismo del Ayuntamiento de la Villa de Mazo te invita al Taller de Factura Electrónica\, una formación esencial para la gestión moderna de negocios y documentación. \n\nFecha: 5 de noviembre.\nHorario: De 16 a 21 horas.\nLugar: Aulas de Formación “Andares”.\nImparte: CANENFOR.\nCosto: GRATUITO.\nInscripción y Contacto (Agencia de Empleo y Desarrollo Local):\n\nTeléfono: 922 440 003 Extensión 205\nCorreo: formacion@villademazo.es\n\n\n\nPrioridad de Inscripción: Empadronados/as en el municipio y/o desempleados/as.
URL:https://villademazo.com/eventos/taller-de-factura-electronica/
LOCATION:Aula de Formación del Centro Andares\, Ctra. Dr. Morera Bravo\, 3\, Villa de Mazo\, Santa Cruz de Tenerife\, 38730\, España
CATEGORIES:Formación
ATTACH;FMTTYPE=image/jpeg:https://villademazo.com/wp-content/uploads/2025/10/factura-electronica.jpg
ORGANIZER;CN="Ayuntamiento Villa de Mazo - Concejal%C3%ADa de Formaci%C3%B3n y Empleo":MAILTO:formacion@villademazo.es
END:VEVENT
BEGIN:VEVENT
DTSTART;TZID=UTC:20251105T160000
DTEND;TZID=UTC:20251217T190000
DTSTAMP:20260422T105400
CREATED:20251103T092625Z
LAST-MODIFIED:20251103T092625Z
UID:15479-1762358400-1765998000@villademazo.com
SUMMARY:Curso de Iniciación al Encaje de "Frivolité"
DESCRIPTION:¡Aprende el arte del Encaje de “Frivolité”! 🧶 Curso Gratuito \nEl Ayuntamiento de la Villa de Mazo organiza un Curso de Iniciación al Encaje de “Frivolité”\, una oportunidad para adentrarse en esta hermosa técnica artesanal. El curso será impartido por la artesana Silvia Abrante Concepción. \n\nFechas: Del 5 de noviembre al 17 de diciembre (se imparte los miércoles).\nHorario: De 16:00 a 19:00 horas.\nLugar: Aula planta alta del Mercadillo Municipal.\nCosto: GRATUITO.\nOrganiza: Artesanía – Agencia de Empleo y Desarrollo Local.\nContacto para Inscripción:\n\nTeléfono: 922 440 003 Extensión 205\nCorreo: artesania@villademazo.es\n\n\n\nRecuerda: Las PLAZAS SON LIMITADAS. La inscripción tiene prioridad para empadronados/as en el municipio.
URL:https://villademazo.com/eventos/curso-de-iniciacion-al-encaje-de-frivolite/
LOCATION:Parte alta Mercadillo Municipal\, Carretera Doctor Morera Bravo\, Villa de Mazo\, Santa Cruz de Tenerife\, 38730\, Spain
CATEGORIES:Artesanía,Formación
ATTACH;FMTTYPE=image/jpeg:https://villademazo.com/wp-content/uploads/2025/11/frivolite.jpg
ORGANIZER;CN="Ayuntamiento Villa de Mazo - Artesan%C3%ADa":MAILTO:artesania@villademazo.es
END:VEVENT
BEGIN:VEVENT
DTSTART;TZID=UTC:20251106T160000
DTEND;TZID=UTC:20251107T200000
DTSTAMP:20260422T105400
CREATED:20251103T092330Z
LAST-MODIFIED:20251103T092330Z
UID:15477-1762444800-1762545600@villademazo.com
SUMMARY:Taller de Digitalización - Píldoras Formativas
DESCRIPTION:¡Descubre Internet! 💻 Curso Básico de Alfabetización Informacional \nEl Ayuntamiento de la Villa de Mazo\, a través de Roboótics Education\, te invita a las Píldoras Formativas de Digitalización: Descubre Internet. Este es un curso de Nivel Básico (A1 y A2) diseñado para adquirir los conceptos esenciales de la red\, como el uso de buscadores\, las descargas y el manejo de recursos digitales para el ocio y el tiempo libre. \n\nDuración total: 7\,5 horas.\nFechas y Horarios:\n\nJueves 6 de noviembre: 16:00h a 20:00h\nViernes 7 de noviembre: 16:00h a 19:30h\n\n\nLugar: Aula de formación del Centro Cultural Andares.\nCosto: Formación GRATUITA.\nInscripción y Contacto (Agencia de Empleo y Desarrollo Local):\n\nTeléfono: 922 440 003 Extensión 205\nCorreo: formacion@villademazo.es\n\n\n\nNota importante: Prioridad de participación para empadronados en el municipio y/o desempleados/as.
URL:https://villademazo.com/eventos/taller-de-digitalizacion-pildoras-formativas/
LOCATION:Aula de Formación del Centro Andares\, Ctra. Dr. Morera Bravo\, 3\, Villa de Mazo\, Santa Cruz de Tenerife\, 38730\, España
CATEGORIES:Formación
ATTACH;FMTTYPE=image/jpeg:https://villademazo.com/wp-content/uploads/2025/10/taller-digitalizacion.jpg
ORGANIZER;CN="Ayuntamiento Villa de Mazo - Concejal%C3%ADa de Formaci%C3%B3n y Empleo":MAILTO:formacion@villademazo.es
END:VEVENT
BEGIN:VEVENT
DTSTART;TZID=UTC:20251110T160000
DTEND;TZID=UTC:20251110T200000
DTSTAMP:20260422T105400
CREATED:20251106T090854Z
LAST-MODIFIED:20251117T141600Z
UID:15503-1762790400-1762804800@villademazo.com
SUMMARY:Herramientas digitales en el sector turístico
DESCRIPTION:¿Trabajas o te interesa el turismo? Aprende a utilizar las principales herramientas digitales que impulsan el sector y mejora tus competencias profesionales.\n\nDel 10 al 19 de noviembre\nDe 16:00 a 20:00 horas\nAulas de Formación “Andares”\nPrioridad para empadronad@s y/o desemplead@s del municipio.\nInscripciones:\nFORMACIÓN y TURISMO\nAgencia de Empleo y Desarrollo Local\nTel. 922 440 003 (Ext. 205)\nformacion@villademazo.es\n¡¡GRATUITO!!
URL:https://villademazo.com/eventos/curso-herramientas-digitales-en-el-sector-turistico/
LOCATION:Aula de Formación del Centro Andares\, Ctra. Dr. Morera Bravo\, 3\, Villa de Mazo\, Santa Cruz de Tenerife\, 38730\, España
CATEGORIES:Formación
ATTACH;FMTTYPE=image/jpeg:https://villademazo.com/wp-content/uploads/2025/11/herramientas-digitales.jpg
ORGANIZER;CN="Ayuntamiento Villa de Mazo - Concejal%C3%ADa de Formaci%C3%B3n y Empleo":MAILTO:formacion@villademazo.es
END:VEVENT
BEGIN:VEVENT
DTSTART;TZID=UTC:20251110T160000
DTEND;TZID=UTC:20251124T200000
DTSTAMP:20260422T105400
CREATED:20251106T084603Z
LAST-MODIFIED:20251117T141507Z
UID:15494-1762790400-1764014400@villademazo.com
SUMMARY:Taller artesano de “RECICLAJE TEXTIL” (Detalles Navideños)
DESCRIPTION:¿Quieres aprender a crear adornos navideños únicos reutilizando telas y materiales textiles? \nTe invitamos a participar en este taller donde podrás desarrollar tu creatividad y dar una segunda vida a tus prendas. \n  \n10\, 17 y 24 de noviembre\nAula planta alta del Mercadillo Municipal \nImparte la artesana Maira Riverol Cabello. \nPrioridad para empadronad@s en el municipio. \nINSCRIPCIÓN:\nARTESANÍA\nAgencia de Empleo y Desarrollo Local \nTel. 922 440 003 (Ext. 205)\nartesania@villademazo.es \n¡¡GRATUITO!!\n¡¡PLAZAS LIMITADAS!!
URL:https://villademazo.com/eventos/navidad-sostenible-taller-artesano-de-reciclaje-textil-detalles-navidenos/
LOCATION:Parte alta Mercadillo Municipal\, Carretera Doctor Morera Bravo\, Villa de Mazo\, Santa Cruz de Tenerife\, 38730\, Spain
CATEGORIES:Artesanía,Formación
ATTACH;FMTTYPE=image/jpeg:https://villademazo.com/wp-content/uploads/2025/11/reciclaje-textil.jpg
ORGANIZER;CN="Ayuntamiento Villa de Mazo - Artesan%C3%ADa":MAILTO:artesania@villademazo.es
END:VEVENT
BEGIN:VEVENT
DTSTART;TZID=UTC:20251117T160000
DTEND;TZID=UTC:20251121T200000
DTSTAMP:20260422T105400
CREATED:20251112T103614Z
LAST-MODIFIED:20251117T141438Z
UID:15526-1763395200-1763755200@villademazo.com
SUMMARY:Fibras y Encuadernación
DESCRIPTION:¡Aprende el arte tradicional de la encuadernación con expertos!\nEl Ayuntamiento de Villa de Mazo\, en colaboración con Artesanía La Palma\, te invita a participar en el Curso Gratuito de Fibras y Encuadernación\, una oportunidad única para acercarte a este oficio artesanal. \nDe la mano del reconocido artesano Manuel Alexi Pérez Reverón\, los participantes aprenderán técnicas esenciales para trabajar con fibras y aplicarlas en la creación de encuadernaciones únicas y de calidad. Es la ocasión perfecta para desarrollar habilidades manuales y preservar las tradiciones artesanales. \n\nFechas: Del lunes 17 al viernes 21 de noviembre de 2025.\nHorario: De 16:00 a 20:00 horas.\nLugar: Taller del Artesano (El Batán Papeles Artesanos)\, ubicado en Montes de Luna\, 37.\nCoste: La formación es GRATUITA.\nInscripciones: Para asegurar tu plaza (prioridad para empadronados/as)\, contacta con la Agencia de Empleo y Desarrollo Local a través de:\n\nTeléfono: 922 440 003\, Extensión 205\nEmail: artesania@villademazo.es
URL:https://villademazo.com/eventos/curso-gratuito-fibras-y-encuadernacion/
LOCATION:El Batán Papeles Artesanos\, Montes de Luna\, 37\, Villa de Mazo\, Santa Cruz de Tenerife\, 38730\, Spain
CATEGORIES:Artesanía,Formación
ATTACH;FMTTYPE=image/jpeg:https://villademazo.com/wp-content/uploads/2025/11/encuadernacion-1.jpg
ORGANIZER;CN="Ayuntamiento Villa de Mazo - Artesan%C3%ADa":MAILTO:artesania@villademazo.es
END:VEVENT
BEGIN:VEVENT
DTSTART;TZID=UTC:20251117T163000
DTEND;TZID=UTC:20251117T200000
DTSTAMP:20260422T105400
CREATED:20251112T104555Z
LAST-MODIFIED:20251117T141428Z
UID:15531-1763397000-1763409600@villademazo.com
SUMMARY:Convierte tus ideas en mensajes que impactan
DESCRIPTION:Domina el arte de la comunicación efectiva y el discurso público.\n¿Quieres que tus ideas no solo se escuchen\, sino que dejen una huella? Apúntate al VI Taller de Oratoria\, un encuentro intensivo diseñado para potenciar tus habilidades de comunicación y expresión oral. Bajo el lema “Convierte tus ideas en mensajes que impactan”\, aprenderás a estructurar discursos\, manejar el miedo escénico y utilizar tu voz y lenguaje corporal de manera persuasiva. \nEste taller será impartido por Ayoze Pérez Francisco\, un profesional que te guiará para que logres transmitir tus mensajes con claridad y confianza\, tanto en el ámbito personal como profesional. \n\nFecha y Hora: El lunes 17 de noviembre de 2025\, de 16:30h a 20:00h.\nLugar: Aulas de Formación Andares.\nCoste: La participación es GRATUITA\, pero las plazas son limitadas.\nInscripción: Es imprescindible formalizar la inscripción contactando con la Agencia de Empleo y Desarrollo Local. Se dará prioridad a los empadronados/as en el municipio.\n\nTeléfono: 922 440 003\, Extensión 205\nEmail: formacion@villademazo.es
URL:https://villademazo.com/eventos/vi-taller-de-oratoria-convierte-tus-ideas-en-mensajes-que-impactan/
LOCATION:Aula de Formación del Centro Andares\, Ctra. Dr. Morera Bravo\, 3\, Villa de Mazo\, Santa Cruz de Tenerife\, 38730\, España
CATEGORIES:Formación
ATTACH;FMTTYPE=image/jpeg:https://villademazo.com/wp-content/uploads/2025/11/vi-taller-oratoria.jpg
END:VEVENT
BEGIN:VEVENT
DTSTART;TZID=UTC:20251119T150000
DTEND;TZID=UTC:20251119T170000
DTSTAMP:20260422T105400
CREATED:20250910T112545Z
LAST-MODIFIED:20250910T112545Z
UID:14926-1763564400-1763571600@villademazo.com
SUMMARY:Proyecto Adelante
DESCRIPTION:El Ayuntamiento de Villa de Mazo\, en colaboración con la Asociación Compartiendo Metas y el Gobierno de Canarias\, pone en marcha sesiones gratuitas de alfabetización digital para personas mayores de 65 años. \n👉 Aprenderás a:\n✅ Usar correctamente tu smartphone\n✅ Manejar WhatsApp y redes sociales\n✅ Evitar estafas por internet\n✅ Gestionar trámites telemáticos\n✅ ¡Y mucho más! \n📍 Lugar: Centro Ocupacional Garehagua\n🗓 Fechas: 19/11 y 03/12\n🕒 Horario: de 15:00 a 17:00 h \n⚠️ Plazas limitadas. Inscripción en Servicios Sociales o a través de la Sede Electrónica (imprescindible fotocopia del DNI). \nℹ️ Más información:\n📞 922 440 003 Ext. 220\n📧 ssociales@villademazo.es
URL:https://villademazo.com/eventos/proyecto-adelante-4/
LOCATION:Centro Ocupacional Garehagua\, Ctra. Dr. Morera Bravo\, 12a\, Villa de Mazo\, Santa Cruz de Tenerife\, 38730\, Spain
CATEGORIES:Formación
ATTACH;FMTTYPE=image/jpeg:https://villademazo.com/wp-content/uploads/2025/09/Proyecto-Adelante.jpeg
ORGANIZER;CN="Ayuntamiento Villa de Mazo - Concejal%C3%ADa de Servicios Sociales":MAILTO:ssociales@villademazo.es
END:VEVENT
BEGIN:VEVENT
DTSTART;TZID=UTC:20251120T160000
DTEND;TZID=UTC:20251121T200000
DTSTAMP:20260422T105400
CREATED:20251112T114111Z
LAST-MODIFIED:20251117T141418Z
UID:15536-1763654400-1763755200@villademazo.com
SUMMARY:Uso y Manejo de Smartphone
DESCRIPTION:¡Aprende a usar tu móvil de forma autónoma\, segura y eficaz! \nEn la era digital\, el smartphone es una herramienta esencial. El Ayuntamiento de Villa de Mazo te ofrece esta Píldora Formativa de Digitalización\, un módulo práctico y gratuito centrado en el Uso y Manejo del Smartphone (Nivel Básico: A1 y A2). \nDurante las 7\,5 horas de formación\, los asistentes aprenderán a configurar elementos básicos\, instalar y gestionar aplicaciones\, navegar por internet con seguridad y aplicar buenas prácticas digitales para mejorar la comunicación y aprovechar al máximo sus dispositivos móviles. \n\nMódulo: Uso y manejo de smartphone.\nDuración Total: 7\,5 horas.\nFechas y Horario:\n\nJueves 20 de noviembre: de 16:00h a 20:00h\nViernes 21 de noviembre: de 16:00h a 19:30h\n\n\nLugar: Centro Cultural Andares (Aula de Formación).\nCoste: Formación GRATUITA.\nPrioridad: Dirigido exclusivamente a empadronados/as en el municipio y/o desempleados/as.\nInscripciones: Contacta con el área de Formación y Empleo de la Agencia de Empleo y Desarrollo Local:\n\nTeléfono: 922 440 003\, Extensión 205\nEmail: formacion@villademazo.es
URL:https://villademazo.com/eventos/pildora-formativa-digitalizacion-uso-y-manejo-de-smartphone/
LOCATION:Aula de Formación del Centro Andares\, Ctra. Dr. Morera Bravo\, 3\, Villa de Mazo\, Santa Cruz de Tenerife\, 38730\, España
CATEGORIES:Formación
ATTACH;FMTTYPE=image/jpeg:https://villademazo.com/wp-content/uploads/2025/11/digitalizacion.jpg
ORGANIZER;CN="Ayuntamiento Villa de Mazo - Concejal%C3%ADa de Formaci%C3%B3n y Empleo":MAILTO:formacion@villademazo.es
END:VEVENT
BEGIN:VEVENT
DTSTART;TZID=UTC:20251121T153000
DTEND;TZID=UTC:20251121T193000
DTSTAMP:20260422T105400
CREATED:20251121T083431Z
LAST-MODIFIED:20251121T083431Z
UID:15718-1763739000-1763753400@villademazo.com
SUMMARY:Taller de Reciclado de Materiales
DESCRIPTION:Dentro del ciclo “Navidad Sostenible y Creativa”\, se impartirá el “Taller de Reciclado de Materiales”\, una actividad gratuita que busca promover la creatividad y la sostenibilidad. El taller se llevará a cabo el 21 de noviembre\, en horario de 15:30 a 19:30 horas\, en la Biblioteca Municipal. Será impartido por la artesana Annette Heidi Salazar Tejera. Las inscripciones son gestionadas por la Agencia de Empleo y Desarrollo Local (922 440 003\, Ext. 205 o artesania@villademazo.es)\, con prioridad para las personas empadronadas en el municipio\, y las plazas son limitadas.
URL:https://villademazo.com/eventos/taller-de-reciclado-de-materiales-2/
LOCATION:Biblioteca Pública Municipal “Alonso Pérez Díaz”\, Plaza Alonso Pérez Díaz\, Villa de Mazo\, Santa Cruz de Tenerife\, 38730\, Spain
CATEGORIES:Artesanía,Formación
ATTACH;FMTTYPE=image/jpeg:https://villademazo.com/wp-content/uploads/2025/11/taller-mazo.jpg
ORGANIZER;CN="Ayuntamiento Villa de Mazo - Artesan%C3%ADa":MAILTO:artesania@villademazo.es
END:VEVENT
BEGIN:VEVENT
DTSTART;TZID=UTC:20251124T160000
DTEND;TZID=UTC:20251202T200000
DTSTAMP:20260422T105400
CREATED:20251121T084102Z
LAST-MODIFIED:20251121T084102Z
UID:15724-1764000000-1764705600@villademazo.com
SUMMARY:Curso de Ecoturismo
DESCRIPTION:La Concejalía de Formación y Turismo organiza el Curso de Ecoturismo\, una formación gratuita impartida por CANENFOR. El curso se llevará a cabo del 24 de noviembre al 2 de diciembre\, en horario de 16:00 a 20:00 horas\, en las Aulas de Formación “Andares”. Se dará prioridad a la inscripción de personas empadronadas en el municipio. Los interesados deben contactar con la Agencia de Empleo y Desarrollo Local a través del teléfono 922 440 003\, extensión 205\, o el correo formacion@villademazo.es.
URL:https://villademazo.com/eventos/curso-de-ecoturismo/
LOCATION:Aula de Formación del Centro Andares\, Ctra. Dr. Morera Bravo\, 3\, Villa de Mazo\, Santa Cruz de Tenerife\, 38730\, España
CATEGORIES:Formación
ATTACH;FMTTYPE=image/jpeg:https://villademazo.com/wp-content/uploads/2025/11/curso-ecoturismo.jpg
ORGANIZER;CN="Ayuntamiento Villa de Mazo - Concejal%C3%ADa de Formaci%C3%B3n y Empleo":MAILTO:formacion@villademazo.es
END:VEVENT
BEGIN:VEVENT
DTSTART;TZID=UTC:20251125T153000
DTEND;TZID=UTC:20251125T193000
DTSTAMP:20260422T105400
CREATED:20251121T084443Z
LAST-MODIFIED:20251121T084443Z
UID:15730-1764084600-1764099000@villademazo.com
SUMMARY:Taller de Cerería
DESCRIPTION:El Ayuntamiento\, a través de su programa “Navidad Sostenible y Creativa”\, ofrece el “Taller de Cerería” de forma gratuita. El taller será impartido por la artesana Nuria Rodríguez López el 25 de noviembre\, en horario de 15:30 a 19:30 horas\, y se desarrollará en la Biblioteca Municipal. Las plazas son limitadas y se priorizará la inscripción de personas empadronadas. Los interesados deben dirigirse a la Agencia de Empleo y Desarrollo Local (922 440 003\, Ext. 205 o artesania@villademazo.es).
URL:https://villademazo.com/eventos/taller-de-cereria/
LOCATION:Biblioteca Pública Municipal “Alonso Pérez Díaz”\, Plaza Alonso Pérez Díaz\, Villa de Mazo\, Santa Cruz de Tenerife\, 38730\, Spain
CATEGORIES:Artesanía,Formación
ATTACH;FMTTYPE=image/jpeg:https://villademazo.com/wp-content/uploads/2025/11/art-mazo.jpg
ORGANIZER;CN="Ayuntamiento Villa de Mazo - Artesan%C3%ADa":MAILTO:artesania@villademazo.es
END:VEVENT
BEGIN:VEVENT
DTSTART;TZID=UTC:20251125T160000
DTEND;TZID=UTC:20251211T193000
DTSTAMP:20260422T105400
CREATED:20251121T083845Z
LAST-MODIFIED:20251121T083845Z
UID:15720-1764086400-1765481400@villademazo.com
SUMMARY:Curso "Patronaje Básico"
DESCRIPTION:Se ofrece el Curso “Patronaje Básico”\, una formación gratuita impartida por la artesana Mari Carmen Felipe Pérez. El curso se desarrollará del 25 de noviembre al 11 de diciembre\, con clases los martes y jueves\, en horario de 16:00 a 19:30 horas\, en el Aula parte alta del Mercadillo Municipal. La actividad está organizada por el área de Artesanía. Para la inscripción\, es necesario contactar con la Agencia de Empleo y Desarrollo Local (922 440 003 Ext. 205 o artesania@villademazo.es). Las plazas son limitadas y se dará prioridad a los empadronados.
URL:https://villademazo.com/eventos/curso-patronaje-basico/
LOCATION:Parte alta Mercadillo Municipal\, Carretera Doctor Morera Bravo\, Villa de Mazo\, Santa Cruz de Tenerife\, 38730\, Spain
CATEGORIES:Artesanía,Formación
ATTACH;FMTTYPE=image/jpeg:https://villademazo.com/wp-content/uploads/2025/11/patronaje-basico.jpg
ORGANIZER;CN="Ayuntamiento Villa de Mazo - Artesan%C3%ADa":MAILTO:artesania@villademazo.es
END:VEVENT
BEGIN:VEVENT
DTSTART;TZID=UTC:20251126T093000
DTEND;TZID=UTC:20251126T110000
DTSTAMP:20260422T105400
CREATED:20251121T085043Z
LAST-MODIFIED:20251121T085043Z
UID:15734-1764149400-1764154800@villademazo.com
SUMMARY:Talleres de Empleabilidad
DESCRIPTION:Se anuncian varios Talleres de Empleabilidad para mejorar las competencias profesionales\, con sesiones programadas los miércoles de 09:30 a 11:00 horas en el Aula N° 3 de la Casa de la Cultura Andares\, Villa de Mazo. Los temas son: el 26 de noviembre sobre el valor de las competencias para el empleo\, el 3 de diciembre sobre pautas de redacción de CV y su uso\, y el 10 de diciembre sobre la preparación de entrevistas de trabajo (presenciales/telemáticas). Para obtener más información\, se facilita el contacto telefónico 690963309.
URL:https://villademazo.com/eventos/talleres-de-empleabilidad/
LOCATION:Aula de Formación del Centro Andares\, Ctra. Dr. Morera Bravo\, 3\, Villa de Mazo\, Santa Cruz de Tenerife\, 38730\, España
CATEGORIES:Formación
ATTACH;FMTTYPE=image/jpeg:https://villademazo.com/wp-content/uploads/2025/11/talleres-empleabilidad.jpg
END:VEVENT
BEGIN:VEVENT
DTSTART;TZID=UTC:20251126T153000
DTEND;TZID=UTC:20251126T193000
DTSTAMP:20260422T105400
CREATED:20251121T084310Z
LAST-MODIFIED:20251121T084310Z
UID:15728-1764171000-1764185400@villademazo.com
SUMMARY:Taller de Muñequería
DESCRIPTION:Como parte de la iniciativa “Navidad Sostenible y Creativa”\, se presenta el “Taller de Muñequería”. Esta actividad gratuita tendrá lugar el 26 de noviembre\, de 15:30 a 19:30 horas\, en la Biblioteca Municipal. El taller será impartido por la artesana Maira Riverol Cabello. Las inscripciones son limitadas\, con prioridad para empadronados en Villa de Mazo\, y deben realizarse a través de los contactos de la Agencia de Empleo y Desarrollo Local (teléfono 922 440 003\, extensión 205; correo artesania@villademazo.es).
URL:https://villademazo.com/eventos/taller-de-munequeria/
LOCATION:Biblioteca Pública Municipal “Alonso Pérez Díaz”\, Plaza Alonso Pérez Díaz\, Villa de Mazo\, Santa Cruz de Tenerife\, 38730\, Spain
CATEGORIES:Artesanía,Formación
ATTACH;FMTTYPE=image/jpeg:https://villademazo.com/wp-content/uploads/2025/11/arte.jpg
ORGANIZER;CN="Ayuntamiento Villa de Mazo - Artesan%C3%ADa":MAILTO:artesania@villademazo.es
END:VEVENT
BEGIN:VEVENT
DTSTART;VALUE=DATE:20251128
DTEND;VALUE=DATE:20251201
DTSTAMP:20260422T105400
CREATED:20251121T135855Z
LAST-MODIFIED:20251121T135855Z
UID:15755-1764288000-1764547199@villademazo.com
SUMMARY:VI Jornadas Micológicas Villa de Mazo 2025
DESCRIPTION:El Ayuntamiento de Villa de Mazo y el Centro Micológico La Palma organizan las VI Jornadas Micológicas Villa de Mazo 2025\, una actividad dedicada al estudio y la divulgación de las setas. \nLas VI Jornadas Micológicas Villa de Mazo 2025 se celebrarán del viernes 28 al domingo 30 de noviembre en el Mercadillo Municipal y la Casa Roja\, comenzando con una charla de iniciación sobre setas comunes y tóxicas de La Palma. El eje central es el sábado 29\, con una salida de campo a la zona de El Pilar para la recolección\, que requiere inscripción previa (922 44 00 03 ext. 308)\, seguida de la clasificación de los ejemplares para la exposición. Finalmente\, el domingo 30 culmina con la exposición abierta al público\, la cata de cocina guiada con las variedades recolectadas y la clausura oficial.
URL:https://villademazo.com/eventos/vi-jornadas-micologicas-villa-de-mazo-2025/
LOCATION:Mercadillo de Villa de Mazo\, Calle Enlace Doctor Morera Bravo (El Pueblo)\, Villa de Mazo\,\, Santa Cruz de Tenerife\, 38730
CATEGORIES:Formación
ATTACH;FMTTYPE=image/jpeg:https://villademazo.com/wp-content/uploads/2025/11/jornada-micologica.jpeg
END:VEVENT
BEGIN:VEVENT
DTSTART;TZID=UTC:20251128T153000
DTEND;TZID=UTC:20251128T193000
DTSTAMP:20260422T105400
CREATED:20251121T084702Z
LAST-MODIFIED:20251121T084702Z
UID:15732-1764343800-1764358200@villademazo.com
SUMMARY:Taller de Patchwork
DESCRIPTION:El “Taller de Patchwork” forma parte de las actividades “Navidad Sostenible y Creativa”\, siendo una formación gratuita que se llevará a cabo el 28 de noviembre. El horario será de 15:30 a 19:30 horas en la Biblioteca Municipal\, y estará a cargo de la artesana Carmen Dolores Pérez Arrocha. La inscripción es limitada y prioritaria para empadronados. Para reservar plaza\, contacte con Artesanía de la Agencia de Empleo y Desarrollo Local (922 440 003 Ext. 205 o artesania@villademazo.es).
URL:https://villademazo.com/eventos/taller-de-patchwork/
LOCATION:Biblioteca Pública Municipal “Alonso Pérez Díaz”\, Plaza Alonso Pérez Díaz\, Villa de Mazo\, Santa Cruz de Tenerife\, 38730\, Spain
CATEGORIES:Artesanía,Formación
ATTACH;FMTTYPE=image/jpeg:https://villademazo.com/wp-content/uploads/2025/11/mazoo.jpg
ORGANIZER;CN="Ayuntamiento Villa de Mazo - Artesan%C3%ADa":MAILTO:artesania@villademazo.es
END:VEVENT
END:VCALENDAR