BEGIN:VCALENDAR
VERSION:2.0
PRODID:-//Villa de Mazo - ECPv6.15.20//NONSGML v1.0//EN
CALSCALE:GREGORIAN
METHOD:PUBLISH
X-WR-CALNAME:Villa de Mazo
X-ORIGINAL-URL:https://villademazo.com
X-WR-CALDESC:Eventos para Villa de Mazo
REFRESH-INTERVAL;VALUE=DURATION:PT1H
X-Robots-Tag:noindex
X-PUBLISHED-TTL:PT1H
BEGIN:VTIMEZONE
TZID:UTC
BEGIN:STANDARD
TZOFFSETFROM:+0000
TZOFFSETTO:+0000
TZNAME:UTC
DTSTART:20230101T000000
END:STANDARD
END:VTIMEZONE
BEGIN:VEVENT
DTSTART;TZID=UTC:20241007T170000
DTEND;TZID=UTC:20250616T190000
DTSTAMP:20260424T204048
CREATED:20240912T082214Z
LAST-MODIFIED:20240912T082214Z
UID:12516-1728320400-1750100400@villademazo.com
SUMMARY:Talleres de Motivación a la Lectura
DESCRIPTION:En la Biblioteca Pública Municipal “Alonso Pérez Díaz”. \nDe 17:00 a 19:00 horas. \nTodos los lunes desde el 7 de octubre de 2024 hasta el 16 de junio de 2025. \nInscripción y contacto:\nbiblioteca@villademazo.es\n922440003 ext. 210\n(Los días martes a jueves de 15:00 a19:00)
URL:https://villademazo.com/eventos/talleres-de-motivacion-a-la-lectura/
LOCATION:Biblioteca Pública Municipal “Alonso Pérez Díaz”\, Plaza Alonso Pérez Díaz\, Villa de Mazo\, Santa Cruz de Tenerife\, 38730\, Spain
CATEGORIES:Lectura
ATTACH;FMTTYPE=image/jpeg:https://villademazo.com/wp-content/uploads/2024/09/biblioteca.jpg
END:VEVENT
BEGIN:VEVENT
DTSTART;TZID=UTC:20241212T173000
DTEND;TZID=UTC:20241212T190000
DTSTAMP:20260424T204048
CREATED:20241115T160338Z
LAST-MODIFIED:20250102T103241Z
UID:12966-1734024600-1734030000@villademazo.com
SUMMARY:Espacio Literario "El Rincón de Alonsín"
DESCRIPTION:A partir del mes de noviembre damos inicio al Espacio Literario “El Rincón de Alonsín” dirigido para adolescentes\, adultos y familias a través del planteamiento de diversas sesiones semanales que tendrán lugar en nuestra biblioteca municipal: \n📚 Descubre libros auténticos\n🏛 Habrá sesiones tematizadas para el desarrollo de la comprensión lectora y la creatividad \n¡Empezamos! \n📆Jueves\, 12 de diciembre\n🕖 De 17.30 a 19.00 horas\n📍Biblioteca Municipal Alonso Pérez Díaz – Villa de Mazo \n#cultura #villademazo #bibliotecaalsonsoperezdiaz #elrincondealonsin
URL:https://villademazo.com/eventos/espacio-literario-el-rincon-de-alonsin-4/
LOCATION:Biblioteca Pública Municipal “Alonso Pérez Díaz”\, Plaza Alonso Pérez Díaz\, Villa de Mazo\, Santa Cruz de Tenerife\, 38730\, Spain
CATEGORIES:Lectura
ATTACH;FMTTYPE=image/jpeg:https://villademazo.com/wp-content/uploads/2024/11/el-rincon-alonsin.jpg
END:VEVENT
BEGIN:VEVENT
DTSTART;TZID=UTC:20241226T173000
DTEND;TZID=UTC:20241226T190000
DTSTAMP:20260424T204048
CREATED:20241115T162204Z
LAST-MODIFIED:20250102T103220Z
UID:12968-1735234200-1735239600@villademazo.com
SUMMARY:Espacio Literario "El Rincón de Alonsín"
DESCRIPTION:A partir del mes de noviembre damos inicio al Espacio Literario “El Rincón de Alonsín” dirigido para adolescentes\, adultos y familias a través del planteamiento de diversas sesiones semanales que tendrán lugar en nuestra biblioteca municipal: \n📚 Descubre libros auténticos\n🏛 Habrá sesiones tematizadas para el desarrollo de la comprensión lectora y la creatividad \n¡Empezamos! \n📆Jueves\, 26 de diciembre\n🕖 De 17.30 a 19.00 horas\n📍Biblioteca Municipal Alonso Pérez Díaz – Villa de Mazo \n#cultura #villademazo #bibliotecaalsonsoperezdiaz #elrincondealonsin
URL:https://villademazo.com/eventos/espacio-literario-el-rincon-de-alonsin-copy/
LOCATION:Biblioteca Pública Municipal “Alonso Pérez Díaz”\, Plaza Alonso Pérez Díaz\, Villa de Mazo\, Santa Cruz de Tenerife\, 38730\, Spain
CATEGORIES:Lectura
ATTACH;FMTTYPE=image/jpeg:https://villademazo.com/wp-content/uploads/2024/11/el-rincon-alonsin.jpg
END:VEVENT
END:VCALENDAR