BEGIN:VCALENDAR
VERSION:2.0
PRODID:-//Villa de Mazo - ECPv6.15.20//NONSGML v1.0//EN
CALSCALE:GREGORIAN
METHOD:PUBLISH
X-ORIGINAL-URL:https://villademazo.com
X-WR-CALDESC:Eventos para Villa de Mazo
REFRESH-INTERVAL;VALUE=DURATION:PT1H
X-Robots-Tag:noindex
X-PUBLISHED-TTL:PT1H
BEGIN:VTIMEZONE
TZID:UTC
BEGIN:STANDARD
TZOFFSETFROM:+0000
TZOFFSETTO:+0000
TZNAME:UTC
DTSTART:20230101T000000
END:STANDARD
END:VTIMEZONE
BEGIN:VEVENT
DTSTART;TZID=UTC:20241007T170000
DTEND;TZID=UTC:20250616T190000
DTSTAMP:20260424T191214
CREATED:20240912T082214Z
LAST-MODIFIED:20240912T082214Z
UID:12516-1728320400-1750100400@villademazo.com
SUMMARY:Talleres de Motivación a la Lectura
DESCRIPTION:En la Biblioteca Pública Municipal “Alonso Pérez Díaz”. \nDe 17:00 a 19:00 horas. \nTodos los lunes desde el 7 de octubre de 2024 hasta el 16 de junio de 2025. \nInscripción y contacto:\nbiblioteca@villademazo.es\n922440003 ext. 210\n(Los días martes a jueves de 15:00 a19:00)
URL:https://villademazo.com/eventos/talleres-de-motivacion-a-la-lectura/
LOCATION:Biblioteca Pública Municipal “Alonso Pérez Díaz”\, Plaza Alonso Pérez Díaz\, Villa de Mazo\, Santa Cruz de Tenerife\, 38730\, Spain
CATEGORIES:Lectura
ATTACH;FMTTYPE=image/jpeg:https://villademazo.com/wp-content/uploads/2024/09/biblioteca.jpg
END:VEVENT
BEGIN:VEVENT
DTSTART;TZID=UTC:20250109T173000
DTEND;TZID=UTC:20250109T190000
DTSTAMP:20260424T191214
CREATED:20241115T162510Z
LAST-MODIFIED:20250102T103158Z
UID:12971-1736443800-1736449200@villademazo.com
SUMMARY:Espacio Literario "El Rincón de Alonsín"
DESCRIPTION:A partir del mes de noviembre damos inicio al Espacio Literario “El Rincón de Alonsín” dirigido para adolescentes\, adultos y familias a través del planteamiento de diversas sesiones semanales que tendrán lugar en nuestra biblioteca municipal: \n📚 Descubre libros auténticos\n🏛 Habrá sesiones tematizadas para el desarrollo de la comprensión lectora y la creatividad \n¡Empezamos! \n📆Jueves\, 9 de enero\n🕖 De 17.30 a 19.00 horas\n📍Biblioteca Municipal Alonso Pérez Díaz – Villa de Mazo \n#cultura #villademazo #bibliotecaalsonsoperezdiaz #elrincondealonsin
URL:https://villademazo.com/eventos/espacio-literario-el-rincon-de-alonsin-5/
LOCATION:Biblioteca Pública Municipal “Alonso Pérez Díaz”\, Plaza Alonso Pérez Díaz\, Villa de Mazo\, Santa Cruz de Tenerife\, 38730\, Spain
CATEGORIES:Lectura
ATTACH;FMTTYPE=image/jpeg:https://villademazo.com/wp-content/uploads/2024/11/el-rincon-alonsin.jpg
END:VEVENT
BEGIN:VEVENT
DTSTART;TZID=UTC:20250116T173000
DTEND;TZID=UTC:20250116T190000
DTSTAMP:20260424T191214
CREATED:20241115T162608Z
LAST-MODIFIED:20250102T103138Z
UID:12973-1737048600-1737054000@villademazo.com
SUMMARY:Espacio Literario "El Rincón de Alonsín"
DESCRIPTION:A partir del mes de noviembre damos inicio al Espacio Literario “El Rincón de Alonsín” dirigido para adolescentes\, adultos y familias a través del planteamiento de diversas sesiones semanales que tendrán lugar en nuestra biblioteca municipal: \n📚 Descubre libros auténticos\n🏛 Habrá sesiones tematizadas para el desarrollo de la comprensión lectora y la creatividad \n¡Empezamos! \n📆Jueves\, 16 de enero\n🕖 De 17.30 a 19.00 horas\n📍Biblioteca Municipal Alonso Pérez Díaz – Villa de Mazo \n#cultura #villademazo #bibliotecaalsonsoperezdiaz #elrincondealonsin
URL:https://villademazo.com/eventos/espacio-literario-el-rincon-de-alonsin-6/
LOCATION:Biblioteca Pública Municipal “Alonso Pérez Díaz”\, Plaza Alonso Pérez Díaz\, Villa de Mazo\, Santa Cruz de Tenerife\, 38730\, Spain
CATEGORIES:Lectura
ATTACH;FMTTYPE=image/jpeg:https://villademazo.com/wp-content/uploads/2024/11/el-rincon-alonsin.jpg
END:VEVENT
BEGIN:VEVENT
DTSTART;TZID=UTC:20250123T173000
DTEND;TZID=UTC:20250123T190000
DTSTAMP:20260424T191214
CREATED:20241115T162752Z
LAST-MODIFIED:20250102T103107Z
UID:12975-1737653400-1737658800@villademazo.com
SUMMARY:Espacio Literario "El Rincón de Alonsín"
DESCRIPTION:A partir del mes de noviembre damos inicio al Espacio Literario “El Rincón de Alonsín” dirigido para adolescentes\, adultos y familias a través del planteamiento de diversas sesiones semanales que tendrán lugar en nuestra biblioteca municipal: \n📚 Descubre libros auténticos\n🏛 Habrá sesiones tematizadas para el desarrollo de la comprensión lectora y la creatividad \n¡Empezamos! \n📆Jueves\, 23 de enero\n🕖 De 17.30 a 19.00 horas\n📍Biblioteca Municipal Alonso Pérez Díaz – Villa de Mazo \n#cultura #villademazo #bibliotecaalsonsoperezdiaz #elrincondealonsin
URL:https://villademazo.com/eventos/espacio-literario-el-rincon-de-alonsin-7/
LOCATION:Biblioteca Pública Municipal “Alonso Pérez Díaz”\, Plaza Alonso Pérez Díaz\, Villa de Mazo\, Santa Cruz de Tenerife\, 38730\, Spain
CATEGORIES:Lectura
ATTACH;FMTTYPE=image/jpeg:https://villademazo.com/wp-content/uploads/2024/11/el-rincon-alonsin.jpg
END:VEVENT
BEGIN:VEVENT
DTSTART;TZID=UTC:20250130T173000
DTEND;TZID=UTC:20250130T190000
DTSTAMP:20260424T191214
CREATED:20241115T163001Z
LAST-MODIFIED:20250102T102750Z
UID:12977-1738258200-1738263600@villademazo.com
SUMMARY:Espacio Literario "El Rincón de Alonsín"
DESCRIPTION:A partir del mes de noviembre damos inicio al Espacio Literario “El Rincón de Alonsín” dirigido para adolescentes\, adultos y familias a través del planteamiento de diversas sesiones semanales que tendrán lugar en nuestra biblioteca municipal: \n📚 Descubre libros auténticos\n🏛 Habrá sesiones tematizadas para el desarrollo de la comprensión lectora y la creatividad \n¡Empezamos! \n📆Jueves\, 30 de enero\n🕖 De 17.30 a 19.00 horas\n📍Biblioteca Municipal Alonso Pérez Díaz – Villa de Mazo \n#cultura #villademazo #bibliotecaalsonsoperezdiaz #elrincondealonsin
URL:https://villademazo.com/eventos/espacio-literario-el-rincon-de-alonsin-8/
LOCATION:Biblioteca Pública Municipal “Alonso Pérez Díaz”\, Plaza Alonso Pérez Díaz\, Villa de Mazo\, Santa Cruz de Tenerife\, 38730\, Spain
CATEGORIES:Lectura
ATTACH;FMTTYPE=image/jpeg:https://villademazo.com/wp-content/uploads/2024/11/el-rincon-alonsin.jpg
END:VEVENT
END:VCALENDAR