BEGIN:VCALENDAR
VERSION:2.0
PRODID:-//Villa de Mazo - ECPv6.15.20//NONSGML v1.0//EN
CALSCALE:GREGORIAN
METHOD:PUBLISH
X-ORIGINAL-URL:https://villademazo.com
X-WR-CALDESC:Eventos para Villa de Mazo
REFRESH-INTERVAL;VALUE=DURATION:PT1H
X-Robots-Tag:noindex
X-PUBLISHED-TTL:PT1H
BEGIN:VTIMEZONE
TZID:UTC
BEGIN:STANDARD
TZOFFSETFROM:+0000
TZOFFSETTO:+0000
TZNAME:UTC
DTSTART:20240101T000000
END:STANDARD
END:VTIMEZONE
BEGIN:VEVENT
DTSTART;TZID=UTC:20250719T120000
DTEND;TZID=UTC:20250719T130000
DTSTAMP:20260424T085349
CREATED:20250714T125955Z
LAST-MODIFIED:20250714T125955Z
UID:14424-1752926400-1752930000@villademazo.com
SUMMARY:Presentación del libro "El juego de encontrarte"
DESCRIPTION:✍️ Por Estefanía Concepción \nTe invitamos a encender la chispa y seguir las pistas de tu corazón con la presentación del libro “El juego de encontrarte”.Una obra que nos recuerda:“Vuelve a ti. Ahí está todo.” \n🗓 Fecha: Sábado 19 de julio🕛 Hora: 12:00 h📍 Lugar: Museo Casa Roja\, Villa de Mazo \nEvento organizado con el apoyo del Ayuntamiento de Villa de Mazo y el Museo Casa Roja. \n¡No te lo pierdas!
URL:https://villademazo.com/eventos/presentacion-del-libro-el-juego-de-encontrarte/
LOCATION:Museo Casa Roja\, C. Maximiliano Pérez Díaz\, 23\, Villa de Mazo\, Santa Cruz de Tenerife\, 38730\, España
CATEGORIES:Lectura
ATTACH;FMTTYPE=image/jpeg:https://villademazo.com/wp-content/uploads/2025/07/eljuegodeencontrarte.jpeg
END:VEVENT
END:VCALENDAR