BEGIN:VCALENDAR
VERSION:2.0
PRODID:-//Villa de Mazo - ECPv6.15.20//NONSGML v1.0//EN
CALSCALE:GREGORIAN
METHOD:PUBLISH
X-WR-CALNAME:Villa de Mazo
X-ORIGINAL-URL:https://villademazo.com
X-WR-CALDESC:Eventos para Villa de Mazo
REFRESH-INTERVAL;VALUE=DURATION:PT1H
X-Robots-Tag:noindex
X-PUBLISHED-TTL:PT1H
BEGIN:VTIMEZONE
TZID:UTC
BEGIN:STANDARD
TZOFFSETFROM:+0000
TZOFFSETTO:+0000
TZNAME:UTC
DTSTART:20240101T000000
END:STANDARD
END:VTIMEZONE
BEGIN:VEVENT
DTSTART;TZID=UTC:20250925T173000
DTEND;TZID=UTC:20250925T190000
DTSTAMP:20260422T181841
CREATED:20250922T092804Z
LAST-MODIFIED:20250922T092804Z
UID:15048-1758821400-1758826800@villademazo.com
SUMMARY:Espacio literario El Rincón de Alonsín
DESCRIPTION:Descubre libros auténticos y forma parte del club de la lectura.\nHabrá sesiones tematizadas.\nDesarrolla la comprensión lectora y creativa.\nDirigido a adolescentes\, adultos y familias.\n\nEstamos de vuelta… jueves\, 25/09/2025De 17:30 a 19:00 hBiblioteca Municipal Alonso Pérez Díaz \nOrganiza: Ayuntamiento Villa de Mazo\, Biblioteca Pública Municipal Alonso Pérez Díaz\, Red de Bibliotecas Canarias (BICA).
URL:https://villademazo.com/eventos/espacio-literario-el-rincon-de-alonsin-9/
LOCATION:Biblioteca Pública Municipal “Alonso Pérez Díaz”\, Plaza Alonso Pérez Díaz\, Villa de Mazo\, Santa Cruz de Tenerife\, 38730\, Spain
CATEGORIES:Lectura
ATTACH;FMTTYPE=image/jpeg:https://villademazo.com/wp-content/uploads/2025/09/rincon-alonsin.jpg
ORGANIZER;CN="Ayuntamiento de Villa de Mazo - Biblioteca":MAILTO:biblioteca@villademazo.es
END:VEVENT
END:VCALENDAR