BEGIN:VCALENDAR
VERSION:2.0
PRODID:-//Villa de Mazo - ECPv6.15.20//NONSGML v1.0//EN
CALSCALE:GREGORIAN
METHOD:PUBLISH
X-WR-CALNAME:Villa de Mazo
X-ORIGINAL-URL:https://villademazo.com
X-WR-CALDESC:Eventos para Villa de Mazo
REFRESH-INTERVAL;VALUE=DURATION:PT1H
X-Robots-Tag:noindex
X-PUBLISHED-TTL:PT1H
BEGIN:VTIMEZONE
TZID:UTC
BEGIN:STANDARD
TZOFFSETFROM:+0000
TZOFFSETTO:+0000
TZNAME:UTC
DTSTART:20240101T000000
END:STANDARD
END:VTIMEZONE
BEGIN:VEVENT
DTSTART;TZID=UTC:20251006T163000
DTEND;TZID=UTC:20260222T183000
DTSTAMP:20260422T121800
CREATED:20250918T080021Z
LAST-MODIFIED:20260224T134710Z
UID:15026-1759768200-1771785000@villademazo.com
SUMMARY:Talleres de motivación a la lectura
DESCRIPTION:La Biblioteca Pública Municipal “Alonso Pérez Díaz” organiza talleres de motivación a la lectura dirigidos a todas las edades. \nSe realizarán todos los lunes desde el 6 de octubre de 2025 hasta el 22 de junio de 2026\, en horario de 16:30 a 18:30 horas. \nLos participantes podrán disfrutar de un espacio dinámico que busca fomentar el hábito lector y descubrir el placer de los libros. \nLugar: Biblioteca Pública Municipal “Alonso Pérez Díaz”Inscripción y contacto: biblioteca@villademazo.esTeléfono: 922 440 003 Ext. 210 (atención de 15:00 a 19:00 horas).
URL:https://villademazo.com/eventos/talleres-de-motivacion-a-la-lectura-2/
LOCATION:Biblioteca Pública Municipal “Alonso Pérez Díaz”\, Plaza Alonso Pérez Díaz\, Villa de Mazo\, Santa Cruz de Tenerife\, 38730\, Spain
CATEGORIES:Lectura
ATTACH;FMTTYPE=image/jpeg:https://villademazo.com/wp-content/uploads/2025/09/motivacion-lectura.jpg
ORGANIZER;CN="Ayuntamiento de Villa de Mazo - Biblioteca":MAILTO:biblioteca@villademazo.es
END:VEVENT
BEGIN:VEVENT
DTSTART;TZID=UTC:20251211T193000
DTEND;TZID=UTC:20251211T203000
DTSTAMP:20260422T121800
CREATED:20251126T130758Z
LAST-MODIFIED:20251126T130758Z
UID:15790-1765481400-1765485000@villademazo.com
SUMMARY:La viuda blanca
DESCRIPTION:Presentación del libro “La viuda blanca” la obra que cierra la trilogía RELATOS DE UNAS ISLAS DESAMPARADAS iniciada con “La prestamista” y con “La tuerta”. La viuda blanca (2025) cierra la trilogía Relatos de unas islas desamparadas\, y su trama se sitúa\, por una parte\, en la isla de La Palma y\, por otra\, en la efervescente y comprometida ciudad universitaria de La Laguna\, porque es una historia que habla de emigración y olvido\, pero también de compromiso político. \nLa prestamista (Baile del Sol\, 2019) y La tuerta (Baile del Sol\, 2023) —parte I y parte II de esta saga\, respectivamente— han alcanzado su cuarta edición con más de 12.000 ejemplares vendidos y\, aunque estas dos obras pueden leerse de manera independiente\, para disfrutar plenamente de La viuda blanca\, se recomienda respetar el orden de la trilogía. Esta novela culmina un viaje por la historia de Canarias que se inicia en 1850 de la mano de los abuelos de Petra\, la prestamista de Poleal\, y culmina en 1982 en unas islas que se esfuerzan por modernizarse.
URL:https://villademazo.com/eventos/la-viuda-blanca/
LOCATION:Centro de la cultura Andares\, Ctra. Dr. Morera Bravo\, 2\, El Pueblo\, Villa de Mazo\, Santa Cruz de Tenerife\, 38730\, España
CATEGORIES:Lectura
ATTACH;FMTTYPE=image/jpeg:https://villademazo.com/wp-content/uploads/2025/11/viuda-blanca.jpeg
END:VEVENT
BEGIN:VEVENT
DTSTART;TZID=UTC:20251220T120000
DTEND;TZID=UTC:20251220T170000
DTSTAMP:20260422T121800
CREATED:20251203T081906Z
LAST-MODIFIED:20251203T081906Z
UID:15853-1766232000-1766250000@villademazo.com
SUMMARY:Mi mamá ahora es una estrella
DESCRIPTION:El próximo 20 de diciembre a las 12:00 h tendrá lugar la presentación literaria del libro “Mi mamá ahora es una estrella”. El evento será presentado por su autora\, Cristina Martín Jiménez\, y se celebrará en el Museo Casa Roja de Villa de Mazo\, ubicado en Calle Maximiliano Pérez Díaz\, El Pueblo. Una cita especial organizada con la colaboración del Ayuntamiento de Villa de Mazo y Diversidad Literaria. ¡Te esperamos!
URL:https://villademazo.com/eventos/mi-mama-ahora-es-una-estrella/
LOCATION:Museo Casa Roja\, C. Maximiliano Pérez Díaz\, 23\, Villa de Mazo\, Santa Cruz de Tenerife\, 38730\, España
CATEGORIES:Lectura
ATTACH;FMTTYPE=image/jpeg:https://villademazo.com/wp-content/uploads/2025/12/mi-mama-ahora-es-una-estrella.jpeg
END:VEVENT
BEGIN:VEVENT
DTSTART;TZID=UTC:20251226T193000
DTEND;TZID=UTC:20251226T203000
DTSTAMP:20260422T121800
CREATED:20251214T221220Z
LAST-MODIFIED:20251214T221220Z
UID:15921-1766777400-1766781000@villademazo.com
SUMMARY:Presentación de la Novela "Benjamín"
DESCRIPTION:presentación de la primera novela de Mercedes María Barrera Tabares\, titulada “Benjamín”. \nEl evento tendrá lugar el 26 de diciembre de 2025 a las 19:30 h en el Museo Casa Roja de Villa de Mazo. \nContará con la participación de: \n\nPedro Luis Pérez de Paz\nSara Martín Barrera\n\nEl acompañamiento musical estará a cargo de Amalia Martín Barrera.
URL:https://villademazo.com/eventos/presentacion-de-la-novela-benjamin/
LOCATION:Museo Casa Roja\, C. Maximiliano Pérez Díaz\, 23\, Villa de Mazo\, Santa Cruz de Tenerife\, 38730\, España
CATEGORIES:Lectura
ATTACH;FMTTYPE=image/jpeg:https://villademazo.com/wp-content/uploads/2025/12/benjamin.jpg
END:VEVENT
END:VCALENDAR