BEGIN:VCALENDAR
VERSION:2.0
PRODID:-//Villa de Mazo - ECPv6.15.20//NONSGML v1.0//EN
CALSCALE:GREGORIAN
METHOD:PUBLISH
X-ORIGINAL-URL:https://villademazo.com
X-WR-CALDESC:Eventos para Villa de Mazo
REFRESH-INTERVAL;VALUE=DURATION:PT1H
X-Robots-Tag:noindex
X-PUBLISHED-TTL:PT1H
BEGIN:VTIMEZONE
TZID:UTC
BEGIN:STANDARD
TZOFFSETFROM:+0000
TZOFFSETTO:+0000
TZNAME:UTC
DTSTART:20240101T000000
END:STANDARD
END:VTIMEZONE
BEGIN:VEVENT
DTSTART;TZID=UTC:20251006T163000
DTEND;TZID=UTC:20260222T183000
DTSTAMP:20260422T103154
CREATED:20250918T080021Z
LAST-MODIFIED:20260224T134710Z
UID:15026-1759768200-1771785000@villademazo.com
SUMMARY:Talleres de motivación a la lectura
DESCRIPTION:La Biblioteca Pública Municipal “Alonso Pérez Díaz” organiza talleres de motivación a la lectura dirigidos a todas las edades. \nSe realizarán todos los lunes desde el 6 de octubre de 2025 hasta el 22 de junio de 2026\, en horario de 16:30 a 18:30 horas. \nLos participantes podrán disfrutar de un espacio dinámico que busca fomentar el hábito lector y descubrir el placer de los libros. \nLugar: Biblioteca Pública Municipal “Alonso Pérez Díaz”Inscripción y contacto: biblioteca@villademazo.esTeléfono: 922 440 003 Ext. 210 (atención de 15:00 a 19:00 horas).
URL:https://villademazo.com/eventos/talleres-de-motivacion-a-la-lectura-2/
LOCATION:Biblioteca Pública Municipal “Alonso Pérez Díaz”\, Plaza Alonso Pérez Díaz\, Villa de Mazo\, Santa Cruz de Tenerife\, 38730\, Spain
CATEGORIES:Lectura
ATTACH;FMTTYPE=image/jpeg:https://villademazo.com/wp-content/uploads/2025/09/motivacion-lectura.jpg
ORGANIZER;CN="Ayuntamiento de Villa de Mazo - Biblioteca":MAILTO:biblioteca@villademazo.es
END:VEVENT
END:VCALENDAR