BEGIN:VCALENDAR
VERSION:2.0
PRODID:-//Villa de Mazo - ECPv6.15.20//NONSGML v1.0//EN
CALSCALE:GREGORIAN
METHOD:PUBLISH
X-WR-CALNAME:Villa de Mazo
X-ORIGINAL-URL:https://villademazo.com
X-WR-CALDESC:Eventos para Villa de Mazo
REFRESH-INTERVAL;VALUE=DURATION:PT1H
X-Robots-Tag:noindex
X-PUBLISHED-TTL:PT1H
BEGIN:VTIMEZONE
TZID:UTC
BEGIN:STANDARD
TZOFFSETFROM:+0000
TZOFFSETTO:+0000
TZNAME:UTC
DTSTART:20230101T000000
END:STANDARD
END:VTIMEZONE
BEGIN:VEVENT
DTSTART;TZID=UTC:20240927T193000
DTEND;TZID=UTC:20240927T210000
DTSTAMP:20260424T221051
CREATED:20240924T093510Z
LAST-MODIFIED:20240924T093550Z
UID:12595-1727465400-1727470800@villademazo.com
SUMMARY:Y se armó una buena
DESCRIPTION:Gran estreno de la obra teatral de la Asociación de Mayores Virgen de los Dolores.El Aula del Mayor de Teatro se complace en invitarte a la presentación de la obra en la que han estado trabajando durante estos últimos meses. Este proyecto ha sido posible gracias a los cursos organizados en colaboración con el grupo de teatro La Farsa.Fecha: Viernes\, 27 de septiembreLugar: Centro de la Cultura AndaresHora: 19:30 h¡No te pierdas esta gran oportunidad de disfrutar de una tarde llena de diversión!
URL:https://villademazo.com/eventos/y-se-armo-una-buena/
LOCATION:Centro de la cultura Andares\, Ctra. Dr. Morera Bravo\, 2\, El Pueblo\, Villa de Mazo\, Santa Cruz de Tenerife\, 38730\, España
CATEGORIES:Teatro
ATTACH;FMTTYPE=image/jpeg:https://villademazo.com/wp-content/uploads/2024/09/y-se-armo-una-buena.jpg
END:VEVENT
END:VCALENDAR