BEGIN:VCALENDAR
VERSION:2.0
PRODID:-//Villa de Mazo - ECPv6.15.20//NONSGML v1.0//EN
CALSCALE:GREGORIAN
METHOD:PUBLISH
X-ORIGINAL-URL:https://villademazo.com
X-WR-CALDESC:Eventos para Villa de Mazo
REFRESH-INTERVAL;VALUE=DURATION:PT1H
X-Robots-Tag:noindex
X-PUBLISHED-TTL:PT1H
BEGIN:VTIMEZONE
TZID:UTC
BEGIN:STANDARD
TZOFFSETFROM:+0000
TZOFFSETTO:+0000
TZNAME:UTC
DTSTART:20240101T000000
END:STANDARD
END:VTIMEZONE
BEGIN:VEVENT
DTSTART;TZID=UTC:20250621T203000
DTEND;TZID=UTC:20250621T213000
DTSTAMP:20260422T200124
CREATED:20250616T071936Z
LAST-MODIFIED:20250616T072120Z
UID:14254-1750537800-1750541400@villademazo.com
SUMMARY:De cerca nadie es normal
DESCRIPTION:El Grupo de Teatro La Farsa presenta: \n🎭 “De cerca nadie es normal” \n🗓 Fecha: 21 de junio🕣 Hora: 20:30📍 Lugar: Centro de la Cultura Andares \nEntrada libre hasta completar aforo. \nUna divertida y reflexiva obra que nos invita a mirar más allá de las apariencias\, porque cuando conocemos de cerca a las personas\, descubrimos que todos somos únicos. \nOrganizan: \n\nGrupo de Teatro La Farsa\nAyuntamiento de Villa de Mazo\nCabildo de La Palma
URL:https://villademazo.com/eventos/de-cerca-nadie-es-normal/
LOCATION:Centro de la cultura Andares\, Ctra. Dr. Morera Bravo\, 2\, El Pueblo\, Villa de Mazo\, Santa Cruz de Tenerife\, 38730\, España
CATEGORIES:Teatro
ATTACH;FMTTYPE=image/jpeg:https://villademazo.com/wp-content/uploads/2025/06/nadie-es-normal.jpg
END:VEVENT
END:VCALENDAR