BEGIN:VCALENDAR
VERSION:2.0
PRODID:-//Villa de Mazo - ECPv6.15.20//NONSGML v1.0//EN
CALSCALE:GREGORIAN
METHOD:PUBLISH
X-ORIGINAL-URL:https://villademazo.com
X-WR-CALDESC:Eventos para Villa de Mazo
REFRESH-INTERVAL;VALUE=DURATION:PT1H
X-Robots-Tag:noindex
X-PUBLISHED-TTL:PT1H
BEGIN:VTIMEZONE
TZID:UTC
BEGIN:STANDARD
TZOFFSETFROM:+0000
TZOFFSETTO:+0000
TZNAME:UTC
DTSTART:20240101T000000
END:STANDARD
END:VTIMEZONE
BEGIN:VEVENT
DTSTART;TZID=UTC:20251206T170000
DTEND;TZID=UTC:20251226T190000
DTSTAMP:20260422T091000
CREATED:20251203T085441Z
LAST-MODIFIED:20251203T085814Z
UID:15858-1765040400-1766775600@villademazo.com
SUMMARY:La Voz de los Clásicos en Villa de Mazo
DESCRIPTION:El Grupo de Teatro La Farsa presenta su actividad “La voz de los clásicos en Villa de Mazo“\, que incluye un taller y una serie de actuaciones. \nTaller: La palabra en escena\n\nFecha: 6 de diciembre\nLugar: Centro de la Cultura de Malpaíses de Abajo\nHorario: De 17:00h a 19:00h\n\nActuaciones\nDisfruta de la palabra en escena en las siguientes fechas y lugares: \n\n17 de diciembre: Centro de la Cultura de Lodero\n20 de diciembre: Centro de la Cultura de Montes de Luna\n26 de diciembre: Centro de la Cultura de Callejones\n\nInscripción\nPara inscribirte o solicitar más información\, contacta a través de: \n\nEmail: grupodeateatrolafarsa@gmail.com\n\nOrganiza: La Farsa\, Colabora: Ayuntamiento Villa de Mazo\, Financia: Cabildo de La Palma. \n 
URL:https://villademazo.com/eventos/la-voz-de-los-clasicos-en-villa-de-mazo/
LOCATION:Centro Cultural Malpaíses\, Malpaíses\, Villa de Mazo\, Santa Cruz de Tenerife\, 38730\, Spain
CATEGORIES:Formación,Teatro
ATTACH;FMTTYPE=image/jpeg:https://villademazo.com/wp-content/uploads/2025/12/voz-de-los-clasicos.jpeg
END:VEVENT
END:VCALENDAR